| Back to Multiple platform build/check report for BioC 3.7 |
|
This page was generated on 2018-10-17 08:30:50 -0400 (Wed, 17 Oct 2018).
| Package 1387/1561 | Hostname | OS / Arch | INSTALL | BUILD | CHECK | BUILD BIN | ||||||
| slalom 1.2.0 Davis McCarthy
| malbec2 | Linux (Ubuntu 16.04.1 LTS) / x86_64 | [ OK ] | OK | OK | |||||||
| tokay2 | Windows Server 2012 R2 Standard / x64 | OK | OK | OK | OK | |||||||
| merida2 | OS X 10.11.6 El Capitan / x86_64 | OK | OK | OK | OK |
| Package: slalom |
| Version: 1.2.0 |
| Command: /home/biocbuild/bbs-3.7-bioc/R/bin/R CMD INSTALL slalom |
| StartedAt: 2018-10-15 18:15:18 -0400 (Mon, 15 Oct 2018) |
| EndedAt: 2018-10-15 18:15:52 -0400 (Mon, 15 Oct 2018) |
| EllapsedTime: 34.3 seconds |
| RetCode: 0 |
| Status: OK |
##############################################################################
##############################################################################
###
### Running command:
###
### /home/biocbuild/bbs-3.7-bioc/R/bin/R CMD INSTALL slalom
###
##############################################################################
##############################################################################
* installing to library ‘/home/biocbuild/bbs-3.7-bioc/R/library’
* installing *source* package ‘slalom’ ...
** libs
g++ -I"/home/biocbuild/bbs-3.7-bioc/R/include" -DNDEBUG -I"/home/biocbuild/bbs-3.7-bioc/R/library/Rcpp/include" -I"/home/biocbuild/bbs-3.7-bioc/R/library/RcppArmadillo/include" -I"/home/biocbuild/bbs-3.7-bioc/R/library/BH/include" -I/usr/local/include -fpic -g -O2 -Wall -c RcppExports.cpp -o RcppExports.o
In file included from /home/biocbuild/bbs-3.7-bioc/R/library/RcppArmadillo/include/armadillo:54:0,
from /home/biocbuild/bbs-3.7-bioc/R/library/RcppArmadillo/include/RcppArmadilloForward.h:46,
from /home/biocbuild/bbs-3.7-bioc/R/library/RcppArmadillo/include/RcppArmadillo.h:31,
from RcppExports.cpp:4:
/home/biocbuild/bbs-3.7-bioc/R/library/RcppArmadillo/include/armadillo_bits/compiler_setup.hpp:509:108: note: #pragma message: NOTE: suggest to enable C++14 mode for faster code; add -std=c++14 to compiler flags
#pragma message ("NOTE: suggest to enable C++14 mode for faster code; add -std=c++14 to compiler flags")
^
g++ -I"/home/biocbuild/bbs-3.7-bioc/R/include" -DNDEBUG -I"/home/biocbuild/bbs-3.7-bioc/R/library/Rcpp/include" -I"/home/biocbuild/bbs-3.7-bioc/R/library/RcppArmadillo/include" -I"/home/biocbuild/bbs-3.7-bioc/R/library/BH/include" -I/usr/local/include -fpic -g -O2 -Wall -c slalom-classes.cpp -o slalom-classes.o
In file included from /home/biocbuild/bbs-3.7-bioc/R/library/RcppArmadillo/include/armadillo:54:0,
from /home/biocbuild/bbs-3.7-bioc/R/library/RcppArmadillo/include/RcppArmadilloForward.h:46,
from /home/biocbuild/bbs-3.7-bioc/R/library/RcppArmadillo/include/RcppArmadillo.h:31,
from slalom-classes.cpp:10:
/home/biocbuild/bbs-3.7-bioc/R/library/RcppArmadillo/include/armadillo_bits/compiler_setup.hpp:509:108: note: #pragma message: NOTE: suggest to enable C++14 mode for faster code; add -std=c++14 to compiler flags
#pragma message ("NOTE: suggest to enable C++14 mode for faster code; add -std=c++14 to compiler flags")
^
slalom-classes.cpp: In member function ‘void SlalomModel::train()’:
slalom-classes.cpp:223:20: warning: unused variable ‘meanerr’ [-Wunused-variable]
double meanerr = arma::mean(error);
^
slalom-classes.cpp:202:12: warning: unused variable ‘meanerr’ [-Wunused-variable]
double meanerr = arma::mean(error);
^
slalom-classes.cpp: In member function ‘void SlalomModel::updateEpsilon()’:
slalom-classes.cpp:431:23: warning: comparison between signed and unsigned integer expressions [-Wsign-compare]
for (int i = 0; i < this->epsilon_E1.n_elem; i++) {
^
g++ -shared -L/home/biocbuild/bbs-3.7-bioc/R/lib -L/usr/local/lib -o slalom.so RcppExports.o slalom-classes.o -L/home/biocbuild/bbs-3.7-bioc/R/lib -lRlapack -L/home/biocbuild/bbs-3.7-bioc/R/lib -lRblas -lgfortran -lm -lquadmath -L/home/biocbuild/bbs-3.7-bioc/R/lib -lR
installing to /home/biocbuild/bbs-3.7-bioc/R/library/slalom/libs
** R
** data
*** moving datasets to lazyload DB
** inst
** byte-compile and prepare package for lazy loading
** help
*** installing help indices
** building package indices
** installing vignettes
** testing if installed package can be loaded
* DONE (slalom)