| Back to Multiple platform build/check report for BioC 3.7 |
|
This page was generated on 2018-10-17 08:40:01 -0400 (Wed, 17 Oct 2018).
| Package 1372/1561 | Hostname | OS / Arch | INSTALL | BUILD | CHECK | BUILD BIN | ||||||
| sigsquared 1.12.0 UnJin Lee
| malbec2 | Linux (Ubuntu 16.04.1 LTS) / x86_64 | OK | OK | OK | |||||||
| tokay2 | Windows Server 2012 R2 Standard / x64 | OK | OK | OK | [ OK ] | |||||||
| merida2 | OS X 10.11.6 El Capitan / x86_64 | OK | OK | OK | OK |
| Package: sigsquared |
| Version: 1.12.0 |
| Command: rm -rf sigsquared.buildbin-libdir && mkdir sigsquared.buildbin-libdir && C:\Users\biocbuild\bbs-3.7-bioc\R\bin\R.exe CMD INSTALL --merge-multiarch --build --library=sigsquared.buildbin-libdir sigsquared_1.12.0.tar.gz |
| StartedAt: 2018-10-17 07:00:07 -0400 (Wed, 17 Oct 2018) |
| EndedAt: 2018-10-17 07:00:25 -0400 (Wed, 17 Oct 2018) |
| EllapsedTime: 17.3 seconds |
| RetCode: 0 |
| Status: OK |
| PackageFile: sigsquared_1.12.0.zip |
| PackageFileSize: 351.4 KiB |
##############################################################################
##############################################################################
###
### Running command:
###
### rm -rf sigsquared.buildbin-libdir && mkdir sigsquared.buildbin-libdir && C:\Users\biocbuild\bbs-3.7-bioc\R\bin\R.exe CMD INSTALL --merge-multiarch --build --library=sigsquared.buildbin-libdir sigsquared_1.12.0.tar.gz
###
##############################################################################
##############################################################################
install for i386
* installing *source* package 'sigsquared' ...
** R
** data
** inst
** byte-compile and prepare package for lazy loading
in method for 'ensembleCostFcn' with signature 'dataSet="ExpressionSet",geneSig="geneSignature",jpdf="solnSpace"': no definition for class "solnSpace"
in method for 'getCVCuts' with signature 'cutoffResults="solnSpace"': no definition for class "solnSpace"
in method for 'summarizeCVCuts' with signature 'cutoffResults="solnSpace"': no definition for class "solnSpace"
** help
*** installing help indices
converting help for package 'sigsquared'
finding HTML links ... done
BrCa443 html
analysisPipeline html
ensembleAdjustable html
geneSignature-class html
setGeneSignature html
sigsquared html
** building package indices
** installing vignettes
** testing if installed package can be loaded
In R CMD INSTALL
install for x64
* installing *source* package 'sigsquared' ...
** testing if installed package can be loaded
* MD5 sums
packaged installation of 'sigsquared' as sigsquared_1.12.0.zip
* DONE (sigsquared)
In R CMD INSTALL
In R CMD INSTALL