| Back to Multiple platform build/check report for BioC 3.7 | 
 | 
This page was generated on 2018-10-17 08:54:18 -0400 (Wed, 17 Oct 2018).
| Package 1372/1561 | Hostname | OS / Arch | INSTALL | BUILD | CHECK | BUILD BIN | ||||||
| sigsquared 1.12.0 UnJin Lee 
 | malbec2 | Linux (Ubuntu 16.04.1 LTS) / x86_64 | OK | OK | OK |  | ||||||
| tokay2 | Windows Server 2012 R2 Standard / x64 | OK | OK | OK | OK |  | ||||||
| merida2 | OS X 10.11.6 El Capitan / x86_64 | OK | OK | [ OK ] | OK |  | 
| Package: sigsquared | 
| Version: 1.12.0 | 
| Command: /Library/Frameworks/R.framework/Versions/Current/Resources/bin/R CMD check --install=check:sigsquared.install-out.txt --library=/Library/Frameworks/R.framework/Versions/Current/Resources/library --no-vignettes --timings sigsquared_1.12.0.tar.gz | 
| StartedAt: 2018-10-17 00:05:53 -0400 (Wed, 17 Oct 2018) | 
| EndedAt: 2018-10-17 00:07:09 -0400 (Wed, 17 Oct 2018) | 
| EllapsedTime: 76.1 seconds | 
| RetCode: 0 | 
| Status: OK | 
| CheckDir: sigsquared.Rcheck | 
| Warnings: 0 | 
##############################################################################
##############################################################################
###
### Running command:
###
###   /Library/Frameworks/R.framework/Versions/Current/Resources/bin/R CMD check --install=check:sigsquared.install-out.txt --library=/Library/Frameworks/R.framework/Versions/Current/Resources/library --no-vignettes --timings sigsquared_1.12.0.tar.gz
###
##############################################################################
##############################################################################
* using log directory ‘/Users/biocbuild/bbs-3.7-bioc/meat/sigsquared.Rcheck’
* using R version 3.5.1 Patched (2018-07-12 r74967)
* using platform: x86_64-apple-darwin15.6.0 (64-bit)
* using session charset: UTF-8
* using option ‘--no-vignettes’
* checking for file ‘sigsquared/DESCRIPTION’ ... OK
* checking extension type ... Package
* this is package ‘sigsquared’ version ‘1.12.0’
* checking package namespace information ... OK
* checking package dependencies ... OK
* checking if this is a source package ... OK
* checking if there is a namespace ... OK
* checking for hidden files and directories ... OK
* checking for portable file names ... OK
* checking for sufficient/correct file permissions ... OK
* checking whether package ‘sigsquared’ can be installed ... OK
* checking installed package size ... OK
* checking package directory ... OK
* checking ‘build’ directory ... OK
* checking DESCRIPTION meta-information ... NOTE
Non-standard license specification:
  GPL version 3
Standardizable: TRUE
Standardized license specification:
  GPL-3
* checking top-level files ... OK
* checking for left-over files ... OK
* checking index information ... OK
* checking package subdirectories ... OK
* checking R files for non-ASCII characters ... OK
* checking R files for syntax errors ... OK
* checking whether the package can be loaded ... OK
* checking whether the package can be loaded with stated dependencies ... OK
* checking whether the package can be unloaded cleanly ... OK
* checking whether the namespace can be loaded with stated dependencies ... OK
* checking whether the namespace can be unloaded cleanly ... OK
* checking dependencies in R code ... NOTE
Package in Depends field not imported from: ‘methods’
  These packages need to be imported from (in the NAMESPACE file)
  for when this namespace is loaded but not attached.
* checking S3 generic/method consistency ... OK
* checking replacement functions ... OK
* checking foreign function calls ... OK
* checking R code for possible problems ... NOTE
analysisPipeline,ExpressionSet-geneSignature: no visible binding for
  global variable ‘nCores’
analysisPipeline,ExpressionSet-geneSignature: no visible global
  function definition for ‘mcparallel’
analysisPipeline,ExpressionSet-geneSignature: no visible global
  function definition for ‘mccollect’
applySigSolnSpace,ExpressionSet-geneSignature-solnSpace: no visible
  binding for global variable ‘mc’
applySigSolnSpace,ExpressionSet-geneSignature-solnSpace: no visible
  binding for global variable ‘nCores’
applySigSolnSpace,ExpressionSet-geneSignature-solnSpace: no visible
  global function definition for ‘mcparallel’
applySigSolnSpace,ExpressionSet-geneSignature-solnSpace: no visible
  global function definition for ‘mccollect’
eJPDF,ExpressionSet-geneSignature-numeric: no visible global function
  definition for ‘new’
eJPDF,ExpressionSet-geneSignature-numeric: no visible binding for
  global variable ‘mc’
eJPDF,ExpressionSet-geneSignature-numeric: no visible binding for
  global variable ‘nCores’
eJPDF,ExpressionSet-geneSignature-numeric: no visible global function
  definition for ‘rnorm’
eJPDF,ExpressionSet-geneSignature-numeric: no visible global function
  definition for ‘mcparallel’
eJPDF,ExpressionSet-geneSignature-numeric: no visible global function
  definition for ‘mccollect’
genGeneDirect,matrix: no visible global function definition for ‘sd’
optCF,ExpressionSet-geneSignature: no visible global function
  definition for ‘new’
optCF,ExpressionSet-geneSignature: no visible global function
  definition for ‘rnorm’
optCF,ExpressionSet-geneSignature: no visible global function
  definition for ‘optim’
summarizeSolnSpace,solnSpace: no visible global function definition for
  ‘sd’
Undefined global functions or variables:
  mc mccollect mcparallel nCores new optim rnorm sd
Consider adding
  importFrom("methods", "new")
  importFrom("stats", "optim", "rnorm", "sd")
to your NAMESPACE file (and ensure that your DESCRIPTION Imports field
contains 'methods').
* checking Rd files ... OK
* checking Rd metadata ... OK
* checking Rd cross-references ... OK
* checking for missing documentation entries ... OK
* checking for code/documentation mismatches ... OK
* checking Rd \usage sections ... OK
* checking Rd contents ... OK
* checking for unstated dependencies in examples ... OK
* checking contents of ‘data’ directory ... OK
* checking data for non-ASCII characters ... OK
* checking data for ASCII and uncompressed saves ... OK
* checking sizes of PDF files under ‘inst/doc’ ... OK
* checking files in ‘vignettes’ ... OK
* checking examples ... OK
Examples with CPU or elapsed time > 5s
                   user system elapsed
analysisPipeline 15.482  0.222  15.871
* checking for unstated dependencies in ‘tests’ ... OK
* checking tests ...
  Running ‘runTests.R’
 OK
* checking for unstated dependencies in vignettes ... OK
* checking package vignettes in ‘inst/doc’ ... OK
* checking running R code from vignettes ... SKIPPED
* checking re-building of vignette outputs ... SKIPPED
* checking PDF version of manual ... OK
* DONE
Status: 3 NOTEs
See
  ‘/Users/biocbuild/bbs-3.7-bioc/meat/sigsquared.Rcheck/00check.log’
for details.
sigsquared.Rcheck/00install.out
############################################################################## ############################################################################## ### ### Running command: ### ### /Library/Frameworks/R.framework/Versions/Current/Resources/bin/R CMD INSTALL sigsquared ### ############################################################################## ############################################################################## * installing to library ‘/Library/Frameworks/R.framework/Versions/3.5/Resources/library’ * installing *source* package ‘sigsquared’ ... ** R ** data ** inst ** byte-compile and prepare package for lazy loading in method for ‘ensembleCostFcn’ with signature ‘dataSet="ExpressionSet",geneSig="geneSignature",jpdf="solnSpace"’: no definition for class “solnSpace” in method for ‘getCVCuts’ with signature ‘cutoffResults="solnSpace"’: no definition for class “solnSpace” in method for ‘summarizeCVCuts’ with signature ‘cutoffResults="solnSpace"’: no definition for class “solnSpace” ** help *** installing help indices ** building package indices ** installing vignettes ** testing if installed package can be loaded * DONE (sigsquared)
sigsquared.Rcheck/tests/runTests.Rout
R version 3.5.1 Patched (2018-07-12 r74967) -- "Feather Spray"
Copyright (C) 2018 The R Foundation for Statistical Computing
Platform: x86_64-apple-darwin15.6.0 (64-bit)
R is free software and comes with ABSOLUTELY NO WARRANTY.
You are welcome to redistribute it under certain conditions.
Type 'license()' or 'licence()' for distribution details.
R is a collaborative project with many contributors.
Type 'contributors()' for more information and
'citation()' on how to cite R or R packages in publications.
Type 'demo()' for some demos, 'help()' for on-line help, or
'help.start()' for an HTML browser interface to help.
Type 'q()' to quit R.
> BiocGenerics:::testPackage("sigsquared")
RUNIT TEST PROTOCOL -- Wed Oct 17 00:07:04 2018 
*********************************************** 
Number of test functions: 8 
Number of errors: 0 
Number of failures: 0 
 
1 Test Suite : 
sigsquared RUnit Tests - 8 test functions, 0 errors, 0 failures
Number of test functions: 8 
Number of errors: 0 
Number of failures: 0 
> 
> proc.time()
   user  system elapsed 
  1.961   0.175   2.128 
sigsquared.Rcheck/sigsquared-Ex.timings
| name | user | system | elapsed | |
| analysisPipeline | 15.482 | 0.222 | 15.871 | |
| ensembleAdjustable | 0.139 | 0.003 | 0.142 | |
| geneSignature-class | 0.003 | 0.000 | 0.004 | |
| setGeneSignature | 0.003 | 0.000 | 0.003 | |