| Back to Multiple platform build/check report for BioC 3.7 |
|
This page was generated on 2018-10-17 08:35:57 -0400 (Wed, 17 Oct 2018).
| Package 1364/1561 | Hostname | OS / Arch | INSTALL | BUILD | CHECK | BUILD BIN | ||||||
| sigaR 1.28.0 Wessel N. van Wieringen
| malbec2 | Linux (Ubuntu 16.04.1 LTS) / x86_64 | OK | OK | OK | |||||||
| tokay2 | Windows Server 2012 R2 Standard / x64 | OK | OK | OK | [ OK ] | |||||||
| merida2 | OS X 10.11.6 El Capitan / x86_64 | OK | OK | OK | OK |
| Package: sigaR |
| Version: 1.28.0 |
| Command: rm -rf sigaR.buildbin-libdir && mkdir sigaR.buildbin-libdir && C:\Users\biocbuild\bbs-3.7-bioc\R\bin\R.exe CMD INSTALL --merge-multiarch --build --library=sigaR.buildbin-libdir sigaR_1.28.0.tar.gz |
| StartedAt: 2018-10-17 06:59:41 -0400 (Wed, 17 Oct 2018) |
| EndedAt: 2018-10-17 07:00:00 -0400 (Wed, 17 Oct 2018) |
| EllapsedTime: 19.2 seconds |
| RetCode: 0 |
| Status: OK |
| PackageFile: sigaR_1.28.0.zip |
| PackageFileSize: 866.7 KiB |
##############################################################################
##############################################################################
###
### Running command:
###
### rm -rf sigaR.buildbin-libdir && mkdir sigaR.buildbin-libdir && C:\Users\biocbuild\bbs-3.7-bioc\R\bin\R.exe CMD INSTALL --merge-multiarch --build --library=sigaR.buildbin-libdir sigaR_1.28.0.tar.gz
###
##############################################################################
##############################################################################
install for i386
* installing *source* package 'sigaR' ...
** R
** data
** inst
** byte-compile and prepare package for lazy loading
** help
*** installing help indices
converting help for package 'sigaR'
finding HTML links ... done
CNGEheatmaps html
ExpressionSet2order html
finding level-2 HTML links ... done
ExpressionSet2subset html
ExpressionSet2weightedSubset html
RCMestimation html
RCMrandom-method html
RCMrandom html
RCMtest html
cghCall2cghSeg html
cghCall2maximumSubset html
cghCall2order html
cghCall2subset html
cghCall2weightedSubset html
cghSeg2order html
cghSeg2subset html
cghSeg2weightedSubset html
cisEffectPlot html
cisEffectTable html
cisEffectTest html
cisEffectTune html
cisTest-class html
entTest-class html
entropyTest html
expandMatching2singleIDs html
getSegFeatures html
hdEntropy html
hdMI html
matchAnn2Ann html
matchCGHcall2ExpressionSet html
merge2ExpressionSets html
merge2cghCalls html
miTest-class html
mutInfTest html
nBreakpoints html
pathway1sample html
pathway2sample html
pathwayFit-class html
pathwayPlot html
pollackCN16 html
pollackGE16 html
profilesPlot html
rcmFit-class html
rcmTest-class html
sigaR-package html
splitMatchingAtBreakpoints html
summary-method html
uniqGenomicInfo html
z.RCMloss-method html
** building package indices
** installing vignettes
** testing if installed package can be loaded
In R CMD INSTALL
install for x64
* installing *source* package 'sigaR' ...
** testing if installed package can be loaded
* MD5 sums
packaged installation of 'sigaR' as sigaR_1.28.0.zip
* DONE (sigaR)
In R CMD INSTALL
In R CMD INSTALL