| Back to Multiple platform build/check report for BioC 3.7 |
|
This page was generated on 2018-10-17 08:45:35 -0400 (Wed, 17 Oct 2018).
| Package 1352/1561 | Hostname | OS / Arch | INSTALL | BUILD | CHECK | BUILD BIN | ||||||
| seqsetvis 1.0.2 Joseph R Boyd
| malbec2 | Linux (Ubuntu 16.04.1 LTS) / x86_64 | OK | OK | OK | |||||||
| tokay2 | Windows Server 2012 R2 Standard / x64 | OK | OK | OK | [ OK ] | |||||||
| merida2 | OS X 10.11.6 El Capitan / x86_64 | OK | OK | OK | OK |
| Package: seqsetvis |
| Version: 1.0.2 |
| Command: rm -rf seqsetvis.buildbin-libdir && mkdir seqsetvis.buildbin-libdir && C:\Users\biocbuild\bbs-3.7-bioc\R\bin\R.exe CMD INSTALL --merge-multiarch --build --library=seqsetvis.buildbin-libdir seqsetvis_1.0.2.tar.gz |
| StartedAt: 2018-10-17 06:59:03 -0400 (Wed, 17 Oct 2018) |
| EndedAt: 2018-10-17 06:59:34 -0400 (Wed, 17 Oct 2018) |
| EllapsedTime: 31.2 seconds |
| RetCode: 0 |
| Status: OK |
| PackageFile: seqsetvis_1.0.2.zip |
| PackageFileSize: 1.169 MiB |
##############################################################################
##############################################################################
###
### Running command:
###
### rm -rf seqsetvis.buildbin-libdir && mkdir seqsetvis.buildbin-libdir && C:\Users\biocbuild\bbs-3.7-bioc\R\bin\R.exe CMD INSTALL --merge-multiarch --build --library=seqsetvis.buildbin-libdir seqsetvis_1.0.2.tar.gz
###
##############################################################################
##############################################################################
install for i386
* installing *source* package 'seqsetvis' ...
** R
** data
*** moving datasets to lazyload DB
** inst
** byte-compile and prepare package for lazy loading
** help
*** installing help indices
converting help for package 'seqsetvis'
finding HTML links ... done
CTCF_in_10a_bigWig_urls html
CTCF_in_10a_data html
CTCF_in_10a_narrowPeak_grs html
CTCF_in_10a_narrowPeak_urls html
CTCF_in_10a_overlaps_gr html
CTCF_in_10a_profiles_dt html
CTCF_in_10a_profiles_gr html
applySpline html
centerAtMax html
centerFixedSizeGRanges html
chromHMM_demo_bw_states_gr html
chromHMM_demo_chain_url html
chromHMM_demo_data html
chromHMM_demo_overlaps_gr html
chromHMM_demo_segmentation_url html
chromHMM_demo_state_colors html
chromHMM_demo_state_total_widths html
clusteringKmeans html
clusteringKmeansNestedHclust html
col2hex html
easyLoad_bed html
easyLoad_broadPeak html
easyLoad_narrowPeak html
fetchBam html
fixGRangesWidth html
fragLen_calcStranded html
fragLen_fromMacs2Xls html
ggellipse html
prepare_fetch_GRanges html
quantileGRangesWidth html
safeBrew html
seqsetvis-package html
setGRangesWidth html
set_list2memb html
shift_anchor html
ssvFactorizeMembTable html
ssvFeatureBars html
ssvFeatureBinaryHeatmap html
ssvFeatureEuler html
ssvFeaturePie html
ssvFeatureVenn html
ssvFetchBam html
ssvFetchBam.single html
ssvFetchBigwig html
ssvFetchBigwig.single html
ssvFetchSignal html
ssvMakeMembTable-methods html
ssvOverlapIntervalSets html
ssvSignalBandedQuantiles html
ssvSignalClustering html
ssvSignalHeatmap html
ssvSignalLineplot html
ssvSignalLineplotAgg html
ssvSignalScatterplot html
viewGRangesWinSample_dt html
viewGRangesWinSummary_dt html
** building package indices
** installing vignettes
** testing if installed package can be loaded
In R CMD INSTALL
install for x64
* installing *source* package 'seqsetvis' ...
** testing if installed package can be loaded
* MD5 sums
packaged installation of 'seqsetvis' as seqsetvis_1.0.2.zip
* DONE (seqsetvis)
In R CMD INSTALL
In R CMD INSTALL