| Back to Multiple platform build/check report for BioC 3.7 |
|
This page was generated on 2018-10-17 08:44:27 -0400 (Wed, 17 Oct 2018).
| Package 1347/1561 | Hostname | OS / Arch | INSTALL | BUILD | CHECK | BUILD BIN | ||||||
| seqcombo 1.2.0 Guangchuang Yu
| malbec2 | Linux (Ubuntu 16.04.1 LTS) / x86_64 | OK | OK | OK | |||||||
| tokay2 | Windows Server 2012 R2 Standard / x64 | [ OK ] | OK | OK | OK | |||||||
| merida2 | OS X 10.11.6 El Capitan / x86_64 | OK | OK | OK | OK |
| Package: seqcombo |
| Version: 1.2.0 |
| Command: C:\cygwin\bin\curl.exe -O https://malbec2.bioconductor.org/BBS/3.7/bioc/src/contrib/seqcombo_1.2.0.tar.gz && rm -rf seqcombo.buildbin-libdir && mkdir seqcombo.buildbin-libdir && C:\Users\biocbuild\bbs-3.7-bioc\R\bin\R.exe CMD INSTALL --merge-multiarch --build --library=seqcombo.buildbin-libdir seqcombo_1.2.0.tar.gz && C:\Users\biocbuild\bbs-3.7-bioc\R\bin\R.exe CMD INSTALL seqcombo_1.2.0.zip && rm seqcombo_1.2.0.tar.gz seqcombo_1.2.0.zip |
| StartedAt: 2018-10-16 19:23:55 -0400 (Tue, 16 Oct 2018) |
| EndedAt: 2018-10-16 19:24:46 -0400 (Tue, 16 Oct 2018) |
| EllapsedTime: 50.8 seconds |
| RetCode: 0 |
| Status: OK |
##############################################################################
##############################################################################
###
### Running command:
###
### C:\cygwin\bin\curl.exe -O https://malbec2.bioconductor.org/BBS/3.7/bioc/src/contrib/seqcombo_1.2.0.tar.gz && rm -rf seqcombo.buildbin-libdir && mkdir seqcombo.buildbin-libdir && C:\Users\biocbuild\bbs-3.7-bioc\R\bin\R.exe CMD INSTALL --merge-multiarch --build --library=seqcombo.buildbin-libdir seqcombo_1.2.0.tar.gz && C:\Users\biocbuild\bbs-3.7-bioc\R\bin\R.exe CMD INSTALL seqcombo_1.2.0.zip && rm seqcombo_1.2.0.tar.gz seqcombo_1.2.0.zip
###
##############################################################################
##############################################################################
% Total % Received % Xferd Average Speed Time Time Time Current
Dload Upload Total Spent Left Speed
0 0 0 0 0 0 0 0 --:--:-- --:--:-- --:--:-- 0
100 1474k 100 1474k 0 0 20.5M 0 --:--:-- --:--:-- --:--:-- 22.4M
install for i386
* installing *source* package 'seqcombo' ...
** R
** inst
** byte-compile and prepare package for lazy loading
** help
*** installing help indices
converting help for package 'seqcombo'
finding HTML links ... done
geom_genotype html
geom_hybrid html
hybrid_plot html
plot-methods html
reexports html
seqdiff html
set_layout html
show-methods html
simplot html
** building package indices
** installing vignettes
** testing if installed package can be loaded
In R CMD INSTALL
install for x64
* installing *source* package 'seqcombo' ...
** testing if installed package can be loaded
* MD5 sums
packaged installation of 'seqcombo' as seqcombo_1.2.0.zip
* DONE (seqcombo)
In R CMD INSTALL
In R CMD INSTALL
* installing to library 'C:/Users/biocbuild/bbs-3.7-bioc/R/library'
package 'seqcombo' successfully unpacked and MD5 sums checked
In R CMD INSTALL