| Back to Multiple platform build/check report for BioC 3.7 |
|
This page was generated on 2018-10-17 08:44:27 -0400 (Wed, 17 Oct 2018).
| Package 1347/1561 | Hostname | OS / Arch | INSTALL | BUILD | CHECK | BUILD BIN | ||||||
| seqcombo 1.2.0 Guangchuang Yu
| malbec2 | Linux (Ubuntu 16.04.1 LTS) / x86_64 | OK | OK | OK | |||||||
| tokay2 | Windows Server 2012 R2 Standard / x64 | OK | OK | OK | [ OK ] | |||||||
| merida2 | OS X 10.11.6 El Capitan / x86_64 | OK | OK | OK | OK |
| Package: seqcombo |
| Version: 1.2.0 |
| Command: rm -rf seqcombo.buildbin-libdir && mkdir seqcombo.buildbin-libdir && C:\Users\biocbuild\bbs-3.7-bioc\R\bin\R.exe CMD INSTALL --merge-multiarch --build --library=seqcombo.buildbin-libdir seqcombo_1.2.0.tar.gz |
| StartedAt: 2018-10-17 06:58:48 -0400 (Wed, 17 Oct 2018) |
| EndedAt: 2018-10-17 06:59:08 -0400 (Wed, 17 Oct 2018) |
| EllapsedTime: 19.3 seconds |
| RetCode: 0 |
| Status: OK |
| PackageFile: seqcombo_1.2.0.zip |
| PackageFileSize: 685.5 KiB |
##############################################################################
##############################################################################
###
### Running command:
###
### rm -rf seqcombo.buildbin-libdir && mkdir seqcombo.buildbin-libdir && C:\Users\biocbuild\bbs-3.7-bioc\R\bin\R.exe CMD INSTALL --merge-multiarch --build --library=seqcombo.buildbin-libdir seqcombo_1.2.0.tar.gz
###
##############################################################################
##############################################################################
install for i386
* installing *source* package 'seqcombo' ...
** R
** inst
** byte-compile and prepare package for lazy loading
** help
*** installing help indices
converting help for package 'seqcombo'
finding HTML links ... done
geom_genotype html
geom_hybrid html
hybrid_plot html
plot-methods html
reexports html
seqdiff html
set_layout html
show-methods html
simplot html
** building package indices
** installing vignettes
** testing if installed package can be loaded
In R CMD INSTALL
install for x64
* installing *source* package 'seqcombo' ...
** testing if installed package can be loaded
* MD5 sums
packaged installation of 'seqcombo' as seqcombo_1.2.0.zip
* DONE (seqcombo)
In R CMD INSTALL
In R CMD INSTALL