| Back to Multiple platform build/check report for BioC 3.7 |
|
This page was generated on 2018-10-17 08:40:49 -0400 (Wed, 17 Oct 2018).
| Package 1270/1561 | Hostname | OS / Arch | INSTALL | BUILD | CHECK | BUILD BIN | ||||||
| ropls 1.12.0 Etienne A. Thevenot
| malbec2 | Linux (Ubuntu 16.04.1 LTS) / x86_64 | OK | OK | OK | |||||||
| tokay2 | Windows Server 2012 R2 Standard / x64 | OK | [ OK ] | OK | OK | |||||||
| merida2 | OS X 10.11.6 El Capitan / x86_64 | OK | OK | OK | OK |
| Package: ropls |
| Version: 1.12.0 |
| Command: chmod a+r ropls -R && C:\Users\biocbuild\bbs-3.7-bioc\R\bin\R.exe CMD build --keep-empty-dirs --no-resave-data ropls |
| StartedAt: 2018-10-16 22:47:01 -0400 (Tue, 16 Oct 2018) |
| EndedAt: 2018-10-16 22:48:35 -0400 (Tue, 16 Oct 2018) |
| EllapsedTime: 94.0 seconds |
| RetCode: 0 |
| Status: OK |
| PackageFile: ropls_1.12.0.tar.gz |
| PackageFileSize: 1.065 MiB |
##############################################################################
##############################################################################
###
### Running command:
###
### chmod a+r ropls -R && C:\Users\biocbuild\bbs-3.7-bioc\R\bin\R.exe CMD build --keep-empty-dirs --no-resave-data ropls
###
##############################################################################
##############################################################################
* checking for file 'ropls/DESCRIPTION' ... OK
* preparing 'ropls':
* checking DESCRIPTION meta-information ... OK
* installing the package to build vignettes
* creating vignettes ... OK
Warning: 'inst/doc' files
'ropls-vignette.pdf', 'ropls-vignette.R'
ignored as vignettes have been rebuilt.
Run R CMD build with --no-build-vignettes to prevent rebuilding.
* checking for LF line-endings in source and make files and shell scripts
* checking for empty or unneeded directories
* looking to see if a 'data/datalist' file should be added
* building 'ropls_1.12.0.tar.gz'