| Back to Multiple platform build/check report for BioC 3.7 |
|
This page was generated on 2018-10-17 08:40:50 -0400 (Wed, 17 Oct 2018).
| Package 1270/1561 | Hostname | OS / Arch | INSTALL | BUILD | CHECK | BUILD BIN | ||||||
| ropls 1.12.0 Etienne A. Thevenot
| malbec2 | Linux (Ubuntu 16.04.1 LTS) / x86_64 | OK | OK | OK | |||||||
| tokay2 | Windows Server 2012 R2 Standard / x64 | OK | OK | OK | [ OK ] | |||||||
| merida2 | OS X 10.11.6 El Capitan / x86_64 | OK | OK | OK | OK |
| Package: ropls |
| Version: 1.12.0 |
| Command: rm -rf ropls.buildbin-libdir && mkdir ropls.buildbin-libdir && C:\Users\biocbuild\bbs-3.7-bioc\R\bin\R.exe CMD INSTALL --merge-multiarch --build --library=ropls.buildbin-libdir ropls_1.12.0.tar.gz |
| StartedAt: 2018-10-17 06:55:17 -0400 (Wed, 17 Oct 2018) |
| EndedAt: 2018-10-17 06:55:29 -0400 (Wed, 17 Oct 2018) |
| EllapsedTime: 12.6 seconds |
| RetCode: 0 |
| Status: OK |
| PackageFile: ropls_1.12.0.zip |
| PackageFileSize: 1.305 MiB |
##############################################################################
##############################################################################
###
### Running command:
###
### rm -rf ropls.buildbin-libdir && mkdir ropls.buildbin-libdir && C:\Users\biocbuild\bbs-3.7-bioc\R\bin\R.exe CMD INSTALL --merge-multiarch --build --library=ropls.buildbin-libdir ropls_1.12.0.tar.gz
###
##############################################################################
##############################################################################
install for i386
* installing *source* package 'ropls' ...
** R
** data
** inst
** byte-compile and prepare package for lazy loading
** help
*** installing help indices
converting help for package 'ropls'
finding HTML links ... done
aminoacids html
cellulose html
checkW4M html
coef html
cornell html
fitted html
foods html
fromW4M html
getLoadingMN html
getPcaVarVn html
getScoreMN html
getSubsetVi html
getSummaryDF html
getVipVn html
getWeightMN html
linnerud html
lowarp html
mark html
opls-class html
opls html
plot html
predict html
print html
residuals html
ropls-package html
sacurine html
show html
strF html
tested html
toW4M html
** building package indices
** installing vignettes
** testing if installed package can be loaded
In R CMD INSTALL
install for x64
* installing *source* package 'ropls' ...
** testing if installed package can be loaded
* MD5 sums
packaged installation of 'ropls' as ropls_1.12.0.zip
* DONE (ropls)
In R CMD INSTALL
In R CMD INSTALL