| Back to Multiple platform build/check report for BioC 3.7 |
|
This page was generated on 2018-04-26 10:53:53 -0400 (Thu, 26 Apr 2018).
| Package 1266/1557 | Hostname | OS / Arch | INSTALL | BUILD | CHECK | BUILD BIN | ||||||
| roma 0.99.11 Klara Kaleb
| malbec2 | Linux (Ubuntu 16.04.1 LTS) / x86_64 | OK | OK | WARNINGS | |||||||
| tokay2 | Windows Server 2012 R2 Standard / x64 | OK | OK | ERROR | [ OK ] |
| Package: roma |
| Version: 0.99.11 |
| Command: rm -rf roma.buildbin-libdir && mkdir roma.buildbin-libdir && C:\Users\biocbuild\bbs-3.7-bioc\R\bin\R.exe CMD INSTALL --merge-multiarch --build --library=roma.buildbin-libdir roma_0.99.11.tar.gz |
| StartedAt: 2018-04-26 08:30:14 -0400 (Thu, 26 Apr 2018) |
| EndedAt: 2018-04-26 08:30:39 -0400 (Thu, 26 Apr 2018) |
| EllapsedTime: 25.1 seconds |
| RetCode: 0 |
| Status: OK |
| PackageFile: roma_0.99.11.zip |
| PackageFileSize: 169.8 KiB |
##############################################################################
##############################################################################
###
### Running command:
###
### rm -rf roma.buildbin-libdir && mkdir roma.buildbin-libdir && C:\Users\biocbuild\bbs-3.7-bioc\R\bin\R.exe CMD INSTALL --merge-multiarch --build --library=roma.buildbin-libdir roma_0.99.11.tar.gz
###
##############################################################################
##############################################################################
install for i386
* installing *source* package 'roma' ...
** R
** data
*** moving datasets to lazyload DB
** inst
** byte-compile and prepare package for lazy loading
** help
*** installing help indices
converting help for package 'roma'
finding HTML links ... done
childrenMembers html
formatTopGO html
getAnnotation html
getAttribute html
getData html
getGRanges html
getGenomeAlignment html
getHOG html
getObjectAttributes html
getOntologies html
getSequences html
getTaxonomy html
getTopGO html
getXref html
mapSequence html
resolveURL html
roma-package html
** building package indices
** installing vignettes
** testing if installed package can be loaded
In R CMD INSTALL
install for x64
* installing *source* package 'roma' ...
** testing if installed package can be loaded
* MD5 sums
packaged installation of 'roma' as roma_0.99.11.zip
* DONE (roma)
In R CMD INSTALL
In R CMD INSTALL