| Back to Multiple platform build/check report for BioC 3.7 |
|
This page was generated on 2018-04-26 10:40:31 -0400 (Thu, 26 Apr 2018).
| Package 1266/1557 | Hostname | OS / Arch | INSTALL | BUILD | CHECK | BUILD BIN | ||||||
| roma 0.99.11 Klara Kaleb
| malbec2 | Linux (Ubuntu 16.04.1 LTS) / x86_64 | [ OK ] | OK | WARNINGS | |||||||
| tokay2 | Windows Server 2012 R2 Standard / x64 | OK | OK | ERROR | OK |
| Package: roma |
| Version: 0.99.11 |
| Command: /home/biocbuild/bbs-3.7-bioc/R/bin/R CMD INSTALL roma |
| StartedAt: 2018-04-25 18:14:48 -0400 (Wed, 25 Apr 2018) |
| EndedAt: 2018-04-25 18:14:57 -0400 (Wed, 25 Apr 2018) |
| EllapsedTime: 9.1 seconds |
| RetCode: 0 |
| Status: OK |
############################################################################## ############################################################################## ### ### Running command: ### ### /home/biocbuild/bbs-3.7-bioc/R/bin/R CMD INSTALL roma ### ############################################################################## ############################################################################## * installing to library ‘/home/biocbuild/bbs-3.7-bioc/R/library’ * installing *source* package ‘roma’ ... ** R ** data *** moving datasets to lazyload DB ** byte-compile and prepare package for lazy loading ** help *** installing help indices ** building package indices ** installing vignettes ** testing if installed package can be loaded * DONE (roma)