| Back to Multiple platform build/check report for BioC 3.7 |
|
This page was generated on 2018-10-17 08:36:19 -0400 (Wed, 17 Oct 2018).
| Package 1268/1561 | Hostname | OS / Arch | INSTALL | BUILD | CHECK | BUILD BIN | ||||||
| rols 2.8.2 Laurent Gatto
| malbec2 | Linux (Ubuntu 16.04.1 LTS) / x86_64 | OK | OK | OK | |||||||
| tokay2 | Windows Server 2012 R2 Standard / x64 | OK | OK | OK | [ OK ] | |||||||
| merida2 | OS X 10.11.6 El Capitan / x86_64 | OK | OK | OK | OK |
| Package: rols |
| Version: 2.8.2 |
| Command: rm -rf rols.buildbin-libdir && mkdir rols.buildbin-libdir && C:\Users\biocbuild\bbs-3.7-bioc\R\bin\R.exe CMD INSTALL --merge-multiarch --build --library=rols.buildbin-libdir rols_2.8.2.tar.gz |
| StartedAt: 2018-10-17 06:55:11 -0400 (Wed, 17 Oct 2018) |
| EndedAt: 2018-10-17 06:55:25 -0400 (Wed, 17 Oct 2018) |
| EllapsedTime: 13.3 seconds |
| RetCode: 0 |
| Status: OK |
| PackageFile: rols_2.8.2.zip |
| PackageFileSize: 568.7 KiB |
##############################################################################
##############################################################################
###
### Running command:
###
### rm -rf rols.buildbin-libdir && mkdir rols.buildbin-libdir && C:\Users\biocbuild\bbs-3.7-bioc\R\bin\R.exe CMD INSTALL --merge-multiarch --build --library=rols.buildbin-libdir rols_2.8.2.tar.gz
###
##############################################################################
##############################################################################
install for i386
* installing *source* package 'rols' ...
** R
** inst
** byte-compile and prepare package for lazy loading
Creating a generic function for 'lapply' from package 'base' in package 'rols'
** help
*** installing help indices
converting help for package 'rols'
finding HTML links ... done
CVParam-class html
finding level-2 HTML links ... done
OlsSearch-class html
Ontology-class html
Properties-class html
Term-class html
** building package indices
** installing vignettes
** testing if installed package can be loaded
In R CMD INSTALL
install for x64
* installing *source* package 'rols' ...
** testing if installed package can be loaded
* MD5 sums
packaged installation of 'rols' as rols_2.8.2.zip
* DONE (rols)
In R CMD INSTALL
In R CMD INSTALL