| Back to Multiple platform build/check report for BioC 3.7 |
|
This page was generated on 2018-10-17 08:50:32 -0400 (Wed, 17 Oct 2018).
| Package 1268/1561 | Hostname | OS / Arch | INSTALL | BUILD | CHECK | BUILD BIN | ||||||
| rols 2.8.2 Laurent Gatto
| malbec2 | Linux (Ubuntu 16.04.1 LTS) / x86_64 | OK | OK | OK | |||||||
| tokay2 | Windows Server 2012 R2 Standard / x64 | OK | OK | OK | OK | |||||||
| merida2 | OS X 10.11.6 El Capitan / x86_64 | OK | OK | [ OK ] | OK |
| Package: rols |
| Version: 2.8.2 |
| Command: /Library/Frameworks/R.framework/Versions/Current/Resources/bin/R CMD check --install=check:rols.install-out.txt --library=/Library/Frameworks/R.framework/Versions/Current/Resources/library --no-vignettes --timings rols_2.8.2.tar.gz |
| StartedAt: 2018-10-16 23:47:38 -0400 (Tue, 16 Oct 2018) |
| EndedAt: 2018-10-16 23:57:29 -0400 (Tue, 16 Oct 2018) |
| EllapsedTime: 591.7 seconds |
| RetCode: 0 |
| Status: OK |
| CheckDir: rols.Rcheck |
| Warnings: 0 |
##############################################################################
##############################################################################
###
### Running command:
###
### /Library/Frameworks/R.framework/Versions/Current/Resources/bin/R CMD check --install=check:rols.install-out.txt --library=/Library/Frameworks/R.framework/Versions/Current/Resources/library --no-vignettes --timings rols_2.8.2.tar.gz
###
##############################################################################
##############################################################################
* using log directory ‘/Users/biocbuild/bbs-3.7-bioc/meat/rols.Rcheck’
* using R version 3.5.1 Patched (2018-07-12 r74967)
* using platform: x86_64-apple-darwin15.6.0 (64-bit)
* using session charset: UTF-8
* using option ‘--no-vignettes’
* checking for file ‘rols/DESCRIPTION’ ... OK
* checking extension type ... Package
* this is package ‘rols’ version ‘2.8.2’
* checking package namespace information ... OK
* checking package dependencies ... OK
* checking if this is a source package ... OK
* checking if there is a namespace ... OK
* checking for hidden files and directories ... OK
* checking for portable file names ... OK
* checking for sufficient/correct file permissions ... OK
* checking whether package ‘rols’ can be installed ... OK
* checking installed package size ... OK
* checking package directory ... OK
* checking ‘build’ directory ... OK
* checking DESCRIPTION meta-information ... OK
* checking top-level files ... OK
* checking for left-over files ... OK
* checking index information ... OK
* checking package subdirectories ... OK
* checking R files for non-ASCII characters ... OK
* checking R files for syntax errors ... OK
* checking whether the package can be loaded ... OK
* checking whether the package can be loaded with stated dependencies ... OK
* checking whether the package can be unloaded cleanly ... OK
* checking whether the namespace can be loaded with stated dependencies ... OK
* checking whether the namespace can be unloaded cleanly ... OK
* checking dependencies in R code ... OK
* checking S3 generic/method consistency ... OK
* checking replacement functions ... OK
* checking foreign function calls ... OK
* checking R code for possible problems ... OK
* checking Rd files ... OK
* checking Rd metadata ... OK
* checking Rd cross-references ... OK
* checking for missing documentation entries ... OK
* checking for code/documentation mismatches ... OK
* checking Rd \usage sections ... OK
* checking Rd contents ... OK
* checking for unstated dependencies in examples ... OK
* checking files in ‘vignettes’ ... OK
* checking examples ... OK
Examples with CPU or elapsed time > 5s
user system elapsed
Term-class 70.624 2.169 188.922
CVParam-class 0.814 0.047 20.820
Properties-class 0.395 0.011 5.035
OlsSearch-class 0.253 0.015 8.676
* checking for unstated dependencies in ‘tests’ ... OK
* checking tests ...
Running ‘testthat.R’
OK
* checking for unstated dependencies in vignettes ... OK
* checking package vignettes in ‘inst/doc’ ... OK
* checking running R code from vignettes ... SKIPPED
* checking re-building of vignette outputs ... SKIPPED
* checking PDF version of manual ... OK
* DONE
Status: OK
rols.Rcheck/00install.out
############################################################################## ############################################################################## ### ### Running command: ### ### /Library/Frameworks/R.framework/Versions/Current/Resources/bin/R CMD INSTALL rols ### ############################################################################## ############################################################################## * installing to library ‘/Library/Frameworks/R.framework/Versions/3.5/Resources/library’ * installing *source* package ‘rols’ ... ** R ** inst ** byte-compile and prepare package for lazy loading Creating a generic function for ‘lapply’ from package ‘base’ in package ‘rols’ ** help *** installing help indices ** building package indices ** installing vignettes ** testing if installed package can be loaded * DONE (rols)
rols.Rcheck/tests/testthat.Rout
R version 3.5.1 Patched (2018-07-12 r74967) -- "Feather Spray"
Copyright (C) 2018 The R Foundation for Statistical Computing
Platform: x86_64-apple-darwin15.6.0 (64-bit)
R is free software and comes with ABSOLUTELY NO WARRANTY.
You are welcome to redistribute it under certain conditions.
Type 'license()' or 'licence()' for distribution details.
R is a collaborative project with many contributors.
Type 'contributors()' for more information and
'citation()' on how to cite R or R packages in publications.
Type 'demo()' for some demos, 'help()' for on-line help, or
'help.start()' for an HTML browser interface to help.
Type 'q()' to quit R.
> # setting R_TESTS to empty string because of
> # https://github.com/hadley/testthat/issues/144
> # revert this when that issue in R is fixed.
> Sys.setenv("R_TESTS" = "")
> library("testthat")
> library("rols")
This is 'rols' version 2.8.2
>
> test_check("rols")
[, , Hello, World]
Object of class 'OlsSearch':
ontolgy: GO
query: cell
requested: 20 (out of 10054)
response(s): 0
Object of class 'Ontologies' with 215 entries
NCBITAXON, XCO ... MS, NBO
Object of class 'Ontologies' with 1 entries
NCBITAXON
Object of class 'Ontologies' with 2 entries
NCBITAXON, XCO
Object of class 'Ontologies' with 3 entries
NCBITAXON, XCO, AEO
Object of class 'Ontologies' with 4 entries
NCBITAXON, XCO, AEO, AERO
Object of class 'Ontologies' with 5 entries
NCBITAXON, XCO ... AERO, AGRO
Ontology: Gene Ontology (go)
An ontology for describing the function of genes and gene products
Loaded: 2018-10-09 Updated: 2018-10-16 Version: 2018-10-07
49709 terms 60 properties 0 individuals
Object of class 'Properties' with 89 entries
From the SO ontology
partial_evidence_for_feature, evidence_for_feature ... variant_of, DBVAR
Object of class 'Properties' with 112 entries
From the UBERON ontology
digestive system gland, abdomen element ... septum transversum, liver bud
A Property from the UBERON ontology: UBERON:0006925
Label: digestive system gland
Object of class 'Terms' with 2434 entries
From the SO ontology
SO:0000579, SO:0000833 ... SO:0000071, SO:0000070
Object of class 'Terms' with 1 entries
From the SO ontology
SO:0000579
Object of class 'Terms' with 2 entries
From the SO ontology
SO:0000579, SO:0000833
Object of class 'Terms' with 3 entries
From the SO ontology
SO:0000579, SO:0000833, SO:0000578
Object of class 'Terms' with 4 entries
From the SO ontology
SO:0000579, SO:0000833, SO:0000578, SO:0000011
Object of class 'Terms' with 5 entries
From the SO ontology
SO:0000579, SO:0000833 ... SO:0000011, SO:0000577
A Term from the GO ontology: GO:0032801
Label: receptor catabolic process
The chemical reactions and pathways resulting in the breakdown of a
receptor molecule, a macromolecule that undergoes combination with a
hormone, neurotransmitter, drug or intracellular messenger to initiate
a change in cell function.
Testing term SO:0000973
Testing term SO:0001329
Testing term SO:0000026
Testing term SO:0000285
Testing term SO:0000956
Testing term SO:0000848
Testing term SO:0001859
Testing term SO:0000344
Testing term SO:0001844
Testing term SO:1001196
══ testthat results ═══════════════════════════════════════════════════════════
OK: 2632 SKIPPED: 0 FAILED: 0
>
> proc.time()
user system elapsed
80.500 1.352 327.075
rols.Rcheck/rols-Ex.timings
| name | user | system | elapsed | |
| CVParam-class | 0.814 | 0.047 | 20.820 | |
| OlsSearch-class | 0.253 | 0.015 | 8.676 | |
| Ontology-class | 0.400 | 0.020 | 4.889 | |
| Properties-class | 0.395 | 0.011 | 5.035 | |
| Term-class | 70.624 | 2.169 | 188.922 | |