| Back to Multiple platform build/check report for BioC 3.7 |
|
This page was generated on 2018-05-25 10:22:52 -0400 (Fri, 25 May 2018).
| Package 1225/1561 | Hostname | OS / Arch | INSTALL | BUILD | CHECK | BUILD BIN | ||||||
| rexposome 1.2.0 Carles Hernandez-Ferrer
| malbec2 | Linux (Ubuntu 16.04.1 LTS) / x86_64 | OK | OK | OK | |||||||
| tokay2 | Windows Server 2012 R2 Standard / x64 | OK | OK | OK | [ OK ] | |||||||
| merida2 | OS X 10.11.6 El Capitan / x86_64 | OK | OK | OK | OK |
| Package: rexposome |
| Version: 1.2.0 |
| Command: rm -rf rexposome.buildbin-libdir && mkdir rexposome.buildbin-libdir && C:\Users\biocbuild\bbs-3.7-bioc\R\bin\R.exe CMD INSTALL --merge-multiarch --build --library=rexposome.buildbin-libdir rexposome_1.2.0.tar.gz |
| StartedAt: 2018-05-25 09:07:52 -0400 (Fri, 25 May 2018) |
| EndedAt: 2018-05-25 09:09:09 -0400 (Fri, 25 May 2018) |
| EllapsedTime: 76.9 seconds |
| RetCode: 0 |
| Status: OK |
| PackageFile: rexposome_1.2.0.zip |
| PackageFileSize: 5.675 MiB |
##############################################################################
##############################################################################
###
### Running command:
###
### rm -rf rexposome.buildbin-libdir && mkdir rexposome.buildbin-libdir && C:\Users\biocbuild\bbs-3.7-bioc\R\bin\R.exe CMD INSTALL --merge-multiarch --build --library=rexposome.buildbin-libdir rexposome_1.2.0.tar.gz
###
##############################################################################
##############################################################################
install for i386
* installing *source* package 'rexposome' ...
** R
** data
*** moving datasets to lazyload DB
** inst
** byte-compile and prepare package for lazy loading
** help
*** installing help indices
converting help for package 'rexposome'
finding HTML links ... done
ExWAS-class html
ExposomeClust-class html
ExposomeCorr-class html
finding level-2 HTML links ... done
ExposomePCA-class html
ExposomeSet-class html
classification-methods html
clustering-methods html
correlation-methods html
ex_imp html
expo html
expo_c html
expos-methods html
exposureNames-methods html
exwas-methods html
familyNames-methods html
highAndLow-methods html
ilod-methods html
imExposomeSet-class html
imputation-methods html
imputeLOD html
loadExposome html
loadImputed html
mExWAS-class html
me html
mexwas-methods html
ndim-methods html
normalityTest-methods html
pca-methods html
phenotypeNames-methods html
plot3PCA-methods html
plotClassification-methods html
plotCorrelation-methods html
plotEXP-methods html
plotEffect-methods html
plotExwas-methods html
plotFamily-methods html
plotHistogram-methods html
plotLOD-methods html
plotMissings-methods html
plotPCA-methods html
plotPHE-methods html
plotVolcano-methods html
readExposome html
rexposome html
standardize-methods html
tableLOD-methods html
tableMissings-methods html
tef-methods html
toES html
trans-methods html
volcano_plot html
** building package indices
** installing vignettes
** testing if installed package can be loaded
In R CMD INSTALL
install for x64
* installing *source* package 'rexposome' ...
** testing if installed package can be loaded
* MD5 sums
packaged installation of 'rexposome' as rexposome_1.2.0.zip
* DONE (rexposome)
In R CMD INSTALL
In R CMD INSTALL