| Back to Multiple platform build/check report for BioC 3.7 |
|
This page was generated on 2018-10-17 08:42:40 -0400 (Wed, 17 Oct 2018).
| Package 1211/1561 | Hostname | OS / Arch | INSTALL | BUILD | CHECK | BUILD BIN | ||||||
| recount 1.6.3 Leonardo Collado-Torres
| malbec2 | Linux (Ubuntu 16.04.1 LTS) / x86_64 | OK | ERROR | skipped | |||||||
| tokay2 | Windows Server 2012 R2 Standard / x64 | OK | OK | ERROR | [ OK ] | |||||||
| merida2 | OS X 10.11.6 El Capitan / x86_64 | OK | OK | OK | OK |
| Package: recount |
| Version: 1.6.3 |
| Command: rm -rf recount.buildbin-libdir && mkdir recount.buildbin-libdir && C:\Users\biocbuild\bbs-3.7-bioc\R\bin\R.exe CMD INSTALL --merge-multiarch --build --library=recount.buildbin-libdir recount_1.6.3.tar.gz |
| StartedAt: 2018-10-17 06:52:37 -0400 (Wed, 17 Oct 2018) |
| EndedAt: 2018-10-17 06:53:31 -0400 (Wed, 17 Oct 2018) |
| EllapsedTime: 53.9 seconds |
| RetCode: 0 |
| Status: OK |
| PackageFile: recount_1.6.3.zip |
| PackageFileSize: 12.95 MiB |
##############################################################################
##############################################################################
###
### Running command:
###
### rm -rf recount.buildbin-libdir && mkdir recount.buildbin-libdir && C:\Users\biocbuild\bbs-3.7-bioc\R\bin\R.exe CMD INSTALL --merge-multiarch --build --library=recount.buildbin-libdir recount_1.6.3.tar.gz
###
##############################################################################
##############################################################################
install for i386
* installing *source* package 'recount' ...
** R
** data
*** moving datasets to lazyload DB
** inst
** byte-compile and prepare package for lazy loading
No methods found in package 'IRanges' for request: 'subset' when loading 'derfinder'
** help
*** installing help indices
converting help for package 'recount'
finding HTML links ... done
abstract_search html
add_metadata html
add_predictions html
all_metadata html
browse_study html
coverage_matrix html
download_study html
expressed_regions html
find_geo html
geo_characteristics html
geo_info html
getRPKM html
read_counts html
recount-package html
recount_abstract html
recount_exons html
recount_genes html
recount_url html
reproduce_ranges html
rse_gene_SRP009615 html
scale_counts html
snaptron_query html
** building package indices
** installing vignettes
** testing if installed package can be loaded
No methods found in package 'IRanges' for request: 'subset' when loading 'derfinder'
In R CMD INSTALL
install for x64
* installing *source* package 'recount' ...
** testing if installed package can be loaded
No methods found in package 'IRanges' for request: 'subset' when loading 'derfinder'
* MD5 sums
packaged installation of 'recount' as recount_1.6.3.zip
* DONE (recount)
In R CMD INSTALL
In R CMD INSTALL