| Back to Multiple platform build/check report for BioC 3.7 |
|
This page was generated on 2018-10-17 08:45:31 -0400 (Wed, 17 Oct 2018).
| Package 1084/1561 | Hostname | OS / Arch | INSTALL | BUILD | CHECK | BUILD BIN | ||||||
| phantasus 1.0.2 Alexey Sergushichev
| malbec2 | Linux (Ubuntu 16.04.1 LTS) / x86_64 | OK | OK | OK | |||||||
| tokay2 | Windows Server 2012 R2 Standard / x64 | OK | OK | OK | [ OK ] | |||||||
| merida2 | OS X 10.11.6 El Capitan / x86_64 | OK | OK | OK | OK |
| Package: phantasus |
| Version: 1.0.2 |
| Command: rm -rf phantasus.buildbin-libdir && mkdir phantasus.buildbin-libdir && C:\Users\biocbuild\bbs-3.7-bioc\R\bin\R.exe CMD INSTALL --merge-multiarch --build --library=phantasus.buildbin-libdir phantasus_1.0.2.tar.gz |
| StartedAt: 2018-10-17 06:47:18 -0400 (Wed, 17 Oct 2018) |
| EndedAt: 2018-10-17 06:47:40 -0400 (Wed, 17 Oct 2018) |
| EllapsedTime: 22.3 seconds |
| RetCode: 0 |
| Status: OK |
| PackageFile: phantasus_1.0.2.zip |
| PackageFileSize: 8.654 MiB |
##############################################################################
##############################################################################
###
### Running command:
###
### rm -rf phantasus.buildbin-libdir && mkdir phantasus.buildbin-libdir && C:\Users\biocbuild\bbs-3.7-bioc\R\bin\R.exe CMD INSTALL --merge-multiarch --build --library=phantasus.buildbin-libdir phantasus_1.0.2.tar.gz
###
##############################################################################
##############################################################################
install for i386
* installing *source* package 'phantasus' ...
** R
** data
*** moving datasets to lazyload DB
** inst
** byte-compile and prepare package for lazy loading
Loading config from C:/Users/biocbuild/bbs-3.7-bioc/R/library/opencpu/config/defaults.conf
Loading config from C:\Users\biocbuild\AppData\Local\opencpu\opencpu/user.conf
** help
*** installing help indices
converting help for package 'phantasus'
finding HTML links ... done
calcPCA html
checkGPLs html
checkPreloadedNames html
createES html
es html
getES html
getGDS html
getGSE html
gseaPlot html
limmaAnalysis html
loadGEO html
loadPreloaded html
performKmeans html
preloadedDirExists html
read.gct html
reparseCachedESs html
servePhantasus html
shinyGAMAnalysis html
subsetES html
write.gct html
** building package indices
** installing vignettes
** testing if installed package can be loaded
Loading config from C:/Users/biocbuild/bbs-3.7-bioc/R/library/opencpu/config/defaults.conf
Loading config from C:\Users\biocbuild\AppData\Local\opencpu\opencpu/user.conf
In R CMD INSTALL
install for x64
* installing *source* package 'phantasus' ...
** testing if installed package can be loaded
Loading config from C:/Users/biocbuild/bbs-3.7-bioc/R/library/opencpu/config/defaults.conf
Loading config from C:\Users\biocbuild\AppData\Local\opencpu\opencpu/user.conf
* MD5 sums
packaged installation of 'phantasus' as phantasus_1.0.2.zip
* DONE (phantasus)
In R CMD INSTALL
In R CMD INSTALL