| Back to Multiple platform build/check report for BioC 3.7 |
|
This page was generated on 2018-10-17 08:31:25 -0400 (Wed, 17 Oct 2018).
| Package 1084/1561 | Hostname | OS / Arch | INSTALL | BUILD | CHECK | BUILD BIN | ||||||
| phantasus 1.0.2 Alexey Sergushichev
| malbec2 | Linux (Ubuntu 16.04.1 LTS) / x86_64 | OK | OK | [ OK ] | |||||||
| tokay2 | Windows Server 2012 R2 Standard / x64 | OK | OK | OK | OK | |||||||
| merida2 | OS X 10.11.6 El Capitan / x86_64 | OK | OK | OK | OK |
| Package: phantasus |
| Version: 1.0.2 |
| Command: /home/biocbuild/bbs-3.7-bioc/R/bin/R CMD check --install=check:phantasus.install-out.txt --library=/home/biocbuild/bbs-3.7-bioc/R/library --no-vignettes --timings phantasus_1.0.2.tar.gz |
| StartedAt: 2018-10-16 02:39:59 -0400 (Tue, 16 Oct 2018) |
| EndedAt: 2018-10-16 02:42:10 -0400 (Tue, 16 Oct 2018) |
| EllapsedTime: 130.8 seconds |
| RetCode: 0 |
| Status: OK |
| CheckDir: phantasus.Rcheck |
| Warnings: 0 |
##############################################################################
##############################################################################
###
### Running command:
###
### /home/biocbuild/bbs-3.7-bioc/R/bin/R CMD check --install=check:phantasus.install-out.txt --library=/home/biocbuild/bbs-3.7-bioc/R/library --no-vignettes --timings phantasus_1.0.2.tar.gz
###
##############################################################################
##############################################################################
* using log directory ‘/home/biocbuild/bbs-3.7-bioc/meat/phantasus.Rcheck’
* using R version 3.5.1 Patched (2018-07-12 r74967)
* using platform: x86_64-pc-linux-gnu (64-bit)
* using session charset: UTF-8
* using option ‘--no-vignettes’
* checking for file ‘phantasus/DESCRIPTION’ ... OK
* this is package ‘phantasus’ version ‘1.0.2’
* package encoding: UTF-8
* checking package namespace information ... OK
* checking package dependencies ... OK
* checking if this is a source package ... OK
* checking if there is a namespace ... OK
* checking for hidden files and directories ... OK
* checking for portable file names ... OK
* checking for sufficient/correct file permissions ... OK
* checking whether package ‘phantasus’ can be installed ... OK
* checking installed package size ... NOTE
installed size is 22.8Mb
sub-directories of 1Mb or more:
www 22.2Mb
* checking package directory ... OK
* checking DESCRIPTION meta-information ... NOTE
Package listed in more than one of Depends, Imports, Suggests, Enhances:
‘svglite’
A package should be listed in only one of these fields.
* checking top-level files ... OK
* checking for left-over files ... OK
* checking index information ... OK
* checking package subdirectories ... OK
* checking R files for non-ASCII characters ... OK
* checking R files for syntax errors ... OK
* checking whether the package can be loaded ... OK
* checking whether the package can be loaded with stated dependencies ... OK
* checking whether the package can be unloaded cleanly ... OK
* checking whether the namespace can be loaded with stated dependencies ... OK
* checking whether the namespace can be unloaded cleanly ... OK
* checking dependencies in R code ... NOTE
Unexported objects imported by ':::' calls:
'GEOquery:::getDirListing' 'opencpu:::rookhandler'
'opencpu:::tmp_root' 'opencpu:::win_or_mac'
See the note in ?`:::` about the use of this operator.
* checking S3 generic/method consistency ... OK
* checking replacement functions ... OK
* checking foreign function calls ... OK
* checking R code for possible problems ... NOTE
gseaPlot: no visible global function definition for 'setNames'
read.gct: no visible global function definition for 'head'
Undefined global functions or variables:
head setNames
Consider adding
importFrom("stats", "setNames")
importFrom("utils", "head")
to your NAMESPACE file.
* checking Rd files ... OK
* checking Rd metadata ... OK
* checking Rd cross-references ... OK
* checking for missing documentation entries ... OK
* checking for code/documentation mismatches ... OK
* checking Rd \usage sections ... OK
* checking Rd contents ... OK
* checking for unstated dependencies in examples ... OK
* checking contents of ‘data’ directory ... OK
* checking data for non-ASCII characters ... OK
* checking data for ASCII and uncompressed saves ... OK
* checking files in ‘vignettes’ ... OK
* checking examples ... OK
Examples with CPU or elapsed time > 5s
user system elapsed
getGSE 5.052 0.176 7.057
* checking for unstated dependencies in ‘tests’ ... OK
* checking tests ...
Running ‘testthat.R’
OK
* checking for unstated dependencies in vignettes ... OK
* checking package vignettes in ‘inst/doc’ ... OK
* checking running R code from vignettes ... SKIPPED
* checking re-building of vignette outputs ... SKIPPED
* checking PDF version of manual ... OK
* DONE
Status: 4 NOTEs
See
‘/home/biocbuild/bbs-3.7-bioc/meat/phantasus.Rcheck/00check.log’
for details.
phantasus.Rcheck/00install.out
############################################################################## ############################################################################## ### ### Running command: ### ### /home/biocbuild/bbs-3.7-bioc/R/bin/R CMD INSTALL phantasus ### ############################################################################## ############################################################################## * installing to library ‘/home/biocbuild/bbs-3.7-bioc/R/library’ * installing *source* package ‘phantasus’ ... ** R ** data *** moving datasets to lazyload DB ** inst ** byte-compile and prepare package for lazy loading Loading config from /home/biocbuild/bbs-3.7-bioc/R/library/opencpu/config/defaults.conf Loading config from /home/biocbuild/.local/share/opencpu/user.conf ** help *** installing help indices ** building package indices ** installing vignettes ** testing if installed package can be loaded Loading config from /home/biocbuild/bbs-3.7-bioc/R/library/opencpu/config/defaults.conf Loading config from /home/biocbuild/.local/share/opencpu/user.conf * DONE (phantasus)
phantasus.Rcheck/tests/testthat.Rout
R version 3.5.1 Patched (2018-07-12 r74967) -- "Feather Spray"
Copyright (C) 2018 The R Foundation for Statistical Computing
Platform: x86_64-pc-linux-gnu (64-bit)
R is free software and comes with ABSOLUTELY NO WARRANTY.
You are welcome to redistribute it under certain conditions.
Type 'license()' or 'licence()' for distribution details.
R is a collaborative project with many contributors.
Type 'contributors()' for more information and
'citation()' on how to cite R or R packages in publications.
Type 'demo()' for some demos, 'help()' for on-line help, or
'help.start()' for an HTML browser interface to help.
Type 'q()' to quit R.
> library(testthat)
> library(phantasus)
Setting options('download.file.method.GEOquery'='auto')
Setting options('GEOquery.inmemory.gpl'=FALSE)
Loading config from /home/biocbuild/bbs-3.7-bioc/R/library/opencpu/config/defaults.conf
Loading config from /home/biocbuild/.local/share/opencpu/user.conf
>
> test_check("phantasus")
trying URL 'https://genome.ifmo.ru/files/software/phantasus/geo/series/GSE27nnn/GSE27112/matrix/GSE27112_series_matrix.txt.gz'
trying URL 'https://genome.ifmo.ru/files/software/phantasus/geo/series/GSE27nnn/GSE27112/matrix/GSE27112-GPL6103_series_matrix.txt.gz'
Content type 'application/x-gzip' length 596707 bytes (582 KB)
==================================================
downloaded 582 KB
trying URL 'https://genome.ifmo.ru/files/software/phantasus/geo/series/GSE27nnn/GSE27112/matrix/GSE27112-GPL6885_series_matrix.txt.gz'
Content type 'application/x-gzip' length 1273889 bytes (1.2 MB)
==================================================
downloaded 1.2 MB
trying URL 'https://genome.ifmo.ru/files/software/phantasus/geo/series/GSE14nnn/GSE14308/matrix/GSE14308_series_matrix.txt.gz'
Content type 'application/x-gzip' length 1807552 bytes (1.7 MB)
==================================================
downloaded 1.7 MB
trying URL 'https://genome.ifmo.ru/files/software/phantasus/geo/datasets/GDS4nnn/GDS4885/soft/GDS4885.soft.gz'
Content type 'application/x-gzip' length 1250109 bytes (1.2 MB)
==================================================
downloaded 1.2 MB
trying URL 'https://ftp.ncbi.nlm.nih.gov/geo/series/GSE27nnn/GSE27112/matrix/GSE27112_series_matrix.txt.gz'
trying URL 'https://ftp.ncbi.nlm.nih.gov/geo/series/GSE99nnn/GSE99709/matrix/GSE99709_series_matrix.txt.gz'
Content type 'application/x-gzip' length 3390 bytes
==================================================
downloaded 3390 bytes
══ testthat results ═══════════════════════════════════════════════════════════
OK: 60 SKIPPED: 0 FAILED: 0
>
> proc.time()
user system elapsed
37.516 0.608 64.652
phantasus.Rcheck/phantasus-Ex.timings
| name | user | system | elapsed | |
| calcPCA | 0.000 | 0.000 | 0.001 | |
| checkGPLs | 0.004 | 0.000 | 0.001 | |
| createES | 0 | 0 | 0 | |
| es | 0 | 0 | 0 | |
| getES | 0.696 | 0.036 | 1.244 | |
| getGDS | 0.648 | 0.004 | 0.651 | |
| getGSE | 5.052 | 0.176 | 7.057 | |
| limmaAnalysis | 0.000 | 0.000 | 0.001 | |
| loadGEO | 0.000 | 0.000 | 0.001 | |
| performKmeans | 0.004 | 0.000 | 0.000 | |
| read.gct | 0.036 | 0.000 | 0.050 | |
| reparseCachedESs | 0.568 | 0.016 | 0.584 | |
| servePhantasus | 0 | 0 | 0 | |
| write.gct | 0.084 | 0.000 | 0.085 | |