| Back to Multiple platform build/check report for BioC 3.7 |
|
This page was generated on 2018-10-17 08:44:03 -0400 (Wed, 17 Oct 2018).
| Package 882/1561 | Hostname | OS / Arch | INSTALL | BUILD | CHECK | BUILD BIN | ||||||
| methInheritSim 1.2.0 Pascal Belleau
| malbec2 | Linux (Ubuntu 16.04.1 LTS) / x86_64 | OK | OK | OK | |||||||
| tokay2 | Windows Server 2012 R2 Standard / x64 | OK | [ OK ] | OK | OK | |||||||
| merida2 | OS X 10.11.6 El Capitan / x86_64 | OK | OK | OK | OK |
| Package: methInheritSim |
| Version: 1.2.0 |
| Command: chmod a+r methInheritSim -R && C:\Users\biocbuild\bbs-3.7-bioc\R\bin\R.exe CMD build --keep-empty-dirs --no-resave-data methInheritSim |
| StartedAt: 2018-10-16 23:44:56 -0400 (Tue, 16 Oct 2018) |
| EndedAt: 2018-10-16 23:46:03 -0400 (Tue, 16 Oct 2018) |
| EllapsedTime: 67.4 seconds |
| RetCode: 0 |
| Status: OK |
| PackageFile: methInheritSim_1.2.0.tar.gz |
| PackageFileSize: 1.213 MiB |
############################################################################## ############################################################################## ### ### Running command: ### ### chmod a+r methInheritSim -R && C:\Users\biocbuild\bbs-3.7-bioc\R\bin\R.exe CMD build --keep-empty-dirs --no-resave-data methInheritSim ### ############################################################################## ############################################################################## * checking for file 'methInheritSim/DESCRIPTION' ... OK * preparing 'methInheritSim': * checking DESCRIPTION meta-information ... OK * installing the package to build vignettes * creating vignettes ... OK * checking for LF line-endings in source and make files and shell scripts * checking for empty or unneeded directories * looking to see if a 'data/datalist' file should be added * building 'methInheritSim_1.2.0.tar.gz' Warning in utils::tar(filepath, pkgname, compression = "gzip", compression_level = 9L, : storing paths of more than 100 bytes is not portable: 'methInheritSim/vignettes/methInheritSim_cache/html/syntheticChr_acdd0a3b4cd09c90fc362bf34d9555e5.RData'