| Back to Multiple platform build/check report for BioC 3.7 |
|
This page was generated on 2018-10-17 08:44:03 -0400 (Wed, 17 Oct 2018).
| Package 882/1561 | Hostname | OS / Arch | INSTALL | BUILD | CHECK | BUILD BIN | ||||||
| methInheritSim 1.2.0 Pascal Belleau
| malbec2 | Linux (Ubuntu 16.04.1 LTS) / x86_64 | OK | OK | OK | |||||||
| tokay2 | Windows Server 2012 R2 Standard / x64 | OK | OK | OK | [ OK ] | |||||||
| merida2 | OS X 10.11.6 El Capitan / x86_64 | OK | OK | OK | OK |
| Package: methInheritSim |
| Version: 1.2.0 |
| Command: rm -rf methInheritSim.buildbin-libdir && mkdir methInheritSim.buildbin-libdir && C:\Users\biocbuild\bbs-3.7-bioc\R\bin\R.exe CMD INSTALL --merge-multiarch --build --library=methInheritSim.buildbin-libdir methInheritSim_1.2.0.tar.gz |
| StartedAt: 2018-10-17 06:40:02 -0400 (Wed, 17 Oct 2018) |
| EndedAt: 2018-10-17 06:40:35 -0400 (Wed, 17 Oct 2018) |
| EllapsedTime: 33.0 seconds |
| RetCode: 0 |
| Status: OK |
| PackageFile: methInheritSim_1.2.0.zip |
| PackageFileSize: 756.7 KiB |
##############################################################################
##############################################################################
###
### Running command:
###
### rm -rf methInheritSim.buildbin-libdir && mkdir methInheritSim.buildbin-libdir && C:\Users\biocbuild\bbs-3.7-bioc\R\bin\R.exe CMD INSTALL --merge-multiarch --build --library=methInheritSim.buildbin-libdir methInheritSim_1.2.0.tar.gz
###
##############################################################################
##############################################################################
install for i386
* installing *source* package 'methInheritSim' ...
** R
** data
** inst
** byte-compile and prepare package for lazy loading
** help
*** installing help indices
converting help for package 'methInheritSim'
finding HTML links ... done
calculateNbDiffCase html
createSampleID html
dataSimExample html
estBetaAlpha html
estBetaBeta html
fixSeed html
getDiffCase html
getDiffMeth html
getSim html
getSyntheticChr html
methInheritSim-package html
runOnEachSynCHR html
runSim html
samplesForChrSynthetic html
saveData html
simEachGeneration html
simInheritance html
testIfAlreadyDone html
validateRunSimDoubleParameters html
validateRunSimIntegerParameters html
validateRunSimLogicalParameters html
validateRunSimOtherParameters html
validateRunSimParameters html
** building package indices
** installing vignettes
** testing if installed package can be loaded
In R CMD INSTALL
install for x64
* installing *source* package 'methInheritSim' ...
** testing if installed package can be loaded
* MD5 sums
packaged installation of 'methInheritSim' as methInheritSim_1.2.0.zip
* DONE (methInheritSim)
In R CMD INSTALL
In R CMD INSTALL