| Back to Multiple platform build/check report for BioC 3.7 |
|
This page was generated on 2018-10-17 08:38:54 -0400 (Wed, 17 Oct 2018).
| Package 947/1561 | Hostname | OS / Arch | INSTALL | BUILD | CHECK | BUILD BIN | ||||||
| mQTL.NMR 1.14.0 Lyamine Hedjazi
| malbec2 | Linux (Ubuntu 16.04.1 LTS) / x86_64 | ERROR | ERROR | skipped | |||||||
| tokay2 | Windows Server 2012 R2 Standard / x64 | [ ERROR ] | ERROR | skipped | skipped | |||||||
| merida2 | OS X 10.11.6 El Capitan / x86_64 | ERROR | ERROR | skipped | skipped |
| Package: mQTL.NMR |
| Version: 1.14.0 |
| Command: C:\cygwin\bin\curl.exe -O https://malbec2.bioconductor.org/BBS/3.7/bioc/src/contrib/mQTL.NMR_1.14.0.tar.gz && rm -rf mQTL.NMR.buildbin-libdir && mkdir mQTL.NMR.buildbin-libdir && C:\Users\biocbuild\bbs-3.7-bioc\R\bin\R.exe CMD INSTALL --merge-multiarch --build --library=mQTL.NMR.buildbin-libdir mQTL.NMR_1.14.0.tar.gz && C:\Users\biocbuild\bbs-3.7-bioc\R\bin\R.exe CMD INSTALL mQTL.NMR_1.14.0.zip && rm mQTL.NMR_1.14.0.tar.gz mQTL.NMR_1.14.0.zip |
| StartedAt: 2018-10-16 20:43:09 -0400 (Tue, 16 Oct 2018) |
| EndedAt: 2018-10-16 20:43:11 -0400 (Tue, 16 Oct 2018) |
| EllapsedTime: 1.5 seconds |
| RetCode: 1 |
| Status: ERROR |
##############################################################################
##############################################################################
###
### Running command:
###
### C:\cygwin\bin\curl.exe -O https://malbec2.bioconductor.org/BBS/3.7/bioc/src/contrib/mQTL.NMR_1.14.0.tar.gz && rm -rf mQTL.NMR.buildbin-libdir && mkdir mQTL.NMR.buildbin-libdir && C:\Users\biocbuild\bbs-3.7-bioc\R\bin\R.exe CMD INSTALL --merge-multiarch --build --library=mQTL.NMR.buildbin-libdir mQTL.NMR_1.14.0.tar.gz && C:\Users\biocbuild\bbs-3.7-bioc\R\bin\R.exe CMD INSTALL mQTL.NMR_1.14.0.zip && rm mQTL.NMR_1.14.0.tar.gz mQTL.NMR_1.14.0.zip
###
##############################################################################
##############################################################################
% Total % Received % Xferd Average Speed Time Time Time Current
Dload Upload Total Spent Left Speed
0 0 0 0 0 0 0 0 --:--:-- --:--:-- --:--:-- 0
100 1547k 100 1547k 0 0 23.0M 0 --:--:-- --:--:-- --:--:-- 25.6M
install for i386
ERROR: dependency 'GenABEL' is not available for package 'mQTL.NMR'
* removing 'C:/Users/biocbuild/bbs-3.7-bioc/meat/mQTL.NMR.buildbin-libdir/mQTL.NMR'
In R CMD INSTALL
In R CMD INSTALL