| Back to Multiple platform build/check report for BioC 3.7 |
|
This page was generated on 2018-10-17 08:38:54 -0400 (Wed, 17 Oct 2018).
| Package 947/1561 | Hostname | OS / Arch | INSTALL | BUILD | CHECK | BUILD BIN | ||||||
| mQTL.NMR 1.14.0 Lyamine Hedjazi
| malbec2 | Linux (Ubuntu 16.04.1 LTS) / x86_64 | ERROR | ERROR | skipped | |||||||
| tokay2 | Windows Server 2012 R2 Standard / x64 | ERROR | [ ERROR ] | skipped | skipped | |||||||
| merida2 | OS X 10.11.6 El Capitan / x86_64 | ERROR | ERROR | skipped | skipped |
| Package: mQTL.NMR |
| Version: 1.14.0 |
| Command: chmod a+r mQTL.NMR -R && C:\Users\biocbuild\bbs-3.7-bioc\R\bin\R.exe CMD build --keep-empty-dirs --no-resave-data mQTL.NMR |
| StartedAt: 2018-10-16 22:21:39 -0400 (Tue, 16 Oct 2018) |
| EndedAt: 2018-10-16 22:21:43 -0400 (Tue, 16 Oct 2018) |
| EllapsedTime: 3.5 seconds |
| RetCode: 1 |
| Status: ERROR |
| PackageFile: mQTL.NMR_1.14.0.tar.gz |
| PackageFileSize: 1.511 MiB |
##############################################################################
##############################################################################
###
### Running command:
###
### chmod a+r mQTL.NMR -R && C:\Users\biocbuild\bbs-3.7-bioc\R\bin\R.exe CMD build --keep-empty-dirs --no-resave-data mQTL.NMR
###
##############################################################################
##############################################################################
* checking for file 'mQTL.NMR/DESCRIPTION' ... OK
* preparing 'mQTL.NMR':
* checking DESCRIPTION meta-information ... OK
* installing the package to build vignettes
-----------------------------------
ERROR: dependency 'GenABEL' is not available for package 'mQTL.NMR'
* removing 'C:/Users/biocbuild/bbs-3.7-bioc/tmpdir/RtmpwXeWUt/Rinst27c455f7158d/mQTL.NMR'
In R CMD INSTALL
-----------------------------------
ERROR: package installation failed