| Back to Multiple platform build/check report for BioC 3.7 | 
 | 
This page was generated on 2018-10-17 08:39:49 -0400 (Wed, 17 Oct 2018).
| Package 610/1561 | Hostname | OS / Arch | INSTALL | BUILD | CHECK | BUILD BIN | ||||||
| gespeR 1.12.0 Fabian Schmich 
 | malbec2 | Linux (Ubuntu 16.04.1 LTS) / x86_64 | OK | OK | WARNINGS |  | ||||||
| tokay2 | Windows Server 2012 R2 Standard / x64 | [ OK ] | OK | WARNINGS | OK |  | ||||||
| merida2 | OS X 10.11.6 El Capitan / x86_64 | OK | OK | WARNINGS | OK |  | 
| Package: gespeR | 
| Version: 1.12.0 | 
| Command: C:\cygwin\bin\curl.exe -O https://malbec2.bioconductor.org/BBS/3.7/bioc/src/contrib/gespeR_1.12.0.tar.gz && rm -rf gespeR.buildbin-libdir && mkdir gespeR.buildbin-libdir && C:\Users\biocbuild\bbs-3.7-bioc\R\bin\R.exe CMD INSTALL --merge-multiarch --build --library=gespeR.buildbin-libdir gespeR_1.12.0.tar.gz && C:\Users\biocbuild\bbs-3.7-bioc\R\bin\R.exe CMD INSTALL gespeR_1.12.0.zip && rm gespeR_1.12.0.tar.gz gespeR_1.12.0.zip | 
| StartedAt: 2018-10-16 19:51:06 -0400 (Tue, 16 Oct 2018) | 
| EndedAt: 2018-10-16 19:52:17 -0400 (Tue, 16 Oct 2018) | 
| EllapsedTime: 71.1 seconds | 
| RetCode: 0 | 
| Status: OK | 
##############################################################################
##############################################################################
###
### Running command:
###
###   C:\cygwin\bin\curl.exe -O https://malbec2.bioconductor.org/BBS/3.7/bioc/src/contrib/gespeR_1.12.0.tar.gz && rm -rf gespeR.buildbin-libdir && mkdir gespeR.buildbin-libdir && C:\Users\biocbuild\bbs-3.7-bioc\R\bin\R.exe CMD INSTALL --merge-multiarch --build --library=gespeR.buildbin-libdir gespeR_1.12.0.tar.gz && C:\Users\biocbuild\bbs-3.7-bioc\R\bin\R.exe CMD INSTALL gespeR_1.12.0.zip && rm gespeR_1.12.0.tar.gz gespeR_1.12.0.zip
###
##############################################################################
##############################################################################
  % Total    % Received % Xferd  Average Speed   Time    Time     Time  Current
                                 Dload  Upload   Total   Spent    Left  Speed
  0     0    0     0    0     0      0      0 --:--:-- --:--:-- --:--:--     0
100 24.1M  100 24.1M    0     0  76.5M      0 --:--:-- --:--:-- --:--:-- 78.1M
install for i386
* installing *source* package 'gespeR' ...
** R
** data
** inst
** byte-compile and prepare package for lazy loading
** help
*** installing help indices
  converting help for package 'gespeR'
    finding HTML links ... done
    Phenotypes-class                        html  
    TargetRelations-class                   html  
    annotate.gsp-methods                    html  
    as.data.frame-Phenotypes-method         html  
    as.data.frame.concordance               html  
    c-Phenotypes-method                     html  
    concordance                             html  
    dim-Phenotypes-method                   html  
    gespeR-class                            html  
    finding level-2 HTML links ... done
    gespeR-package                          html  
    gspssp-methods                          html  
    join-methods                            html  
    lasso.rand                              html  
    na.rem-methods                          html  
    path-methods                            html  
    plot.Phenotypes                         html  
    plot.concordance                        html  
    plot.gespeR                             html  
    rbo                                     html  
    scores-methods                          html  
    simData                                 html  
    stability-methods                       html  
    stability.selection                     html  
    stabilityfits                           html  
    sub-Phenotypes-ANY-ANY-ANY-method       html  
    sub-TargetRelations-ANY-ANY-ANY-method
                                            html  
    target-relations-methods                html  
    trmatrix-methods                        html  
    values-methods                          html  
** building package indices
** installing vignettes
** testing if installed package can be loaded
In R CMD INSTALL
install for x64
* installing *source* package 'gespeR' ...
** testing if installed package can be loaded
* MD5 sums
packaged installation of 'gespeR' as gespeR_1.12.0.zip
* DONE (gespeR)
In R CMD INSTALL
In R CMD INSTALL
* installing to library 'C:/Users/biocbuild/bbs-3.7-bioc/R/library'
package 'gespeR' successfully unpacked and MD5 sums checked
In R CMD INSTALL