| Back to Multiple platform build/check report for BioC 3.7 |
|
This page was generated on 2018-10-17 08:38:01 -0400 (Wed, 17 Oct 2018).
| Package 508/1561 | Hostname | OS / Arch | INSTALL | BUILD | CHECK | BUILD BIN | ||||||
| flowMatch 1.16.0 Ariful Azad
| malbec2 | Linux (Ubuntu 16.04.1 LTS) / x86_64 | OK | OK | OK | |||||||
| tokay2 | Windows Server 2012 R2 Standard / x64 | [ OK ] | OK | OK | OK | |||||||
| merida2 | OS X 10.11.6 El Capitan / x86_64 | OK | OK | OK | OK |
| Package: flowMatch |
| Version: 1.16.0 |
| Command: C:\cygwin\bin\curl.exe -O https://malbec2.bioconductor.org/BBS/3.7/bioc/src/contrib/flowMatch_1.16.0.tar.gz && rm -rf flowMatch.buildbin-libdir && mkdir flowMatch.buildbin-libdir && C:\Users\biocbuild\bbs-3.7-bioc\R\bin\R.exe CMD INSTALL --merge-multiarch --build --library=flowMatch.buildbin-libdir flowMatch_1.16.0.tar.gz && C:\Users\biocbuild\bbs-3.7-bioc\R\bin\R.exe CMD INSTALL flowMatch_1.16.0.zip && rm flowMatch_1.16.0.tar.gz flowMatch_1.16.0.zip |
| StartedAt: 2018-10-16 18:59:47 -0400 (Tue, 16 Oct 2018) |
| EndedAt: 2018-10-16 19:00:50 -0400 (Tue, 16 Oct 2018) |
| EllapsedTime: 63.7 seconds |
| RetCode: 0 |
| Status: OK |
##############################################################################
##############################################################################
###
### Running command:
###
### C:\cygwin\bin\curl.exe -O https://malbec2.bioconductor.org/BBS/3.7/bioc/src/contrib/flowMatch_1.16.0.tar.gz && rm -rf flowMatch.buildbin-libdir && mkdir flowMatch.buildbin-libdir && C:\Users\biocbuild\bbs-3.7-bioc\R\bin\R.exe CMD INSTALL --merge-multiarch --build --library=flowMatch.buildbin-libdir flowMatch_1.16.0.tar.gz && C:\Users\biocbuild\bbs-3.7-bioc\R\bin\R.exe CMD INSTALL flowMatch_1.16.0.zip && rm flowMatch_1.16.0.tar.gz flowMatch_1.16.0.zip
###
##############################################################################
##############################################################################
% Total % Received % Xferd Average Speed Time Time Time Current
Dload Upload Total Spent Left Speed
0 0 0 0 0 0 0 0 --:--:-- --:--:-- --:--:-- 0
100 123k 100 123k 0 0 2069k 0 --:--:-- --:--:-- --:--:-- 2324k
install for i386
* installing *source* package 'flowMatch' ...
** libs
C:/Rtools/mingw_32/bin/g++ -I"C:/Users/BIOCBU˜1/BBS-3˜1.7-B/R/include" -DNDEBUG -I"C:/Users/biocbuild/bbs-3.7-bioc/R/library/Rcpp/include" -I"C:/extsoft/include" -O2 -Wall -mtune=generic -c BipartiteGraph.cpp -o BipartiteGraph.o
C:/Rtools/mingw_32/bin/g++ -I"C:/Users/BIOCBU˜1/BBS-3˜1.7-B/R/include" -DNDEBUG -I"C:/Users/biocbuild/bbs-3.7-bioc/R/library/Rcpp/include" -I"C:/extsoft/include" -O2 -Wall -mtune=generic -c MinWghtEdgCoverBipartite.cpp -o MinWghtEdgCoverBipartite.o
MinWghtEdgCoverBipartite.cpp: In function 'void update_height(mclust&, std::vector<std::vector<templatePair> >, std::vector<std::vector<BipartiteGraph> >, double)':
MinWghtEdgCoverBipartite.cpp:271:16: warning: comparison between signed and unsigned integer expressions [-Wsign-compare]
for(int i=0; i<tree.height.size(); i++)
^
MinWghtEdgCoverBipartite.cpp: In function 'void computeDegConsistencyNew(std::vector<std::vector<templatePair> >&, std::vector<std::vector<BipartiteGraph> >&, double, double)':
MinWghtEdgCoverBipartite.cpp:487:10: warning: variable 'delta_cx_cy' set but not used [-Wunused-but-set-variable]
int delta_cx_cy = 0;
^
C:/Rtools/mingw_32/bin/g++ -I"C:/Users/BIOCBU˜1/BBS-3˜1.7-B/R/include" -DNDEBUG -I"C:/Users/biocbuild/bbs-3.7-bioc/R/library/Rcpp/include" -I"C:/extsoft/include" -O2 -Wall -mtune=generic -c flowMatch.cpp -o flowMatch.o
flowMatch.cpp: In function 'Rcpp::List computeMEC(Rcpp::NumericMatrix, double)':
flowMatch.cpp:43:16: warning: comparison between signed and unsigned integer expressions [-Wsign-compare]
for(int i=0; i<mec.sCoverVecVec.size(); i++)
^
flowMatch.cpp:45:17: warning: comparison between signed and unsigned integer expressions [-Wsign-compare]
for(int j=0; j<mec.sCoverVecVec[i].size(); j++)
^
flowMatch.cpp:53:16: warning: comparison between signed and unsigned integer expressions [-Wsign-compare]
for(int i=0; i<mec.tCoverVecVec.size(); i++)
^
flowMatch.cpp:55:17: warning: comparison between signed and unsigned integer expressions [-Wsign-compare]
for(int j=0; j<mec.tCoverVecVec[i].size(); j++)
^
C:/Rtools/mingw_32/bin/g++ -shared -s -static-libgcc -o flowMatch.dll tmp.def BipartiteGraph.o MinWghtEdgCoverBipartite.o flowMatch.o -LC:/extsoft/lib/i386 -LC:/extsoft/lib -LC:/Users/BIOCBU˜1/BBS-3˜1.7-B/R/bin/i386 -lR
installing to C:/Users/biocbuild/bbs-3.7-bioc/meat/flowMatch.buildbin-libdir/flowMatch/libs/i386
** R
** byte-compile and prepare package for lazy loading
** help
*** installing help indices
converting help for package 'flowMatch'
finding HTML links ... done
Cluster-class html
ClusterMatch-class html
ClusteredSample-class html
MetaCluster-class html
Template-class html
create.template html
dist.cluster html
dist.matrix html
dist.sample html
dist.template html
flowMatch-package html
mahalanobis.dist html
match.clusters html
symmetric.KL html
template.tree html
** building package indices
** installing vignettes
** testing if installed package can be loaded
In R CMD INSTALL
install for x64
* installing *source* package 'flowMatch' ...
** libs
C:/Rtools/mingw_64/bin/g++ -I"C:/Users/BIOCBU˜1/BBS-3˜1.7-B/R/include" -DNDEBUG -I"C:/Users/biocbuild/bbs-3.7-bioc/R/library/Rcpp/include" -I"C:/extsoft/include" -O2 -Wall -mtune=generic -c BipartiteGraph.cpp -o BipartiteGraph.o
C:/Rtools/mingw_64/bin/g++ -I"C:/Users/BIOCBU˜1/BBS-3˜1.7-B/R/include" -DNDEBUG -I"C:/Users/biocbuild/bbs-3.7-bioc/R/library/Rcpp/include" -I"C:/extsoft/include" -O2 -Wall -mtune=generic -c MinWghtEdgCoverBipartite.cpp -o MinWghtEdgCoverBipartite.o
MinWghtEdgCoverBipartite.cpp: In function 'void update_height(mclust&, std::vector<std::vector<templatePair> >, std::vector<std::vector<BipartiteGraph> >, double)':
MinWghtEdgCoverBipartite.cpp:271:16: warning: comparison between signed and unsigned integer expressions [-Wsign-compare]
for(int i=0; i<tree.height.size(); i++)
^
MinWghtEdgCoverBipartite.cpp: In function 'void computeDegConsistencyNew(std::vector<std::vector<templatePair> >&, std::vector<std::vector<BipartiteGraph> >&, double, double)':
MinWghtEdgCoverBipartite.cpp:487:10: warning: variable 'delta_cx_cy' set but not used [-Wunused-but-set-variable]
int delta_cx_cy = 0;
^
C:/Rtools/mingw_64/bin/g++ -I"C:/Users/BIOCBU˜1/BBS-3˜1.7-B/R/include" -DNDEBUG -I"C:/Users/biocbuild/bbs-3.7-bioc/R/library/Rcpp/include" -I"C:/extsoft/include" -O2 -Wall -mtune=generic -c flowMatch.cpp -o flowMatch.o
flowMatch.cpp: In function 'Rcpp::List computeMEC(Rcpp::NumericMatrix, double)':
flowMatch.cpp:43:16: warning: comparison between signed and unsigned integer expressions [-Wsign-compare]
for(int i=0; i<mec.sCoverVecVec.size(); i++)
^
flowMatch.cpp:45:17: warning: comparison between signed and unsigned integer expressions [-Wsign-compare]
for(int j=0; j<mec.sCoverVecVec[i].size(); j++)
^
flowMatch.cpp:53:16: warning: comparison between signed and unsigned integer expressions [-Wsign-compare]
for(int i=0; i<mec.tCoverVecVec.size(); i++)
^
flowMatch.cpp:55:17: warning: comparison between signed and unsigned integer expressions [-Wsign-compare]
for(int j=0; j<mec.tCoverVecVec[i].size(); j++)
^
C:/Rtools/mingw_64/bin/g++ -shared -s -static-libgcc -o flowMatch.dll tmp.def BipartiteGraph.o MinWghtEdgCoverBipartite.o flowMatch.o -LC:/extsoft/lib/x64 -LC:/extsoft/lib -LC:/Users/BIOCBU˜1/BBS-3˜1.7-B/R/bin/x64 -lR
installing to C:/Users/biocbuild/bbs-3.7-bioc/meat/flowMatch.buildbin-libdir/flowMatch/libs/x64
** testing if installed package can be loaded
* MD5 sums
packaged installation of 'flowMatch' as flowMatch_1.16.0.zip
* DONE (flowMatch)
In R CMD INSTALL
In R CMD INSTALL
* installing to library 'C:/Users/biocbuild/bbs-3.7-bioc/R/library'
package 'flowMatch' successfully unpacked and MD5 sums checked
In R CMD INSTALL