| Back to Multiple platform build/check report for BioC 3.7 |
|
This page was generated on 2018-10-17 08:25:44 -0400 (Wed, 17 Oct 2018).
| Package 508/1561 | Hostname | OS / Arch | INSTALL | BUILD | CHECK | BUILD BIN | ||||||
| flowMatch 1.16.0 Ariful Azad
| malbec2 | Linux (Ubuntu 16.04.1 LTS) / x86_64 | OK | OK | [ OK ] | |||||||
| tokay2 | Windows Server 2012 R2 Standard / x64 | OK | OK | OK | OK | |||||||
| merida2 | OS X 10.11.6 El Capitan / x86_64 | OK | OK | OK | OK |
| Package: flowMatch |
| Version: 1.16.0 |
| Command: /home/biocbuild/bbs-3.7-bioc/R/bin/R CMD check --install=check:flowMatch.install-out.txt --library=/home/biocbuild/bbs-3.7-bioc/R/library --no-vignettes --timings flowMatch_1.16.0.tar.gz |
| StartedAt: 2018-10-16 00:25:51 -0400 (Tue, 16 Oct 2018) |
| EndedAt: 2018-10-16 00:27:19 -0400 (Tue, 16 Oct 2018) |
| EllapsedTime: 87.7 seconds |
| RetCode: 0 |
| Status: OK |
| CheckDir: flowMatch.Rcheck |
| Warnings: 0 |
##############################################################################
##############################################################################
###
### Running command:
###
### /home/biocbuild/bbs-3.7-bioc/R/bin/R CMD check --install=check:flowMatch.install-out.txt --library=/home/biocbuild/bbs-3.7-bioc/R/library --no-vignettes --timings flowMatch_1.16.0.tar.gz
###
##############################################################################
##############################################################################
* using log directory ‘/home/biocbuild/bbs-3.7-bioc/meat/flowMatch.Rcheck’
* using R version 3.5.1 Patched (2018-07-12 r74967)
* using platform: x86_64-pc-linux-gnu (64-bit)
* using session charset: UTF-8
* using option ‘--no-vignettes’
* checking for file ‘flowMatch/DESCRIPTION’ ... OK
* checking extension type ... Package
* this is package ‘flowMatch’ version ‘1.16.0’
* checking package namespace information ... OK
* checking package dependencies ... OK
* checking if this is a source package ... OK
* checking if there is a namespace ... OK
* checking for hidden files and directories ... OK
* checking for portable file names ... OK
* checking for sufficient/correct file permissions ... OK
* checking whether package ‘flowMatch’ can be installed ... OK
* checking installed package size ... OK
* checking package directory ... OK
* checking ‘build’ directory ... OK
* checking DESCRIPTION meta-information ... OK
* checking top-level files ... OK
* checking for left-over files ... OK
* checking index information ... OK
* checking package subdirectories ... OK
* checking R files for non-ASCII characters ... OK
* checking R files for syntax errors ... OK
* checking whether the package can be loaded ... OK
* checking whether the package can be loaded with stated dependencies ... OK
* checking whether the package can be unloaded cleanly ... OK
* checking whether the namespace can be loaded with stated dependencies ... OK
* checking whether the namespace can be unloaded cleanly ... OK
* checking dependencies in R code ... OK
* checking S3 generic/method consistency ... OK
* checking replacement functions ... OK
* checking foreign function calls ... OK
* checking R code for possible problems ... NOTE
ClusteredSample: no visible global function definition for ‘cov’
ellipse: no visible global function definition for ‘qchisq’
ellipse: no visible global function definition for ‘lines’
limitcalc: no visible global function definition for ‘qchisq’
plot.cluster.contours: no visible global function definition for ‘par’
plot.cluster.contours: no visible global function definition for
‘plot.new’
plot.cluster.contours: no visible global function definition for
‘mtext’
template.tree,Template: no visible global function definition for
‘as.dendrogram’
Undefined global functions or variables:
as.dendrogram cov lines mtext par plot.new qchisq
Consider adding
importFrom("graphics", "lines", "mtext", "par", "plot.new")
importFrom("stats", "as.dendrogram", "cov", "qchisq")
to your NAMESPACE file.
* checking Rd files ... OK
* checking Rd metadata ... OK
* checking Rd cross-references ... OK
* checking for missing documentation entries ... OK
* checking for code/documentation mismatches ... OK
* checking Rd \usage sections ... OK
* checking Rd contents ... OK
* checking for unstated dependencies in examples ... OK
* checking line endings in C/C++/Fortran sources/headers ... OK
* checking line endings in Makefiles ... OK
* checking compilation flags in Makevars ... OK
* checking for GNU extensions in Makefiles ... OK
* checking for portable use of $(BLAS_LIBS) and $(LAPACK_LIBS) ... OK
* checking compiled code ... NOTE
Note: information on .o files is not available
* checking files in ‘vignettes’ ... OK
* checking examples ... OK
Examples with CPU or elapsed time > 5s
user system elapsed
create.template 7.684 0.028 7.716
Template-class 7.340 0.016 7.362
flowMatch-package 6.304 0.016 6.324
MetaCluster-class 6.288 0.016 6.309
template.tree 5.872 0.008 5.885
* checking for unstated dependencies in vignettes ... OK
* checking package vignettes in ‘inst/doc’ ... OK
* checking running R code from vignettes ... SKIPPED
* checking re-building of vignette outputs ... SKIPPED
* checking PDF version of manual ... OK
* DONE
Status: 2 NOTEs
See
‘/home/biocbuild/bbs-3.7-bioc/meat/flowMatch.Rcheck/00check.log’
for details.
flowMatch.Rcheck/00install.out
##############################################################################
##############################################################################
###
### Running command:
###
### /home/biocbuild/bbs-3.7-bioc/R/bin/R CMD INSTALL flowMatch
###
##############################################################################
##############################################################################
* installing to library ‘/home/biocbuild/bbs-3.7-bioc/R/library’
* installing *source* package ‘flowMatch’ ...
** libs
g++ -I"/home/biocbuild/bbs-3.7-bioc/R/include" -DNDEBUG -I"/home/biocbuild/bbs-3.7-bioc/R/library/Rcpp/include" -I/usr/local/include -fpic -g -O2 -Wall -c BipartiteGraph.cpp -o BipartiteGraph.o
g++ -I"/home/biocbuild/bbs-3.7-bioc/R/include" -DNDEBUG -I"/home/biocbuild/bbs-3.7-bioc/R/library/Rcpp/include" -I/usr/local/include -fpic -g -O2 -Wall -c MinWghtEdgCoverBipartite.cpp -o MinWghtEdgCoverBipartite.o
MinWghtEdgCoverBipartite.cpp: In function ‘void update_height(mclust&, std::vector<std::vector<templatePair> >, std::vector<std::vector<BipartiteGraph> >, double)’:
MinWghtEdgCoverBipartite.cpp:271:16: warning: comparison between signed and unsigned integer expressions [-Wsign-compare]
for(int i=0; i<tree.height.size(); i++)
^
MinWghtEdgCoverBipartite.cpp: In function ‘void computeDegConsistencyNew(std::vector<std::vector<templatePair> >&, std::vector<std::vector<BipartiteGraph> >&, double, double)’:
MinWghtEdgCoverBipartite.cpp:487:10: warning: variable ‘delta_cx_cy’ set but not used [-Wunused-but-set-variable]
int delta_cx_cy = 0;
^
g++ -I"/home/biocbuild/bbs-3.7-bioc/R/include" -DNDEBUG -I"/home/biocbuild/bbs-3.7-bioc/R/library/Rcpp/include" -I/usr/local/include -fpic -g -O2 -Wall -c flowMatch.cpp -o flowMatch.o
flowMatch.cpp: In function ‘Rcpp::List computeMEC(Rcpp::NumericMatrix, double)’:
flowMatch.cpp:43:16: warning: comparison between signed and unsigned integer expressions [-Wsign-compare]
for(int i=0; i<mec.sCoverVecVec.size(); i++)
^
flowMatch.cpp:45:17: warning: comparison between signed and unsigned integer expressions [-Wsign-compare]
for(int j=0; j<mec.sCoverVecVec[i].size(); j++)
^
flowMatch.cpp:53:16: warning: comparison between signed and unsigned integer expressions [-Wsign-compare]
for(int i=0; i<mec.tCoverVecVec.size(); i++)
^
flowMatch.cpp:55:17: warning: comparison between signed and unsigned integer expressions [-Wsign-compare]
for(int j=0; j<mec.tCoverVecVec[i].size(); j++)
^
g++ -shared -L/home/biocbuild/bbs-3.7-bioc/R/lib -L/usr/local/lib -o flowMatch.so BipartiteGraph.o MinWghtEdgCoverBipartite.o flowMatch.o -L/home/biocbuild/bbs-3.7-bioc/R/lib -lR
installing to /home/biocbuild/bbs-3.7-bioc/R/library/flowMatch/libs
** R
** byte-compile and prepare package for lazy loading
** help
*** installing help indices
** building package indices
** installing vignettes
** testing if installed package can be loaded
* DONE (flowMatch)
flowMatch.Rcheck/flowMatch-Ex.timings
| name | user | system | elapsed | |
| Cluster-class | 0.592 | 0.020 | 0.705 | |
| ClusterMatch-class | 3.716 | 0.008 | 3.729 | |
| ClusteredSample-class | 1.156 | 0.024 | 1.181 | |
| MetaCluster-class | 6.288 | 0.016 | 6.309 | |
| Template-class | 7.340 | 0.016 | 7.362 | |
| create.template | 7.684 | 0.028 | 7.716 | |
| dist.cluster | 0.520 | 0.000 | 0.519 | |
| dist.matrix | 0.860 | 0.000 | 0.861 | |
| dist.sample | 0.912 | 0.000 | 0.911 | |
| dist.template | 3.096 | 0.004 | 3.103 | |
| flowMatch-package | 6.304 | 0.016 | 6.324 | |
| mahalanobis.dist | 0.508 | 0.004 | 0.515 | |
| match.clusters | 3.640 | 0.000 | 3.645 | |
| symmetric.KL | 0.496 | 0.000 | 0.498 | |
| template.tree | 5.872 | 0.008 | 5.885 | |