| Back to Multiple platform build/check report for BioC 3.7 |
|
This page was generated on 2018-10-17 08:29:20 -0400 (Wed, 17 Oct 2018).
| Package 435/1561 | Hostname | OS / Arch | INSTALL | BUILD | CHECK | BUILD BIN | ||||||
| eegc 1.6.1 Xiaoyuan Zhou
| malbec2 | Linux (Ubuntu 16.04.1 LTS) / x86_64 | OK | [ OK ] | WARNINGS | |||||||
| tokay2 | Windows Server 2012 R2 Standard / x64 | OK | OK | TIMEOUT | OK | |||||||
| merida2 | OS X 10.11.6 El Capitan / x86_64 | OK | OK | WARNINGS | OK |
| Package: eegc |
| Version: 1.6.1 |
| Command: /home/biocbuild/bbs-3.7-bioc/R/bin/R CMD build --keep-empty-dirs --no-resave-data eegc |
| StartedAt: 2018-10-15 21:13:43 -0400 (Mon, 15 Oct 2018) |
| EndedAt: 2018-10-15 21:21:19 -0400 (Mon, 15 Oct 2018) |
| EllapsedTime: 455.7 seconds |
| RetCode: 0 |
| Status: OK |
| PackageFile: eegc_1.6.1.tar.gz |
| PackageFileSize: 8.947 MiB |
##############################################################################
##############################################################################
###
### Running command:
###
### /home/biocbuild/bbs-3.7-bioc/R/bin/R CMD build --keep-empty-dirs --no-resave-data eegc
###
##############################################################################
##############################################################################
* checking for file ‘eegc/DESCRIPTION’ ... OK
* preparing ‘eegc’:
* checking DESCRIPTION meta-information ... OK
* installing the package to build vignettes
* creating vignettes ... OK
Warning: ‘inst/doc’ file
‘eegc.pdf’
ignored as vignettes have been rebuilt.
Run R CMD build with --no-build-vignettes to prevent rebuilding.
* checking for LF line-endings in source and make files and shell scripts
* checking for empty or unneeded directories
* looking to see if a ‘data/datalist’ file should be added
* building ‘eegc_1.6.1.tar.gz’