| Back to Multiple platform build/check report for BioC 3.7 | 
  | 
This page was generated on 2018-10-17 08:54:07 -0400 (Wed, 17 Oct 2018).
| Package 291/1561 | Hostname | OS / Arch | INSTALL | BUILD | CHECK | BUILD BIN | ||||||
| coMET 1.12.0 Tiphaine Martin 
  | malbec2 | Linux (Ubuntu 16.04.1 LTS) / x86_64 | OK | OK | OK | |||||||
| tokay2 | Windows Server 2012 R2 Standard / x64 | OK | OK | OK | OK | |||||||
| merida2 | OS X 10.11.6 El Capitan / x86_64 | OK | OK | [ OK ] | OK | 
| Package: coMET | 
| Version: 1.12.0 | 
| Command: /Library/Frameworks/R.framework/Versions/Current/Resources/bin/R CMD check --install=check:coMET.install-out.txt --library=/Library/Frameworks/R.framework/Versions/Current/Resources/library --no-vignettes --timings coMET_1.12.0.tar.gz | 
| StartedAt: 2018-10-16 20:37:32 -0400 (Tue, 16 Oct 2018) | 
| EndedAt: 2018-10-16 20:45:36 -0400 (Tue, 16 Oct 2018) | 
| EllapsedTime: 484.3 seconds | 
| RetCode: 0 | 
| Status: OK | 
| CheckDir: coMET.Rcheck | 
| Warnings: 0 | 
##############################################################################
##############################################################################
###
### Running command:
###
###   /Library/Frameworks/R.framework/Versions/Current/Resources/bin/R CMD check --install=check:coMET.install-out.txt --library=/Library/Frameworks/R.framework/Versions/Current/Resources/library --no-vignettes --timings coMET_1.12.0.tar.gz
###
##############################################################################
##############################################################################
* using log directory ‘/Users/biocbuild/bbs-3.7-bioc/meat/coMET.Rcheck’
* using R version 3.5.1 Patched (2018-07-12 r74967)
* using platform: x86_64-apple-darwin15.6.0 (64-bit)
* using session charset: UTF-8
* using option ‘--no-vignettes’
* checking for file ‘coMET/DESCRIPTION’ ... OK
* checking extension type ... Package
* this is package ‘coMET’ version ‘1.12.0’
* checking package namespace information ... OK
* checking package dependencies ... OK
* checking if this is a source package ... OK
* checking if there is a namespace ... OK
* checking for hidden files and directories ... OK
* checking for portable file names ... OK
* checking for sufficient/correct file permissions ... OK
* checking whether package ‘coMET’ can be installed ... OK
* checking installed package size ... NOTE
  installed size is 18.8Mb
  sub-directories of 1Mb or more:
    data      7.5Mb
    extdata  10.7Mb
* checking package directory ... OK
* checking ‘build’ directory ... OK
* checking DESCRIPTION meta-information ... OK
* checking top-level files ... NOTE
File
  LICENSE
is not mentioned in the DESCRIPTION file.
* checking for left-over files ... OK
* checking index information ... OK
* checking package subdirectories ... OK
* checking R files for non-ASCII characters ... OK
* checking R files for syntax errors ... OK
* checking whether the package can be loaded ... OK
* checking whether the package can be loaded with stated dependencies ... OK
* checking whether the package can be unloaded cleanly ... OK
* checking whether the namespace can be loaded with stated dependencies ... OK
* checking whether the namespace can be unloaded cleanly ... OK
* checking dependencies in R code ... OK
* checking S3 generic/method consistency ... OK
* checking replacement functions ... OK
* checking foreign function calls ... OK
* checking R code for possible problems ... NOTE
draw.plot.annotation : <anonymous>: no visible global function
  definition for 'ggplotGrob'
draw.plot.annotation: no visible global function definition for
  'viewTracks'
draw.plot.annotation: no visible global function definition for
  'trackList'
eQTL: no visible binding for global variable 'chromosome_stop'
eQTL: no visible binding for global variable 'chromosome_start'
eQTL: no visible binding for global variable 'chromosome_name'
eQTL_GTEx: no visible binding for global variable 'snp_pos'
eQTL_GTEx: no visible binding for global variable 'snp_chrom'
eQTL_GTEx: no visible binding for global variable 'gene_start'
eQTL_GTEx: no visible binding for global variable 'gene_stop'
eQTL_GTEx: no visible binding for global variable 'gene_chr'
geneExpression_GTEx: no visible global function definition for 'as'
metQTL: no visible binding for global variable 'chromosome_stop'
metQTL: no visible binding for global variable 'chromosome_start'
metQTL: no visible binding for global variable 'chromosome_name'
psiQTL_GTEx: no visible binding for global variable 'pos_snp'
psiQTL_GTEx: no visible binding for global variable 'chr_snp'
psiQTL_GTEx: no visible binding for global variable 'pos_middle_exon'
psiQTL_GTEx: no visible binding for global variable 'chr_exon'
Undefined global functions or variables:
  as chr_exon chr_snp chromosome_name chromosome_start chromosome_stop
  gene_chr gene_start gene_stop ggplotGrob pos_middle_exon pos_snp
  snp_chrom snp_pos trackList viewTracks
Consider adding
  importFrom("methods", "as")
to your NAMESPACE file (and ensure that your DESCRIPTION Imports field
contains 'methods').
* checking Rd files ... OK
* checking Rd metadata ... OK
* checking Rd cross-references ... OK
* checking for missing documentation entries ... OK
* checking for code/documentation mismatches ... OK
* checking Rd \usage sections ... OK
* checking Rd contents ... OK
* checking for unstated dependencies in examples ... OK
* checking contents of ‘data’ directory ... OK
* checking data for non-ASCII characters ... OK
* checking data for ASCII and uncompressed saves ... OK
* checking sizes of PDF files under ‘inst/doc’ ... OK
* checking files in ‘vignettes’ ... OK
* checking examples ... OK
Examples with CPU or elapsed time > 5s
               user system elapsed
comet.web     5.759  0.112  53.166
coMET-package 5.232  0.126  16.985
* checking for unstated dependencies in ‘tests’ ... OK
* checking tests ...
  Running ‘runTests.R’
 OK
* checking for unstated dependencies in vignettes ... OK
* checking package vignettes in ‘inst/doc’ ... OK
* checking running R code from vignettes ... SKIPPED
* checking re-building of vignette outputs ... SKIPPED
* checking PDF version of manual ... OK
* DONE
Status: 3 NOTEs
See
  ‘/Users/biocbuild/bbs-3.7-bioc/meat/coMET.Rcheck/00check.log’
for details.
coMET.Rcheck/00install.out
############################################################################## ############################################################################## ### ### Running command: ### ### /Library/Frameworks/R.framework/Versions/Current/Resources/bin/R CMD INSTALL coMET ### ############################################################################## ############################################################################## * installing to library ‘/Library/Frameworks/R.framework/Versions/3.5/Resources/library’ * installing *source* package ‘coMET’ ... ** R ** data ** inst ** byte-compile and prepare package for lazy loading ** help *** installing help indices ** building package indices ** installing vignettes ** testing if installed package can be loaded * DONE (coMET)
coMET.Rcheck/tests/runTests.Rout
R version 3.5.1 Patched (2018-07-12 r74967) -- "Feather Spray"
Copyright (C) 2018 The R Foundation for Statistical Computing
Platform: x86_64-apple-darwin15.6.0 (64-bit)
R is free software and comes with ABSOLUTELY NO WARRANTY.
You are welcome to redistribute it under certain conditions.
Type 'license()' or 'licence()' for distribution details.
R is a collaborative project with many contributors.
Type 'contributors()' for more information and
'citation()' on how to cite R or R packages in publications.
Type 'demo()' for some demos, 'help()' for on-line help, or
'help.start()' for an HTML browser interface to help.
Type 'q()' to quit R.
> require("coMET") || stop("unable to load Package:coMET")
Loading required package: coMET
Loading required package: grid
Loading required package: biomaRt
Loading required package: Gviz
Loading required package: S4Vectors
Loading required package: stats4
Loading required package: BiocGenerics
Loading required package: parallel
Attaching package: 'BiocGenerics'
The following objects are masked from 'package:parallel':
    clusterApply, clusterApplyLB, clusterCall, clusterEvalQ,
    clusterExport, clusterMap, parApply, parCapply, parLapply,
    parLapplyLB, parRapply, parSapply, parSapplyLB
The following objects are masked from 'package:stats':
    IQR, mad, sd, var, xtabs
The following objects are masked from 'package:base':
    Filter, Find, Map, Position, Reduce, anyDuplicated, append,
    as.data.frame, basename, cbind, colMeans, colSums, colnames,
    dirname, do.call, duplicated, eval, evalq, get, grep, grepl,
    intersect, is.unsorted, lapply, lengths, mapply, match, mget,
    order, paste, pmax, pmax.int, pmin, pmin.int, rank, rbind,
    rowMeans, rowSums, rownames, sapply, setdiff, sort, table, tapply,
    union, unique, unsplit, which, which.max, which.min
Attaching package: 'S4Vectors'
The following object is masked from 'package:base':
    expand.grid
Loading required package: IRanges
Loading required package: GenomicRanges
Loading required package: GenomeInfoDb
Loading required package: psych
Attaching package: 'psych'
The following object is masked from 'package:IRanges':
    reflect
[1] TRUE
> BiocGenerics:::testPackage("coMET")
RUNIT TEST PROTOCOL -- Tue Oct 16 20:45:29 2018 
*********************************************** 
Number of test functions: 1 
Number of errors: 0 
Number of failures: 0 
 
1 Test Suite : 
coMET RUnit Tests - 1 test function, 0 errors, 0 failures
Number of test functions: 1 
Number of errors: 0 
Number of failures: 0 
> 
> proc.time()
   user  system elapsed 
 15.491   0.723  16.338 
coMET.Rcheck/coMET-Ex.timings
| name | user | system | elapsed | |
| COSMIC_UCSC | 1.831 | 0.031 | 1.872 | |
| ChIPTF_ENCODE | 1.180 | 0.122 | 1.310 | |
| ClinVarCnv_UCSC | 0.577 | 0.061 | 0.643 | |
| ClinVarMain_UCSC | 0.480 | 0.003 | 0.486 | |
| CoreillCNV_UCSC | 0.444 | 0.003 | 0.449 | |
| DNAse_UCSC | 0.552 | 0.005 | 0.562 | |
| DNaseI_FANTOM | 0.565 | 0.011 | 0.582 | |
| DNaseI_RoadMap | 0.261 | 0.011 | 0.274 | |
| GAD_UCSC | 0.405 | 0.005 | 0.413 | |
| GWAScatalog_UCSC | 0.444 | 0.004 | 0.452 | |
| GeneReviews_UCSC | 0.641 | 0.005 | 0.658 | |
| HiCdata2matrix | 0.035 | 0.003 | 0.039 | |
| HistoneAll_UCSC | 4.250 | 0.013 | 4.304 | |
| HistoneOne_UCSC | 0.383 | 0.003 | 0.386 | |
| ISCA_UCSC | 0.458 | 0.004 | 0.462 | |
| TFBS_FANTOM | 0.354 | 0.003 | 0.359 | |
| bindingMotifsBiomart_ENSEMBL | 0.265 | 0.007 | 0.274 | |
| chrUCSC2ENSEMBL | 0.001 | 0.000 | 0.001 | |
| chromHMM_RoadMap | 0.703 | 0.007 | 0.715 | |
| chromatinHMMAll_UCSC | 4.905 | 0.013 | 4.940 | |
| chromatinHMMOne_UCSC | 0.544 | 0.003 | 0.547 | |
| coMET-package | 5.232 | 0.126 | 16.985 | |
| comet | 3.427 | 0.045 | 3.507 | |
| comet.list | 1.244 | 0.019 | 1.276 | |
| comet.web | 5.759 | 0.112 | 53.166 | |
| cpgIslands_UCSC | 0.207 | 0.002 | 0.211 | |
| dgfootprints_RoadMap | 0.968 | 0.024 | 1.002 | |
| eQTL | 1.331 | 0.008 | 1.356 | |
| eQTL_GTEx | 1.509 | 0.007 | 1.536 | |
| gcContent_UCSC | 1.313 | 0.007 | 1.338 | |
| genesName_ENSEMBL | 0.007 | 0.003 | 0.011 | |
| genes_ENSEMBL | 0.943 | 0.009 | 0.962 | |
| imprintedGenes_GTEx | 4.082 | 0.029 | 4.403 | |
| interestGenes_ENSEMBL | 0.795 | 0.007 | 0.815 | |
| interestTranscript_ENSEMBL | 0.907 | 0.011 | 0.927 | |
| knownGenes_UCSC | 1.034 | 0.004 | 1.044 | |
| metQTL | 1.340 | 0.009 | 1.359 | |
| miRNATargetRegionsBiomart_ENSEMBL | 0.090 | 0.002 | 0.092 | |
| otherRegulatoryRegionsBiomart_ENSEMBL | 0.177 | 0.009 | 0.185 | |
| psiQTL_GTEx | 1.282 | 0.007 | 1.299 | |
| refGenes_UCSC | 1.153 | 0.004 | 1.165 | |
| regulationBiomart_ENSEMBL | 0.418 | 0.003 | 0.424 | |
| regulatoryEvidenceBiomart_ENSEMBL | 0.257 | 0.008 | 0.268 | |
| regulatoryFeaturesBiomart_ENSEMBL | 0.284 | 0.008 | 0.296 | |
| regulatorySegmentsBiomart_ENSEMBL | 0.257 | 0.007 | 0.268 | |
| repeatMasker_UCSC | 0.609 | 0.003 | 0.621 | |
| segmentalDups_UCSC | 0.538 | 0.030 | 0.576 | |
| snpBiomart_ENSEMBL | 0.494 | 0.004 | 0.502 | |
| snpLocations_UCSC | 1.240 | 0.028 | 1.277 | |
| structureBiomart_ENSEMBL | 0.488 | 0.002 | 0.495 | |
| transcript_ENSEMBL | 2.029 | 0.016 | 2.066 | |
| xenorefGenes_UCSC | 0.708 | 0.003 | 0.715 | |