| Back to Multiple platform build/check report for BioC 3.7 |
|
This page was generated on 2018-10-17 08:27:05 -0400 (Wed, 17 Oct 2018).
| Package 291/1561 | Hostname | OS / Arch | INSTALL | BUILD | CHECK | BUILD BIN | ||||||
| coMET 1.12.0 Tiphaine Martin
| malbec2 | Linux (Ubuntu 16.04.1 LTS) / x86_64 | OK | OK | [ OK ] | |||||||
| tokay2 | Windows Server 2012 R2 Standard / x64 | OK | OK | OK | OK | |||||||
| merida2 | OS X 10.11.6 El Capitan / x86_64 | OK | OK | OK | OK |
| Package: coMET |
| Version: 1.12.0 |
| Command: /home/biocbuild/bbs-3.7-bioc/R/bin/R CMD check --install=check:coMET.install-out.txt --library=/home/biocbuild/bbs-3.7-bioc/R/library --no-vignettes --timings coMET_1.12.0.tar.gz |
| StartedAt: 2018-10-15 23:25:58 -0400 (Mon, 15 Oct 2018) |
| EndedAt: 2018-10-15 23:32:19 -0400 (Mon, 15 Oct 2018) |
| EllapsedTime: 380.5 seconds |
| RetCode: 0 |
| Status: OK |
| CheckDir: coMET.Rcheck |
| Warnings: 0 |
##############################################################################
##############################################################################
###
### Running command:
###
### /home/biocbuild/bbs-3.7-bioc/R/bin/R CMD check --install=check:coMET.install-out.txt --library=/home/biocbuild/bbs-3.7-bioc/R/library --no-vignettes --timings coMET_1.12.0.tar.gz
###
##############################################################################
##############################################################################
* using log directory ‘/home/biocbuild/bbs-3.7-bioc/meat/coMET.Rcheck’
* using R version 3.5.1 Patched (2018-07-12 r74967)
* using platform: x86_64-pc-linux-gnu (64-bit)
* using session charset: UTF-8
* using option ‘--no-vignettes’
* checking for file ‘coMET/DESCRIPTION’ ... OK
* checking extension type ... Package
* this is package ‘coMET’ version ‘1.12.0’
* checking package namespace information ... OK
* checking package dependencies ... OK
* checking if this is a source package ... OK
* checking if there is a namespace ... OK
* checking for hidden files and directories ... OK
* checking for portable file names ... OK
* checking for sufficient/correct file permissions ... OK
* checking whether package ‘coMET’ can be installed ... OK
* checking installed package size ... NOTE
installed size is 18.9Mb
sub-directories of 1Mb or more:
data 7.5Mb
extdata 10.7Mb
* checking package directory ... OK
* checking ‘build’ directory ... OK
* checking DESCRIPTION meta-information ... OK
* checking top-level files ... NOTE
File
LICENSE
is not mentioned in the DESCRIPTION file.
* checking for left-over files ... OK
* checking index information ... OK
* checking package subdirectories ... OK
* checking R files for non-ASCII characters ... OK
* checking R files for syntax errors ... OK
* checking whether the package can be loaded ... OK
* checking whether the package can be loaded with stated dependencies ... OK
* checking whether the package can be unloaded cleanly ... OK
* checking whether the namespace can be loaded with stated dependencies ... OK
* checking whether the namespace can be unloaded cleanly ... OK
* checking dependencies in R code ... OK
* checking S3 generic/method consistency ... OK
* checking replacement functions ... OK
* checking foreign function calls ... OK
* checking R code for possible problems ... NOTE
draw.plot.annotation : <anonymous>: no visible global function
definition for 'ggplotGrob'
draw.plot.annotation: no visible global function definition for
'viewTracks'
draw.plot.annotation: no visible global function definition for
'trackList'
eQTL: no visible binding for global variable 'chromosome_stop'
eQTL: no visible binding for global variable 'chromosome_start'
eQTL: no visible binding for global variable 'chromosome_name'
eQTL_GTEx: no visible binding for global variable 'snp_pos'
eQTL_GTEx: no visible binding for global variable 'snp_chrom'
eQTL_GTEx: no visible binding for global variable 'gene_start'
eQTL_GTEx: no visible binding for global variable 'gene_stop'
eQTL_GTEx: no visible binding for global variable 'gene_chr'
geneExpression_GTEx: no visible global function definition for 'as'
metQTL: no visible binding for global variable 'chromosome_stop'
metQTL: no visible binding for global variable 'chromosome_start'
metQTL: no visible binding for global variable 'chromosome_name'
psiQTL_GTEx: no visible binding for global variable 'pos_snp'
psiQTL_GTEx: no visible binding for global variable 'chr_snp'
psiQTL_GTEx: no visible binding for global variable 'pos_middle_exon'
psiQTL_GTEx: no visible binding for global variable 'chr_exon'
Undefined global functions or variables:
as chr_exon chr_snp chromosome_name chromosome_start chromosome_stop
gene_chr gene_start gene_stop ggplotGrob pos_middle_exon pos_snp
snp_chrom snp_pos trackList viewTracks
Consider adding
importFrom("methods", "as")
to your NAMESPACE file (and ensure that your DESCRIPTION Imports field
contains 'methods').
* checking Rd files ... OK
* checking Rd metadata ... OK
* checking Rd cross-references ... OK
* checking for missing documentation entries ... OK
* checking for code/documentation mismatches ... OK
* checking Rd \usage sections ... OK
* checking Rd contents ... OK
* checking for unstated dependencies in examples ... OK
* checking contents of ‘data’ directory ... OK
* checking data for non-ASCII characters ... OK
* checking data for ASCII and uncompressed saves ... OK
* checking files in ‘vignettes’ ... OK
* checking examples ... OK
Examples with CPU or elapsed time > 5s
user system elapsed
comet.web 5.268 0.032 67.699
coMET-package 4.104 0.020 28.260
* checking for unstated dependencies in ‘tests’ ... OK
* checking tests ...
Running ‘runTests.R’
OK
* checking for unstated dependencies in vignettes ... OK
* checking package vignettes in ‘inst/doc’ ... OK
* checking running R code from vignettes ... SKIPPED
* checking re-building of vignette outputs ... SKIPPED
* checking PDF version of manual ... OK
* DONE
Status: 3 NOTEs
See
‘/home/biocbuild/bbs-3.7-bioc/meat/coMET.Rcheck/00check.log’
for details.
coMET.Rcheck/00install.out
############################################################################## ############################################################################## ### ### Running command: ### ### /home/biocbuild/bbs-3.7-bioc/R/bin/R CMD INSTALL coMET ### ############################################################################## ############################################################################## * installing to library ‘/home/biocbuild/bbs-3.7-bioc/R/library’ * installing *source* package ‘coMET’ ... ** R ** data ** inst ** byte-compile and prepare package for lazy loading ** help *** installing help indices ** building package indices ** installing vignettes ** testing if installed package can be loaded * DONE (coMET)
coMET.Rcheck/tests/runTests.Rout
R version 3.5.1 Patched (2018-07-12 r74967) -- "Feather Spray"
Copyright (C) 2018 The R Foundation for Statistical Computing
Platform: x86_64-pc-linux-gnu (64-bit)
R is free software and comes with ABSOLUTELY NO WARRANTY.
You are welcome to redistribute it under certain conditions.
Type 'license()' or 'licence()' for distribution details.
R is a collaborative project with many contributors.
Type 'contributors()' for more information and
'citation()' on how to cite R or R packages in publications.
Type 'demo()' for some demos, 'help()' for on-line help, or
'help.start()' for an HTML browser interface to help.
Type 'q()' to quit R.
> require("coMET") || stop("unable to load Package:coMET")
Loading required package: coMET
Loading required package: grid
Loading required package: biomaRt
Loading required package: Gviz
Loading required package: S4Vectors
Loading required package: stats4
Loading required package: BiocGenerics
Loading required package: parallel
Attaching package: 'BiocGenerics'
The following objects are masked from 'package:parallel':
clusterApply, clusterApplyLB, clusterCall, clusterEvalQ,
clusterExport, clusterMap, parApply, parCapply, parLapply,
parLapplyLB, parRapply, parSapply, parSapplyLB
The following objects are masked from 'package:stats':
IQR, mad, sd, var, xtabs
The following objects are masked from 'package:base':
Filter, Find, Map, Position, Reduce, anyDuplicated, append,
as.data.frame, basename, cbind, colMeans, colSums, colnames,
dirname, do.call, duplicated, eval, evalq, get, grep, grepl,
intersect, is.unsorted, lapply, lengths, mapply, match, mget,
order, paste, pmax, pmax.int, pmin, pmin.int, rank, rbind,
rowMeans, rowSums, rownames, sapply, setdiff, sort, table, tapply,
union, unique, unsplit, which, which.max, which.min
Attaching package: 'S4Vectors'
The following object is masked from 'package:base':
expand.grid
Loading required package: IRanges
Loading required package: GenomicRanges
Loading required package: GenomeInfoDb
Loading required package: psych
Attaching package: 'psych'
The following object is masked from 'package:IRanges':
reflect
[1] TRUE
> BiocGenerics:::testPackage("coMET")
RUNIT TEST PROTOCOL -- Mon Oct 15 23:32:15 2018
***********************************************
Number of test functions: 1
Number of errors: 0
Number of failures: 0
1 Test Suite :
coMET RUnit Tests - 1 test function, 0 errors, 0 failures
Number of test functions: 1
Number of errors: 0
Number of failures: 0
>
> proc.time()
user system elapsed
10.844 0.336 11.205
coMET.Rcheck/coMET-Ex.timings
| name | user | system | elapsed | |
| COSMIC_UCSC | 1.656 | 0.028 | 1.690 | |
| ChIPTF_ENCODE | 0.688 | 0.012 | 0.717 | |
| ClinVarCnv_UCSC | 0.316 | 0.000 | 0.333 | |
| ClinVarMain_UCSC | 0.324 | 0.000 | 0.320 | |
| CoreillCNV_UCSC | 0.328 | 0.000 | 0.331 | |
| DNAse_UCSC | 0.360 | 0.000 | 0.361 | |
| DNaseI_FANTOM | 0.420 | 0.000 | 0.425 | |
| DNaseI_RoadMap | 0.316 | 0.000 | 0.317 | |
| GAD_UCSC | 0.332 | 0.000 | 0.333 | |
| GWAScatalog_UCSC | 0.276 | 0.000 | 0.277 | |
| GeneReviews_UCSC | 0.432 | 0.000 | 0.431 | |
| HiCdata2matrix | 0.024 | 0.000 | 0.037 | |
| HistoneAll_UCSC | 3.028 | 0.004 | 3.034 | |
| HistoneOne_UCSC | 0.284 | 0.000 | 0.285 | |
| ISCA_UCSC | 0.312 | 0.000 | 0.310 | |
| TFBS_FANTOM | 0.276 | 0.004 | 0.295 | |
| bindingMotifsBiomart_ENSEMBL | 0.196 | 0.008 | 0.207 | |
| chrUCSC2ENSEMBL | 0.004 | 0.000 | 0.001 | |
| chromHMM_RoadMap | 0.692 | 0.004 | 0.699 | |
| chromatinHMMAll_UCSC | 3.436 | 0.008 | 3.452 | |
| chromatinHMMOne_UCSC | 0.528 | 0.004 | 0.533 | |
| coMET-package | 4.104 | 0.020 | 28.260 | |
| comet | 2.432 | 0.016 | 2.452 | |
| comet.list | 0.744 | 0.000 | 0.744 | |
| comet.web | 5.268 | 0.032 | 67.699 | |
| cpgIslands_UCSC | 0.228 | 0.000 | 0.235 | |
| dgfootprints_RoadMap | 0.844 | 0.012 | 0.860 | |
| eQTL | 1.088 | 0.000 | 1.091 | |
| eQTL_GTEx | 1.132 | 0.000 | 1.134 | |
| gcContent_UCSC | 1.352 | 0.004 | 1.366 | |
| genesName_ENSEMBL | 0.004 | 0.000 | 0.020 | |
| genes_ENSEMBL | 0.656 | 0.000 | 0.660 | |
| imprintedGenes_GTEx | 2.944 | 0.004 | 3.505 | |
| interestGenes_ENSEMBL | 0.488 | 0.000 | 0.513 | |
| interestTranscript_ENSEMBL | 0.608 | 0.000 | 0.611 | |
| knownGenes_UCSC | 0.732 | 0.000 | 0.731 | |
| metQTL | 0.952 | 0.000 | 0.955 | |
| miRNATargetRegionsBiomart_ENSEMBL | 0.056 | 0.000 | 0.058 | |
| otherRegulatoryRegionsBiomart_ENSEMBL | 0.116 | 0.004 | 0.121 | |
| psiQTL_GTEx | 1.648 | 0.000 | 1.650 | |
| refGenes_UCSC | 0.724 | 0.000 | 0.724 | |
| regulationBiomart_ENSEMBL | 0.264 | 0.000 | 0.265 | |
| regulatoryEvidenceBiomart_ENSEMBL | 0.192 | 0.000 | 0.192 | |
| regulatoryFeaturesBiomart_ENSEMBL | 0.192 | 0.008 | 0.199 | |
| regulatorySegmentsBiomart_ENSEMBL | 0.184 | 0.000 | 0.201 | |
| repeatMasker_UCSC | 0.548 | 0.000 | 0.549 | |
| segmentalDups_UCSC | 0.336 | 0.000 | 0.358 | |
| snpBiomart_ENSEMBL | 0.360 | 0.000 | 0.359 | |
| snpLocations_UCSC | 0.868 | 0.004 | 0.871 | |
| structureBiomart_ENSEMBL | 0.340 | 0.000 | 0.343 | |
| transcript_ENSEMBL | 1.368 | 0.004 | 1.384 | |
| xenorefGenes_UCSC | 0.468 | 0.000 | 0.472 | |