| Back to Multiple platform build/check report for BioC 3.7 |
|
This page was generated on 2018-10-17 08:34:24 -0400 (Wed, 17 Oct 2018).
| Package 253/1561 | Hostname | OS / Arch | INSTALL | BUILD | CHECK | BUILD BIN | ||||||
| clippda 1.30.0 Stephen Nyangoma
| malbec2 | Linux (Ubuntu 16.04.1 LTS) / x86_64 | OK | OK | WARNINGS | |||||||
| tokay2 | Windows Server 2012 R2 Standard / x64 | [ OK ] | OK | WARNINGS | OK | |||||||
| merida2 | OS X 10.11.6 El Capitan / x86_64 | OK | OK | WARNINGS | OK |
| Package: clippda |
| Version: 1.30.0 |
| Command: C:\cygwin\bin\curl.exe -O https://malbec2.bioconductor.org/BBS/3.7/bioc/src/contrib/clippda_1.30.0.tar.gz && rm -rf clippda.buildbin-libdir && mkdir clippda.buildbin-libdir && C:\Users\biocbuild\bbs-3.7-bioc\R\bin\R.exe CMD INSTALL --merge-multiarch --build --library=clippda.buildbin-libdir clippda_1.30.0.tar.gz && C:\Users\biocbuild\bbs-3.7-bioc\R\bin\R.exe CMD INSTALL clippda_1.30.0.zip && rm clippda_1.30.0.tar.gz clippda_1.30.0.zip |
| StartedAt: 2018-10-16 19:51:20 -0400 (Tue, 16 Oct 2018) |
| EndedAt: 2018-10-16 19:51:58 -0400 (Tue, 16 Oct 2018) |
| EllapsedTime: 38.0 seconds |
| RetCode: 0 |
| Status: OK |
##############################################################################
##############################################################################
###
### Running command:
###
### C:\cygwin\bin\curl.exe -O https://malbec2.bioconductor.org/BBS/3.7/bioc/src/contrib/clippda_1.30.0.tar.gz && rm -rf clippda.buildbin-libdir && mkdir clippda.buildbin-libdir && C:\Users\biocbuild\bbs-3.7-bioc\R\bin\R.exe CMD INSTALL --merge-multiarch --build --library=clippda.buildbin-libdir clippda_1.30.0.tar.gz && C:\Users\biocbuild\bbs-3.7-bioc\R\bin\R.exe CMD INSTALL clippda_1.30.0.zip && rm clippda_1.30.0.tar.gz clippda_1.30.0.zip
###
##############################################################################
##############################################################################
% Total % Received % Xferd Average Speed Time Time Time Current
Dload Upload Total Spent Left Speed
0 0 0 0 0 0 0 0 --:--:-- --:--:-- --:--:-- 0
100 420k 100 420k 0 0 8579k 0 --:--:-- --:--:-- --:--:-- 9768k
install for i386
* installing *source* package 'clippda' ...
** R
** data
** inst
** byte-compile and prepare package for lazy loading
** help
*** installing help indices
converting help for package 'clippda'
finding HTML links ... done
ZvaluescasesVcontrolsPlots html
ZvaluesfrommultinomPlots html
aclinicalProteomicsData-class html
aclinicalProteomicsData-methods html
betweensampleVariance-methods html
betweensampleVariance html
checkNo.replicates html
clippda-package html
f html
fisherInformation-methods html
fisherInformation html
liverRawData html
liver_pheno html
liverdata html
mostSimilarTwo html
negativeIntensitiesCorrection html
phenoDataFrame html
pheno_urine html
preProcRepeatedPeakData html
proteomicsExprsData-methods html
proteomicsExprsData html
proteomicspData-methods html
proteomicspData html
replicateCorrelations-methods html
replicateCorrelations html
sampleClusteredData html
sampleSize-methods html
sampleSize html
sampleSize3DscatterPlots html
sampleSizeContourPlots html
sampleSizeParameters-methods html
sampleSizeParameters html
sample_technicalVariance-methods html
sample_technicalVariance html
show-methods html
spectrumFilter html
ztwo html
** building package indices
** installing vignettes
** testing if installed package can be loaded
In R CMD INSTALL
install for x64
* installing *source* package 'clippda' ...
** testing if installed package can be loaded
* MD5 sums
packaged installation of 'clippda' as clippda_1.30.0.zip
* DONE (clippda)
In R CMD INSTALL
In R CMD INSTALL
* installing to library 'C:/Users/biocbuild/bbs-3.7-bioc/R/library'
package 'clippda' successfully unpacked and MD5 sums checked
In R CMD INSTALL