| Back to Multiple platform build/check report for BioC 3.7 |
|
This page was generated on 2018-10-17 08:51:57 -0400 (Wed, 17 Oct 2018).
| Package 229/1561 | Hostname | OS / Arch | INSTALL | BUILD | CHECK | BUILD BIN | ||||||
| chipenrich 2.4.0 Raymond G. Cavalcante
| malbec2 | Linux (Ubuntu 16.04.1 LTS) / x86_64 | OK | OK | OK | |||||||
| tokay2 | Windows Server 2012 R2 Standard / x64 | OK | OK | OK | OK | |||||||
| merida2 | OS X 10.11.6 El Capitan / x86_64 | OK | OK | OK | [ OK ] |
| Package: chipenrich |
| Version: 2.4.0 |
| Command: rm -rf chipenrich.buildbin-libdir && mkdir chipenrich.buildbin-libdir && /Users/biocbuild/BBS/utils/build-universal.sh chipenrich_2.4.0.tar.gz /Library/Frameworks/R.framework/Versions/Current/Resources/bin/R chipenrich.buildbin-libdir |
| StartedAt: 2018-10-17 01:04:15 -0400 (Wed, 17 Oct 2018) |
| EndedAt: 2018-10-17 01:05:34 -0400 (Wed, 17 Oct 2018) |
| EllapsedTime: 79.2 seconds |
| RetCode: 0 |
| Status: OK |
| PackageFile: chipenrich_2.4.0.tgz |
| PackageFileSize: 985.3 KiB |
############################################################################## ############################################################################## ### ### Running command: ### ### rm -rf chipenrich.buildbin-libdir && mkdir chipenrich.buildbin-libdir && /Users/biocbuild/BBS/utils/build-universal.sh chipenrich_2.4.0.tar.gz /Library/Frameworks/R.framework/Versions/Current/Resources/bin/R chipenrich.buildbin-libdir ### ############################################################################## ############################################################################## >>>>>>> >>>>>>> INSTALLATION WITH 'R CMD INSTALL --preclean --no-multiarch --library=chipenrich.buildbin-libdir chipenrich_2.4.0.tar.gz' >>>>>>> * installing *source* package ‘chipenrich’ ... ** R ** inst ** byte-compile and prepare package for lazy loading ** help *** installing help indices ** building package indices ** installing vignettes ** testing if installed package can be loaded * DONE (chipenrich)