| Back to Multiple platform build/check report for BioC 3.7 |
|
This page was generated on 2018-10-17 08:25:28 -0400 (Wed, 17 Oct 2018).
| Package 229/1561 | Hostname | OS / Arch | INSTALL | BUILD | CHECK | BUILD BIN | ||||||
| chipenrich 2.4.0 Raymond G. Cavalcante
| malbec2 | Linux (Ubuntu 16.04.1 LTS) / x86_64 | OK | OK | [ OK ] | |||||||
| tokay2 | Windows Server 2012 R2 Standard / x64 | OK | OK | OK | OK | |||||||
| merida2 | OS X 10.11.6 El Capitan / x86_64 | OK | OK | OK | OK |
| Package: chipenrich |
| Version: 2.4.0 |
| Command: /home/biocbuild/bbs-3.7-bioc/R/bin/R CMD check --install=check:chipenrich.install-out.txt --library=/home/biocbuild/bbs-3.7-bioc/R/library --no-vignettes --timings chipenrich_2.4.0.tar.gz |
| StartedAt: 2018-10-15 23:08:04 -0400 (Mon, 15 Oct 2018) |
| EndedAt: 2018-10-15 23:13:40 -0400 (Mon, 15 Oct 2018) |
| EllapsedTime: 335.8 seconds |
| RetCode: 0 |
| Status: OK |
| CheckDir: chipenrich.Rcheck |
| Warnings: 0 |
##############################################################################
##############################################################################
###
### Running command:
###
### /home/biocbuild/bbs-3.7-bioc/R/bin/R CMD check --install=check:chipenrich.install-out.txt --library=/home/biocbuild/bbs-3.7-bioc/R/library --no-vignettes --timings chipenrich_2.4.0.tar.gz
###
##############################################################################
##############################################################################
* using log directory ‘/home/biocbuild/bbs-3.7-bioc/meat/chipenrich.Rcheck’
* using R version 3.5.1 Patched (2018-07-12 r74967)
* using platform: x86_64-pc-linux-gnu (64-bit)
* using session charset: UTF-8
* using option ‘--no-vignettes’
* checking for file ‘chipenrich/DESCRIPTION’ ... OK
* checking extension type ... Package
* this is package ‘chipenrich’ version ‘2.4.0’
* checking package namespace information ... OK
* checking package dependencies ... OK
* checking if this is a source package ... OK
* checking if there is a namespace ... OK
* checking for hidden files and directories ... OK
* checking for portable file names ... OK
* checking for sufficient/correct file permissions ... OK
* checking whether package ‘chipenrich’ can be installed ... OK
* checking installed package size ... OK
* checking package directory ... OK
* checking ‘build’ directory ... OK
* checking DESCRIPTION meta-information ... OK
* checking top-level files ... OK
* checking for left-over files ... OK
* checking index information ... OK
* checking package subdirectories ... OK
* checking R files for non-ASCII characters ... OK
* checking R files for syntax errors ... OK
* checking whether the package can be loaded ... OK
* checking whether the package can be loaded with stated dependencies ... OK
* checking whether the package can be unloaded cleanly ... OK
* checking whether the namespace can be loaded with stated dependencies ... OK
* checking whether the namespace can be unloaded cleanly ... OK
* checking dependencies in R code ... OK
* checking S3 generic/method consistency ... OK
* checking replacement functions ... OK
* checking foreign function calls ... OK
* checking R code for possible problems ... OK
* checking Rd files ... OK
* checking Rd metadata ... OK
* checking Rd cross-references ... OK
* checking for missing documentation entries ... OK
* checking for code/documentation mismatches ... OK
* checking Rd \usage sections ... OK
* checking Rd contents ... OK
* checking for unstated dependencies in examples ... OK
* checking installed files from ‘inst/doc’ ... OK
* checking files in ‘vignettes’ ... OK
* checking examples ... OK
Examples with CPU or elapsed time > 5s
user system elapsed
broadenrich 6.192 0.012 6.228
polyenrich 5.840 0.000 5.843
* checking for unstated dependencies in ‘tests’ ... OK
* checking tests ...
Running ‘testthat.R’
OK
* checking for unstated dependencies in vignettes ... OK
* checking package vignettes in ‘inst/doc’ ... OK
* checking running R code from vignettes ... SKIPPED
* checking re-building of vignette outputs ... SKIPPED
* checking PDF version of manual ... OK
* DONE
Status: OK
chipenrich.Rcheck/00install.out
############################################################################## ############################################################################## ### ### Running command: ### ### /home/biocbuild/bbs-3.7-bioc/R/bin/R CMD INSTALL chipenrich ### ############################################################################## ############################################################################## * installing to library ‘/home/biocbuild/bbs-3.7-bioc/R/library’ * installing *source* package ‘chipenrich’ ... ** R ** inst ** byte-compile and prepare package for lazy loading ** help *** installing help indices ** building package indices ** installing vignettes ** testing if installed package can be loaded * DONE (chipenrich)
chipenrich.Rcheck/tests/testthat.Rout
R version 3.5.1 Patched (2018-07-12 r74967) -- "Feather Spray"
Copyright (C) 2018 The R Foundation for Statistical Computing
Platform: x86_64-pc-linux-gnu (64-bit)
R is free software and comes with ABSOLUTELY NO WARRANTY.
You are welcome to redistribute it under certain conditions.
Type 'license()' or 'licence()' for distribution details.
R is a collaborative project with many contributors.
Type 'contributors()' for more information and
'citation()' on how to cite R or R packages in publications.
Type 'demo()' for some demos, 'help()' for on-line help, or
'help.start()' for an HTML browser interface to help.
Type 'q()' to quit R.
> library(testthat)
> library(chipenrich)
>
> test_check("chipenrich")
══ testthat results ═══════════════════════════════════════════════════════════
OK: 194 SKIPPED: 0 FAILED: 0
>
> proc.time()
user system elapsed
133.828 0.520 135.210
chipenrich.Rcheck/chipenrich-Ex.timings
| name | user | system | elapsed | |
| assign_peak_segments | 0.204 | 0.036 | 0.286 | |
| assign_peaks | 0.404 | 0.008 | 0.414 | |
| broadenrich | 6.192 | 0.012 | 6.228 | |
| calc_peak_gene_overlap | 0.304 | 0.000 | 0.305 | |
| chipenrich | 1.336 | 0.000 | 1.386 | |
| load_peaks | 0.048 | 0.004 | 0.049 | |
| num_peaks_per_gene | 0.384 | 0.000 | 0.385 | |
| peaks2genes | 0.428 | 0.000 | 0.430 | |
| plot_chipenrich_spline | 1.912 | 0.004 | 1.936 | |
| plot_dist_to_tss | 0.264 | 0.000 | 0.266 | |
| plot_gene_coverage | 0.780 | 0.000 | 0.778 | |
| plot_polyenrich_spline | 2.420 | 0.016 | 2.438 | |
| polyenrich | 5.840 | 0.000 | 5.843 | |
| read_bed | 0.188 | 0.008 | 0.205 | |
| supported_genesets | 0.004 | 0.000 | 0.006 | |
| supported_genomes | 0.004 | 0.000 | 0.002 | |
| supported_locusdefs | 0.008 | 0.000 | 0.006 | |
| supported_methods | 0.000 | 0.000 | 0.001 | |
| supported_read_lengths | 0.004 | 0.000 | 0.005 | |