| Back to Multiple platform build/check report for BioC 3.7 |
|
This page was generated on 2018-10-17 08:37:46 -0400 (Wed, 17 Oct 2018).
| Package 121/1561 | Hostname | OS / Arch | INSTALL | BUILD | CHECK | BUILD BIN | ||||||
| bioassayR 1.18.0 Tyler Backman
| malbec2 | Linux (Ubuntu 16.04.1 LTS) / x86_64 | OK | OK | OK | |||||||
| tokay2 | Windows Server 2012 R2 Standard / x64 | [ OK ] | OK | OK | OK | |||||||
| merida2 | OS X 10.11.6 El Capitan / x86_64 | OK | OK | OK | OK |
| Package: bioassayR |
| Version: 1.18.0 |
| Command: C:\cygwin\bin\curl.exe -O https://malbec2.bioconductor.org/BBS/3.7/bioc/src/contrib/bioassayR_1.18.0.tar.gz && rm -rf bioassayR.buildbin-libdir && mkdir bioassayR.buildbin-libdir && C:\Users\biocbuild\bbs-3.7-bioc\R\bin\R.exe CMD INSTALL --merge-multiarch --build --library=bioassayR.buildbin-libdir bioassayR_1.18.0.tar.gz && C:\Users\biocbuild\bbs-3.7-bioc\R\bin\R.exe CMD INSTALL bioassayR_1.18.0.zip && rm bioassayR_1.18.0.tar.gz bioassayR_1.18.0.zip |
| StartedAt: 2018-10-16 19:06:16 -0400 (Tue, 16 Oct 2018) |
| EndedAt: 2018-10-16 19:07:08 -0400 (Tue, 16 Oct 2018) |
| EllapsedTime: 51.5 seconds |
| RetCode: 0 |
| Status: OK |
##############################################################################
##############################################################################
###
### Running command:
###
### C:\cygwin\bin\curl.exe -O https://malbec2.bioconductor.org/BBS/3.7/bioc/src/contrib/bioassayR_1.18.0.tar.gz && rm -rf bioassayR.buildbin-libdir && mkdir bioassayR.buildbin-libdir && C:\Users\biocbuild\bbs-3.7-bioc\R\bin\R.exe CMD INSTALL --merge-multiarch --build --library=bioassayR.buildbin-libdir bioassayR_1.18.0.tar.gz && C:\Users\biocbuild\bbs-3.7-bioc\R\bin\R.exe CMD INSTALL bioassayR_1.18.0.zip && rm bioassayR_1.18.0.tar.gz bioassayR_1.18.0.zip
###
##############################################################################
##############################################################################
% Total % Received % Xferd Average Speed Time Time Time Current
Dload Upload Total Spent Left Speed
0 0 0 0 0 0 0 0 --:--:-- --:--:-- --:--:-- 0
100 305k 100 305k 0 0 5139k 0 --:--:-- --:--:-- --:--:-- 5769k
install for i386
* installing *source* package 'bioassayR' ...
** R
** data
** inst
** byte-compile and prepare package for lazy loading
Creating a new generic function for 'organism' in package 'bioassayR'
Creating a new generic function for 'organism<-' in package 'bioassayR'
** help
*** installing help indices
converting help for package 'bioassayR'
finding HTML links ... done
BioAssayDB-class html
activeAgainst html
activeTargets html
addBioassayIndex html
addDataSource html
allCids html
allTargets html
assaySetTargets html
bioactivityFingerprint html
bioassay-class html
bioassaySet-class html
connectBioassayDB html
crossReactivityProbability html
disconnectBioassayDB html
dropBioassay html
dropBioassayIndex html
getAssay html
getAssays html
getBioassaySetByCids html
inactiveTargets html
loadBioassay html
loadIdMapping html
newBioassayDB html
parsePubChemBioassay html
perTargetMatrix html
queryBioassayDB html
samplebioassay html
scaleBioassaySet html
screenedAtLeast html
selectiveAgainst html
targetSelectivity html
translateTargetId html
trinarySimilarity html
** building package indices
** installing vignettes
** testing if installed package can be loaded
In R CMD INSTALL
install for x64
* installing *source* package 'bioassayR' ...
** testing if installed package can be loaded
* MD5 sums
packaged installation of 'bioassayR' as bioassayR_1.18.0.zip
* DONE (bioassayR)
In R CMD INSTALL
In R CMD INSTALL
* installing to library 'C:/Users/biocbuild/bbs-3.7-bioc/R/library'
package 'bioassayR' successfully unpacked and MD5 sums checked
In R CMD INSTALL