| Back to Multiple platform build/check report for BioC 3.7 |
|
This page was generated on 2018-10-17 08:52:04 -0400 (Wed, 17 Oct 2018).
| Package 121/1561 | Hostname | OS / Arch | INSTALL | BUILD | CHECK | BUILD BIN | ||||||
| bioassayR 1.18.0 Tyler Backman
| malbec2 | Linux (Ubuntu 16.04.1 LTS) / x86_64 | OK | OK | OK | |||||||
| tokay2 | Windows Server 2012 R2 Standard / x64 | OK | OK | OK | OK | |||||||
| merida2 | OS X 10.11.6 El Capitan / x86_64 | OK | OK | [ OK ] | OK |
| Package: bioassayR |
| Version: 1.18.0 |
| Command: /Library/Frameworks/R.framework/Versions/Current/Resources/bin/R CMD check --install=check:bioassayR.install-out.txt --library=/Library/Frameworks/R.framework/Versions/Current/Resources/library --no-vignettes --timings bioassayR_1.18.0.tar.gz |
| StartedAt: 2018-10-16 20:04:46 -0400 (Tue, 16 Oct 2018) |
| EndedAt: 2018-10-16 20:06:24 -0400 (Tue, 16 Oct 2018) |
| EllapsedTime: 97.1 seconds |
| RetCode: 0 |
| Status: OK |
| CheckDir: bioassayR.Rcheck |
| Warnings: 0 |
############################################################################## ############################################################################## ### ### Running command: ### ### /Library/Frameworks/R.framework/Versions/Current/Resources/bin/R CMD check --install=check:bioassayR.install-out.txt --library=/Library/Frameworks/R.framework/Versions/Current/Resources/library --no-vignettes --timings bioassayR_1.18.0.tar.gz ### ############################################################################## ############################################################################## * using log directory ‘/Users/biocbuild/bbs-3.7-bioc/meat/bioassayR.Rcheck’ * using R version 3.5.1 Patched (2018-07-12 r74967) * using platform: x86_64-apple-darwin15.6.0 (64-bit) * using session charset: UTF-8 * using option ‘--no-vignettes’ * checking for file ‘bioassayR/DESCRIPTION’ ... OK * checking extension type ... Package * this is package ‘bioassayR’ version ‘1.18.0’ * checking package namespace information ... OK * checking package dependencies ... OK * checking if this is a source package ... OK * checking if there is a namespace ... OK * checking for hidden files and directories ... OK * checking for portable file names ... OK * checking for sufficient/correct file permissions ... OK * checking whether package ‘bioassayR’ can be installed ... OK * checking installed package size ... OK * checking package directory ... OK * checking ‘build’ directory ... OK * checking DESCRIPTION meta-information ... OK * checking top-level files ... OK * checking for left-over files ... OK * checking index information ... OK * checking package subdirectories ... OK * checking R files for non-ASCII characters ... OK * checking R files for syntax errors ... OK * checking whether the package can be loaded ... OK * checking whether the package can be loaded with stated dependencies ... OK * checking whether the package can be unloaded cleanly ... OK * checking whether the namespace can be loaded with stated dependencies ... OK * checking whether the namespace can be unloaded cleanly ... OK * checking dependencies in R code ... OK * checking S3 generic/method consistency ... OK * checking replacement functions ... OK * checking foreign function calls ... OK * checking R code for possible problems ... OK * checking Rd files ... OK * checking Rd metadata ... OK * checking Rd cross-references ... OK * checking for missing documentation entries ... OK * checking for code/documentation mismatches ... OK * checking Rd \usage sections ... OK * checking Rd contents ... OK * checking for unstated dependencies in examples ... OK * checking contents of ‘data’ directory ... OK * checking data for non-ASCII characters ... OK * checking data for ASCII and uncompressed saves ... OK * checking line endings in Makefiles ... OK * checking for GNU extensions in Makefiles ... OK * checking include directives in Makefiles ... OK * checking files in ‘vignettes’ ... OK * checking examples ... OK * checking for unstated dependencies in ‘tests’ ... OK * checking tests ... Running ‘testthat.R’ OK * checking for unstated dependencies in vignettes ... OK * checking package vignettes in ‘inst/doc’ ... OK * checking running R code from vignettes ... SKIPPED * checking re-building of vignette outputs ... SKIPPED * checking PDF version of manual ... OK * DONE Status: OK
bioassayR.Rcheck/00install.out
############################################################################## ############################################################################## ### ### Running command: ### ### /Library/Frameworks/R.framework/Versions/Current/Resources/bin/R CMD INSTALL bioassayR ### ############################################################################## ############################################################################## * installing to library ‘/Library/Frameworks/R.framework/Versions/3.5/Resources/library’ * installing *source* package ‘bioassayR’ ... ** R ** data ** inst ** byte-compile and prepare package for lazy loading Creating a new generic function for ‘organism’ in package ‘bioassayR’ Creating a new generic function for ‘organism<-’ in package ‘bioassayR’ ** help *** installing help indices ** building package indices ** installing vignettes ** testing if installed package can be loaded * DONE (bioassayR)
bioassayR.Rcheck/tests/testthat.Rout
R version 3.5.1 Patched (2018-07-12 r74967) -- "Feather Spray"
Copyright (C) 2018 The R Foundation for Statistical Computing
Platform: x86_64-apple-darwin15.6.0 (64-bit)
R is free software and comes with ABSOLUTELY NO WARRANTY.
You are welcome to redistribute it under certain conditions.
Type 'license()' or 'licence()' for distribution details.
R is a collaborative project with many contributors.
Type 'contributors()' for more information and
'citation()' on how to cite R or R packages in publications.
Type 'demo()' for some demos, 'help()' for on-line help, or
'help.start()' for an HTML browser interface to help.
Type 'q()' to quit R.
> library(testthat)
> library(bioassayR)
Loading required package: DBI
Loading required package: RSQLite
Loading required package: Matrix
Loading required package: rjson
Loading required package: BiocGenerics
Loading required package: parallel
Attaching package: 'BiocGenerics'
The following objects are masked from 'package:parallel':
clusterApply, clusterApplyLB, clusterCall, clusterEvalQ,
clusterExport, clusterMap, parApply, parCapply, parLapply,
parLapplyLB, parRapply, parSapply, parSapplyLB
The following objects are masked from 'package:Matrix':
colMeans, colSums, rowMeans, rowSums, which
The following objects are masked from 'package:stats':
IQR, mad, sd, var, xtabs
The following objects are masked from 'package:base':
Filter, Find, Map, Position, Reduce, anyDuplicated, append,
as.data.frame, basename, cbind, colMeans, colSums, colnames,
dirname, do.call, duplicated, eval, evalq, get, grep, grepl,
intersect, is.unsorted, lapply, lengths, mapply, match, mget,
order, paste, pmax, pmax.int, pmin, pmin.int, rank, rbind,
rowMeans, rowSums, rownames, sapply, setdiff, sort, table, tapply,
union, unique, unsplit, which, which.max, which.min
Attaching package: 'bioassayR'
The following objects are masked from 'package:BiocGenerics':
organism, organism<-
>
> test_check("bioassayR")
══ testthat results ═══════════════════════════════════════════════════════════
OK: 24 SKIPPED: 0 FAILED: 0
>
> proc.time()
user system elapsed
4.744 0.265 5.010
bioassayR.Rcheck/bioassayR-Ex.timings
| name | user | system | elapsed | |
| BioAssayDB-class | 0.002 | 0.000 | 0.002 | |
| activeAgainst | 0.033 | 0.002 | 0.038 | |
| activeTargets | 0.033 | 0.001 | 0.034 | |
| addBioassayIndex | 0.022 | 0.007 | 0.029 | |
| addDataSource | 0.039 | 0.005 | 0.044 | |
| allCids | 0.011 | 0.001 | 0.011 | |
| allTargets | 0.009 | 0.001 | 0.010 | |
| assaySetTargets | 0.045 | 0.001 | 0.047 | |
| bioactivityFingerprint | 0.208 | 0.003 | 0.214 | |
| bioassay-class | 0.019 | 0.004 | 0.024 | |
| bioassaySet-class | 0.003 | 0.000 | 0.003 | |
| connectBioassayDB | 0.017 | 0.002 | 0.019 | |
| crossReactivityProbability | 0.196 | 0.002 | 0.198 | |
| disconnectBioassayDB | 0.023 | 0.004 | 0.026 | |
| dropBioassay | 0.066 | 0.007 | 0.086 | |
| dropBioassayIndex | 0.037 | 0.007 | 0.045 | |
| getAssay | 0.010 | 0.001 | 0.011 | |
| getAssays | 0.023 | 0.001 | 0.024 | |
| getBioassaySetByCids | 0.177 | 0.001 | 0.180 | |
| inactiveTargets | 0.012 | 0.001 | 0.013 | |
| loadBioassay | 0.043 | 0.004 | 0.051 | |
| loadIdMapping | 0.016 | 0.003 | 0.019 | |
| newBioassayDB | 0.012 | 0.002 | 0.015 | |
| parsePubChemBioassay | 0.011 | 0.001 | 0.012 | |
| perTargetMatrix | 0.218 | 0.002 | 0.222 | |
| queryBioassayDB | 0.041 | 0.013 | 0.054 | |
| samplebioassay | 0.004 | 0.002 | 0.007 | |
| scaleBioassaySet | 0.040 | 0.001 | 0.042 | |
| screenedAtLeast | 0.018 | 0.001 | 0.019 | |
| selectiveAgainst | 0.106 | 0.002 | 0.108 | |
| targetSelectivity | 0.030 | 0.001 | 0.032 | |
| translateTargetId | 0.017 | 0.003 | 0.021 | |
| trinarySimilarity | 0.161 | 0.002 | 0.163 | |