| Back to Multiple platform build/check report for BioC 3.7 |
|
This page was generated on 2018-10-17 08:47:57 -0400 (Wed, 17 Oct 2018).
| Package 20/1561 | Hostname | OS / Arch | INSTALL | BUILD | CHECK | BUILD BIN | ||||||
| affyContam 1.38.0 V. Carey
| malbec2 | Linux (Ubuntu 16.04.1 LTS) / x86_64 | OK | OK | OK | |||||||
| tokay2 | Windows Server 2012 R2 Standard / x64 | OK | OK | OK | OK | |||||||
| merida2 | OS X 10.11.6 El Capitan / x86_64 | OK | OK | OK | [ OK ] |
| Package: affyContam |
| Version: 1.38.0 |
| Command: rm -rf affyContam.buildbin-libdir && mkdir affyContam.buildbin-libdir && /Users/biocbuild/BBS/utils/build-universal.sh affyContam_1.38.0.tar.gz /Library/Frameworks/R.framework/Versions/Current/Resources/bin/R affyContam.buildbin-libdir |
| StartedAt: 2018-10-17 00:52:59 -0400 (Wed, 17 Oct 2018) |
| EndedAt: 2018-10-17 00:53:31 -0400 (Wed, 17 Oct 2018) |
| EllapsedTime: 31.9 seconds |
| RetCode: 0 |
| Status: OK |
| PackageFile: affyContam_1.38.0.tgz |
| PackageFileSize: 231.9 KiB |
##############################################################################
##############################################################################
###
### Running command:
###
### rm -rf affyContam.buildbin-libdir && mkdir affyContam.buildbin-libdir && /Users/biocbuild/BBS/utils/build-universal.sh affyContam_1.38.0.tar.gz /Library/Frameworks/R.framework/Versions/Current/Resources/bin/R affyContam.buildbin-libdir
###
##############################################################################
##############################################################################
>>>>>>>
>>>>>>> INSTALLATION WITH 'R CMD INSTALL --preclean --no-multiarch --library=affyContam.buildbin-libdir affyContam_1.38.0.tar.gz'
>>>>>>>
* installing *source* package ‘affyContam’ ...
** R
** inst
** byte-compile and prepare package for lazy loading
Package
[1,] "affydata"
LibPath
[1,] "/Library/Frameworks/R.framework/Versions/3.5/Resources/library"
Item Title
[1,] "Dilution" "AffyBatch instance Dilution"
** help
*** installing help indices
** building package indices
** installing vignettes
** testing if installed package can be loaded
Package
[1,] "affydata"
LibPath
[1,] "/Library/Frameworks/R.framework/Versions/3.5/Resources/library"
Item Title
[1,] "Dilution" "AffyBatch instance Dilution"
* DONE (affyContam)