| Back to Multiple platform build/check report for BioC 3.7 |
|
This page was generated on 2018-10-17 08:22:34 -0400 (Wed, 17 Oct 2018).
| Package 20/1561 | Hostname | OS / Arch | INSTALL | BUILD | CHECK | BUILD BIN | ||||||
| affyContam 1.38.0 V. Carey
| malbec2 | Linux (Ubuntu 16.04.1 LTS) / x86_64 | [ OK ] | OK | OK | |||||||
| tokay2 | Windows Server 2012 R2 Standard / x64 | OK | OK | OK | OK | |||||||
| merida2 | OS X 10.11.6 El Capitan / x86_64 | OK | OK | OK | OK |
| Package: affyContam |
| Version: 1.38.0 |
| Command: /home/biocbuild/bbs-3.7-bioc/R/bin/R CMD INSTALL affyContam |
| StartedAt: 2018-10-15 18:10:24 -0400 (Mon, 15 Oct 2018) |
| EndedAt: 2018-10-15 18:10:28 -0400 (Mon, 15 Oct 2018) |
| EllapsedTime: 4.0 seconds |
| RetCode: 0 |
| Status: OK |
##############################################################################
##############################################################################
###
### Running command:
###
### /home/biocbuild/bbs-3.7-bioc/R/bin/R CMD INSTALL affyContam
###
##############################################################################
##############################################################################
* installing to library ‘/home/biocbuild/bbs-3.7-bioc/R/library’
* installing *source* package ‘affyContam’ ...
** R
** byte-compile and prepare package for lazy loading
Package LibPath Item
[1,] "affydata" "/home/biocbuild/bbs-3.7-bioc/R/library" "Dilution"
Title
[1,] "AffyBatch instance Dilution"
** help
*** installing help indices
** building package indices
** installing vignettes
** testing if installed package can be loaded
Package LibPath Item
[1,] "affydata" "/home/biocbuild/bbs-3.7-bioc/R/library" "Dilution"
Title
[1,] "AffyBatch instance Dilution"
* DONE (affyContam)