| Back to Multiple platform build/check report for BioC 3.7 | 
  | 
This page was generated on 2018-10-17 08:40:38 -0400 (Wed, 17 Oct 2018).
| Package 10/1561 | Hostname | OS / Arch | INSTALL | BUILD | CHECK | BUILD BIN | ||||||
| acde 1.10.0 Juan Pablo Acosta 
  | malbec2 | Linux (Ubuntu 16.04.1 LTS) / x86_64 | OK | OK | OK | |||||||
| tokay2 | Windows Server 2012 R2 Standard / x64 | [ OK ] | OK | OK | OK | |||||||
| merida2 | OS X 10.11.6 El Capitan / x86_64 | OK | OK | OK | OK | 
| Package: acde | 
| Version: 1.10.0 | 
| Command: C:\cygwin\bin\curl.exe -O https://malbec2.bioconductor.org/BBS/3.7/bioc/src/contrib/acde_1.10.0.tar.gz && rm -rf acde.buildbin-libdir && mkdir acde.buildbin-libdir && C:\Users\biocbuild\bbs-3.7-bioc\R\bin\R.exe CMD INSTALL --merge-multiarch --build --library=acde.buildbin-libdir acde_1.10.0.tar.gz && C:\Users\biocbuild\bbs-3.7-bioc\R\bin\R.exe CMD INSTALL acde_1.10.0.zip && rm acde_1.10.0.tar.gz acde_1.10.0.zip | 
| StartedAt: 2018-10-16 20:12:55 -0400 (Tue, 16 Oct 2018) | 
| EndedAt: 2018-10-16 20:13:28 -0400 (Tue, 16 Oct 2018) | 
| EllapsedTime: 32.8 seconds | 
| RetCode: 0 | 
| Status: OK | 
##############################################################################
##############################################################################
###
### Running command:
###
###   C:\cygwin\bin\curl.exe -O https://malbec2.bioconductor.org/BBS/3.7/bioc/src/contrib/acde_1.10.0.tar.gz && rm -rf acde.buildbin-libdir && mkdir acde.buildbin-libdir && C:\Users\biocbuild\bbs-3.7-bioc\R\bin\R.exe CMD INSTALL --merge-multiarch --build --library=acde.buildbin-libdir acde_1.10.0.tar.gz && C:\Users\biocbuild\bbs-3.7-bioc\R\bin\R.exe CMD INSTALL acde_1.10.0.zip && rm acde_1.10.0.tar.gz acde_1.10.0.zip
###
##############################################################################
##############################################################################
  % Total    % Received % Xferd  Average Speed   Time    Time     Time  Current
                                 Dload  Upload   Total   Spent    Left  Speed
  0     0    0     0    0     0      0      0 --:--:-- --:--:-- --:--:--     0
100 2425k  100 2425k    0     0  26.7M      0 --:--:-- --:--:-- --:--:-- 28.8M
install for i386
* installing *source* package 'acde' ...
** R
** data
*** moving datasets to lazyload DB
** inst
** byte-compile and prepare package for lazy loading
** help
*** installing help indices
  converting help for package 'acde'
    finding HTML links ... done
    ac                                      html  
    acde-package                            html  
    bcaFDR                                  html  
    fdr                                     html  
    phytophthora                            html  
    plot.STP                                html  
    plot.TC                                 html  
    print.STP                               html  
    print.TC                                html  
    qval                                    html  
    stp                                     html  
    tc                                      html  
** building package indices
** installing vignettes
** testing if installed package can be loaded
In R CMD INSTALL
install for x64
* installing *source* package 'acde' ...
** testing if installed package can be loaded
* MD5 sums
packaged installation of 'acde' as acde_1.10.0.zip
* DONE (acde)
In R CMD INSTALL
In R CMD INSTALL
* installing to library 'C:/Users/biocbuild/bbs-3.7-bioc/R/library'
package 'acde' successfully unpacked and MD5 sums checked
In R CMD INSTALL