| Back to Multiple platform build/check report for BioC 3.7 |
|
This page was generated on 2018-10-17 08:40:38 -0400 (Wed, 17 Oct 2018).
| Package 10/1561 | Hostname | OS / Arch | INSTALL | BUILD | CHECK | BUILD BIN | ||||||
| acde 1.10.0 Juan Pablo Acosta
| malbec2 | Linux (Ubuntu 16.04.1 LTS) / x86_64 | OK | OK | OK | |||||||
| tokay2 | Windows Server 2012 R2 Standard / x64 | OK | [ OK ] | OK | OK | |||||||
| merida2 | OS X 10.11.6 El Capitan / x86_64 | OK | OK | OK | OK |
| Package: acde |
| Version: 1.10.0 |
| Command: chmod a+r acde -R && C:\Users\biocbuild\bbs-3.7-bioc\R\bin\R.exe CMD build --keep-empty-dirs --no-resave-data acde |
| StartedAt: 2018-10-16 22:45:13 -0400 (Tue, 16 Oct 2018) |
| EndedAt: 2018-10-16 22:45:30 -0400 (Tue, 16 Oct 2018) |
| EllapsedTime: 17.1 seconds |
| RetCode: 0 |
| Status: OK |
| PackageFile: acde_1.10.0.tar.gz |
| PackageFileSize: 3.565 MiB |
############################################################################## ############################################################################## ### ### Running command: ### ### chmod a+r acde -R && C:\Users\biocbuild\bbs-3.7-bioc\R\bin\R.exe CMD build --keep-empty-dirs --no-resave-data acde ### ############################################################################## ############################################################################## * checking for file 'acde/DESCRIPTION' ... OK * preparing 'acde': * checking DESCRIPTION meta-information ... OK * installing the package to build vignettes * creating vignettes ... OK * checking for LF line-endings in source and make files and shell scripts * checking for empty or unneeded directories * looking to see if a 'data/datalist' file should be added * building 'acde_1.10.0.tar.gz'