| Back to Multiple platform build/check report for BioC 3.7 |
|
This page was generated on 2018-10-17 08:45:50 -0400 (Wed, 17 Oct 2018).
| Package 1522/1561 | Hostname | OS / Arch | INSTALL | BUILD | CHECK | BUILD BIN | ||||||
| TxRegInfra 1.0.1 VJ Carey
| malbec2 | Linux (Ubuntu 16.04.1 LTS) / x86_64 | OK | OK | OK | |||||||
| tokay2 | Windows Server 2012 R2 Standard / x64 | [ OK ] | OK | OK | OK | |||||||
| merida2 | OS X 10.11.6 El Capitan / x86_64 | OK | OK | OK | OK |
| Package: TxRegInfra |
| Version: 1.0.1 |
| Command: C:\cygwin\bin\curl.exe -O https://malbec2.bioconductor.org/BBS/3.7/bioc/src/contrib/TxRegInfra_1.0.1.tar.gz && rm -rf TxRegInfra.buildbin-libdir && mkdir TxRegInfra.buildbin-libdir && C:\Users\biocbuild\bbs-3.7-bioc\R\bin\R.exe CMD INSTALL --merge-multiarch --build --library=TxRegInfra.buildbin-libdir TxRegInfra_1.0.1.tar.gz && C:\Users\biocbuild\bbs-3.7-bioc\R\bin\R.exe CMD INSTALL TxRegInfra_1.0.1.zip && rm TxRegInfra_1.0.1.tar.gz TxRegInfra_1.0.1.zip |
| StartedAt: 2018-10-16 19:45:46 -0400 (Tue, 16 Oct 2018) |
| EndedAt: 2018-10-16 19:47:51 -0400 (Tue, 16 Oct 2018) |
| EllapsedTime: 124.7 seconds |
| RetCode: 0 |
| Status: OK |
##############################################################################
##############################################################################
###
### Running command:
###
### C:\cygwin\bin\curl.exe -O https://malbec2.bioconductor.org/BBS/3.7/bioc/src/contrib/TxRegInfra_1.0.1.tar.gz && rm -rf TxRegInfra.buildbin-libdir && mkdir TxRegInfra.buildbin-libdir && C:\Users\biocbuild\bbs-3.7-bioc\R\bin\R.exe CMD INSTALL --merge-multiarch --build --library=TxRegInfra.buildbin-libdir TxRegInfra_1.0.1.tar.gz && C:\Users\biocbuild\bbs-3.7-bioc\R\bin\R.exe CMD INSTALL TxRegInfra_1.0.1.zip && rm TxRegInfra_1.0.1.tar.gz TxRegInfra_1.0.1.zip
###
##############################################################################
##############################################################################
% Total % Received % Xferd Average Speed Time Time Time Current
Dload Upload Total Spent Left Speed
0 0 0 0 0 0 0 0 --:--:-- --:--:-- --:--:-- 0
100 62321 100 62321 0 0 1036k 0 --:--:-- --:--:-- --:--:-- 1170k
install for i386
* installing *source* package 'TxRegInfra' ...
** R
** data
*** moving datasets to lazyload DB
** inst
** byte-compile and prepare package for lazy loading
** help
*** installing help indices
converting help for package 'TxRegInfra'
finding HTML links ... done
RaggedMongoExpt html
URL_txregInAWS html
URL_txregLocal html
basicColData html
basicFormatter html
dgf_meta html
getDocumentFields html
getFieldNames html
grConverter html
importBedToMongo html
listAllCollections html
makeAggregator html
makeColData html
makeGRConverterList html
ragged41FP html
sbov html
txmodels html
txregCollections html
verifyHasMongoCmd html
verifyRunningMongodb html
** building package indices
** installing vignettes
** testing if installed package can be loaded
In R CMD INSTALL
install for x64
* installing *source* package 'TxRegInfra' ...
** testing if installed package can be loaded
* MD5 sums
packaged installation of 'TxRegInfra' as TxRegInfra_1.0.1.zip
* DONE (TxRegInfra)
In R CMD INSTALL
In R CMD INSTALL
* installing to library 'C:/Users/biocbuild/bbs-3.7-bioc/R/library'
package 'TxRegInfra' successfully unpacked and MD5 sums checked
In R CMD INSTALL