| Back to Multiple platform build/check report for BioC 3.7 |
|
This page was generated on 2018-10-17 08:31:41 -0400 (Wed, 17 Oct 2018).
| Package 1522/1561 | Hostname | OS / Arch | INSTALL | BUILD | CHECK | BUILD BIN | ||||||
| TxRegInfra 1.0.1 VJ Carey
| malbec2 | Linux (Ubuntu 16.04.1 LTS) / x86_64 | OK | OK | [ OK ] | |||||||
| tokay2 | Windows Server 2012 R2 Standard / x64 | OK | OK | OK | OK | |||||||
| merida2 | OS X 10.11.6 El Capitan / x86_64 | OK | OK | OK | OK |
| Package: TxRegInfra |
| Version: 1.0.1 |
| Command: /home/biocbuild/bbs-3.7-bioc/R/bin/R CMD check --install=check:TxRegInfra.install-out.txt --library=/home/biocbuild/bbs-3.7-bioc/R/library --no-vignettes --timings TxRegInfra_1.0.1.tar.gz |
| StartedAt: 2018-10-16 04:22:11 -0400 (Tue, 16 Oct 2018) |
| EndedAt: 2018-10-16 04:24:20 -0400 (Tue, 16 Oct 2018) |
| EllapsedTime: 128.9 seconds |
| RetCode: 0 |
| Status: OK |
| CheckDir: TxRegInfra.Rcheck |
| Warnings: 0 |
##############################################################################
##############################################################################
###
### Running command:
###
### /home/biocbuild/bbs-3.7-bioc/R/bin/R CMD check --install=check:TxRegInfra.install-out.txt --library=/home/biocbuild/bbs-3.7-bioc/R/library --no-vignettes --timings TxRegInfra_1.0.1.tar.gz
###
##############################################################################
##############################################################################
* using log directory ‘/home/biocbuild/bbs-3.7-bioc/meat/TxRegInfra.Rcheck’
* using R version 3.5.1 Patched (2018-07-12 r74967)
* using platform: x86_64-pc-linux-gnu (64-bit)
* using session charset: UTF-8
* using option ‘--no-vignettes’
* checking for file ‘TxRegInfra/DESCRIPTION’ ... OK
* this is package ‘TxRegInfra’ version ‘1.0.1’
* checking package namespace information ... OK
* checking package dependencies ... OK
* checking if this is a source package ... OK
* checking if there is a namespace ... OK
* checking for hidden files and directories ... OK
* checking for portable file names ... OK
* checking for sufficient/correct file permissions ... OK
* checking whether package ‘TxRegInfra’ can be installed ... OK
* checking installed package size ... OK
* checking package directory ... OK
* checking ‘build’ directory ... OK
* checking DESCRIPTION meta-information ... OK
* checking top-level files ... OK
* checking for left-over files ... OK
* checking index information ... OK
* checking package subdirectories ... OK
* checking R files for non-ASCII characters ... OK
* checking R files for syntax errors ... OK
* checking whether the package can be loaded ... OK
* checking whether the package can be loaded with stated dependencies ... OK
* checking whether the package can be unloaded cleanly ... OK
* checking whether the namespace can be loaded with stated dependencies ... OK
* checking whether the namespace can be unloaded cleanly ... OK
* checking dependencies in R code ... OK
* checking S3 generic/method consistency ... OK
* checking replacement functions ... OK
* checking foreign function calls ... OK
* checking R code for possible problems ... OK
* checking Rd files ... OK
* checking Rd metadata ... OK
* checking Rd cross-references ... OK
* checking for missing documentation entries ... OK
* checking for code/documentation mismatches ... OK
* checking Rd \usage sections ... OK
* checking Rd contents ... OK
* checking for unstated dependencies in examples ... OK
* checking contents of ‘data’ directory ... OK
* checking data for non-ASCII characters ... NOTE
Error in .requirePackage(package) :
unable to find required package 'RaggedExperiment'
Calls: <Anonymous> ... getClass -> getClassDef -> .classEnv -> .requirePackage
Execution halted
* checking data for ASCII and uncompressed saves ... OK
* checking files in ‘vignettes’ ... OK
* checking examples ... OK
Examples with CPU or elapsed time > 5s
user system elapsed
txmodels 14.02 0.772 18.618
* checking for unstated dependencies in vignettes ... OK
* checking package vignettes in ‘inst/doc’ ... OK
* checking running R code from vignettes ... SKIPPED
* checking re-building of vignette outputs ... SKIPPED
* checking PDF version of manual ... OK
* DONE
Status: 1 NOTE
See
‘/home/biocbuild/bbs-3.7-bioc/meat/TxRegInfra.Rcheck/00check.log’
for details.
TxRegInfra.Rcheck/00install.out
############################################################################## ############################################################################## ### ### Running command: ### ### /home/biocbuild/bbs-3.7-bioc/R/bin/R CMD INSTALL TxRegInfra ### ############################################################################## ############################################################################## * installing to library ‘/home/biocbuild/bbs-3.7-bioc/R/library’ * installing *source* package ‘TxRegInfra’ ... ** R ** data *** moving datasets to lazyload DB ** inst ** byte-compile and prepare package for lazy loading ** help *** installing help indices ** building package indices ** installing vignettes ** testing if installed package can be loaded * DONE (TxRegInfra)
TxRegInfra.Rcheck/TxRegInfra-Ex.timings
| name | user | system | elapsed | |
| URL_txregInAWS | 0 | 0 | 0 | |
| basicColData | 0.052 | 0.000 | 0.055 | |
| basicFormatter | 0.008 | 0.000 | 0.012 | |
| dgf_meta | 0.004 | 0.000 | 0.004 | |
| getDocumentFields | 0 | 0 | 0 | |
| getFieldNames | 0.048 | 0.000 | 1.770 | |
| grConverter | 0.032 | 0.000 | 0.034 | |
| importBedToMongo | 0.004 | 0.020 | 0.028 | |
| listAllCollections | 0.004 | 0.020 | 0.025 | |
| makeAggregator | 0.004 | 0.020 | 0.026 | |
| makeColData | 0.000 | 0.020 | 0.024 | |
| ragged41FP | 0.152 | 0.004 | 0.158 | |
| sbov | 0.004 | 0.016 | 0.018 | |
| txmodels | 14.020 | 0.772 | 18.618 | |
| txregCollections | 0.000 | 0.032 | 0.040 | |
| verifyHasMongoCmd | 0 | 0 | 0 | |
| verifyRunningMongodb | 0.000 | 0.000 | 0.001 | |