| Back to Multiple platform build/check report for BioC 3.7 |
|
This page was generated on 2018-10-17 08:22:44 -0400 (Wed, 17 Oct 2018).
| Package 1464/1561 | Hostname | OS / Arch | INSTALL | BUILD | CHECK | BUILD BIN | ||||||
| TargetSearch 1.36.1 Alvaro Cuadros-Inostroza
| malbec2 | Linux (Ubuntu 16.04.1 LTS) / x86_64 | OK | OK | [ OK ] | |||||||
| tokay2 | Windows Server 2012 R2 Standard / x64 | OK | OK | OK | OK | |||||||
| merida2 | OS X 10.11.6 El Capitan / x86_64 | OK | OK | OK | OK |
| Package: TargetSearch |
| Version: 1.36.1 |
| Command: /home/biocbuild/bbs-3.7-bioc/R/bin/R CMD check --install=check:TargetSearch.install-out.txt --library=/home/biocbuild/bbs-3.7-bioc/R/library --no-vignettes --timings TargetSearch_1.36.1.tar.gz |
| StartedAt: 2018-10-16 04:06:24 -0400 (Tue, 16 Oct 2018) |
| EndedAt: 2018-10-16 04:07:10 -0400 (Tue, 16 Oct 2018) |
| EllapsedTime: 46.8 seconds |
| RetCode: 0 |
| Status: OK |
| CheckDir: TargetSearch.Rcheck |
| Warnings: 0 |
##############################################################################
##############################################################################
###
### Running command:
###
### /home/biocbuild/bbs-3.7-bioc/R/bin/R CMD check --install=check:TargetSearch.install-out.txt --library=/home/biocbuild/bbs-3.7-bioc/R/library --no-vignettes --timings TargetSearch_1.36.1.tar.gz
###
##############################################################################
##############################################################################
* using log directory ‘/home/biocbuild/bbs-3.7-bioc/meat/TargetSearch.Rcheck’
* using R version 3.5.1 Patched (2018-07-12 r74967)
* using platform: x86_64-pc-linux-gnu (64-bit)
* using session charset: UTF-8
* using option ‘--no-vignettes’
* checking for file ‘TargetSearch/DESCRIPTION’ ... OK
* checking extension type ... Package
* this is package ‘TargetSearch’ version ‘1.36.1’
* checking package namespace information ... OK
* checking package dependencies ... OK
* checking if this is a source package ... OK
* checking if there is a namespace ... OK
* checking for hidden files and directories ... OK
* checking for portable file names ... OK
* checking for sufficient/correct file permissions ... OK
* checking whether package ‘TargetSearch’ can be installed ... OK
* checking installed package size ... OK
* checking package directory ... OK
* checking ‘build’ directory ... OK
* checking DESCRIPTION meta-information ... OK
* checking top-level files ... OK
* checking for left-over files ... OK
* checking index information ... OK
* checking package subdirectories ... OK
* checking R files for non-ASCII characters ... OK
* checking R files for syntax errors ... OK
* checking whether the package can be loaded ... OK
* checking whether the package can be loaded with stated dependencies ... OK
* checking whether the package can be unloaded cleanly ... OK
* checking whether the namespace can be loaded with stated dependencies ... OK
* checking whether the namespace can be unloaded cleanly ... OK
* checking dependencies in R code ... OK
* checking S3 generic/method consistency ... OK
* checking replacement functions ... OK
* checking foreign function calls ... OK
* checking R code for possible problems ... OK
* checking Rd files ... OK
* checking Rd metadata ... OK
* checking Rd cross-references ... OK
* checking for missing documentation entries ... OK
* checking for code/documentation mismatches ... OK
* checking Rd \usage sections ... OK
* checking Rd contents ... OK
* checking for unstated dependencies in examples ... OK
* checking contents of ‘data’ directory ... OK
* checking data for non-ASCII characters ... OK
* checking data for ASCII and uncompressed saves ... OK
* checking line endings in C/C++/Fortran sources/headers ... OK
* checking compiled code ... NOTE
Note: information on .o files is not available
* checking files in ‘vignettes’ ... OK
* checking examples ... OK
Examples with CPU or elapsed time > 5s
user system elapsed
RIcorrect 6.968 0.252 7.433
* checking for unstated dependencies in vignettes ... OK
* checking package vignettes in ‘inst/doc’ ... OK
* checking running R code from vignettes ... SKIPPED
* checking re-building of vignette outputs ... SKIPPED
* checking PDF version of manual ... OK
* DONE
Status: 1 NOTE
See
‘/home/biocbuild/bbs-3.7-bioc/meat/TargetSearch.Rcheck/00check.log’
for details.
TargetSearch.Rcheck/00install.out
############################################################################## ############################################################################## ### ### Running command: ### ### /home/biocbuild/bbs-3.7-bioc/R/bin/R CMD INSTALL TargetSearch ### ############################################################################## ############################################################################## * installing to library ‘/home/biocbuild/bbs-3.7-bioc/R/library’ * installing *source* package ‘TargetSearch’ ... ** libs gcc -I"/home/biocbuild/bbs-3.7-bioc/R/include" -DNDEBUG -I/usr/local/include -fpic -g -O2 -Wall -c Rinit.c -o Rinit.o gcc -I"/home/biocbuild/bbs-3.7-bioc/R/include" -DNDEBUG -I/usr/local/include -fpic -g -O2 -Wall -c file.c -o file.o gcc -I"/home/biocbuild/bbs-3.7-bioc/R/include" -DNDEBUG -I/usr/local/include -fpic -g -O2 -Wall -c find_peaks.c -o find_peaks.o gcc -I"/home/biocbuild/bbs-3.7-bioc/R/include" -DNDEBUG -I/usr/local/include -fpic -g -O2 -Wall -c getLine.c -o getLine.o gcc -I"/home/biocbuild/bbs-3.7-bioc/R/include" -DNDEBUG -I/usr/local/include -fpic -g -O2 -Wall -c hpf.c -o hpf.o gcc -I"/home/biocbuild/bbs-3.7-bioc/R/include" -DNDEBUG -I/usr/local/include -fpic -g -O2 -Wall -c ncdf.c -o ncdf.o gcc -I"/home/biocbuild/bbs-3.7-bioc/R/include" -DNDEBUG -I/usr/local/include -fpic -g -O2 -Wall -c netcdf_peak_finding.c -o netcdf_peak_finding.o gcc -I"/home/biocbuild/bbs-3.7-bioc/R/include" -DNDEBUG -I/usr/local/include -fpic -g -O2 -Wall -c ppc.c -o ppc.o gcc -shared -L/home/biocbuild/bbs-3.7-bioc/R/lib -L/usr/local/lib -o TargetSearch.so Rinit.o file.o find_peaks.o getLine.o hpf.o ncdf.o netcdf_peak_finding.o ppc.o -L/home/biocbuild/bbs-3.7-bioc/R/lib -lR installing to /home/biocbuild/bbs-3.7-bioc/R/library/TargetSearch/libs ** R ** data ** inst ** byte-compile and prepare package for lazy loading ** help *** installing help indices ** building package indices ** installing vignettes ** testing if installed package can be loaded * DONE (TargetSearch)
TargetSearch.Rcheck/TargetSearch-Ex.timings
| name | user | system | elapsed | |
| FAMEoutliers | 0.052 | 0.000 | 0.053 | |
| FindAllPeaks | 0.752 | 0.024 | 0.903 | |
| FindPeaks | 0.248 | 0.000 | 0.249 | |
| ImportFameSettings | 0.016 | 0.000 | 0.021 | |
| ImportLibrary | 0.032 | 0.004 | 0.043 | |
| ImportSamples | 0.004 | 0.000 | 0.006 | |
| NetCDFPeakFinding | 0.236 | 0.020 | 0.283 | |
| Profile | 0.972 | 0.020 | 0.991 | |
| ProfileCleanUp | 0.840 | 0.008 | 0.845 | |
| RIcorrect | 6.968 | 0.252 | 7.433 | |
| TSExample | 1.960 | 0.096 | 2.057 | |
| fixRI | 0.744 | 0.020 | 0.766 | |
| medianRILib | 0.448 | 0.008 | 0.457 | |
| peakFind | 0.24 | 0.00 | 0.24 | |
| plotFAME | 0.008 | 0.000 | 0.011 | |
| plotPeak | 0.132 | 0.000 | 0.133 | |
| plotPeakRI | 0.652 | 0.012 | 0.664 | |
| plotPeakSimple | 0.288 | 0.020 | 0.308 | |
| plotRIdev | 0.424 | 0.012 | 0.437 | |
| plotSpectra | 0.308 | 0.008 | 0.316 | |
| quantMatrix | 0.736 | 0.008 | 0.745 | |
| ri2rt | 0.004 | 0.000 | 0.004 | |
| riMatrix | 0.516 | 0.024 | 0.539 | |
| rt2ri | 0.004 | 0.000 | 0.004 | |
| sampleRI | 0.460 | 0.008 | 0.468 | |
| tsLib-class | 0.012 | 0.004 | 0.016 | |
| tsMSdata-class | 0.000 | 0.000 | 0.001 | |
| tsProfile-class | 0.000 | 0.000 | 0.001 | |
| tsRim-class | 0.004 | 0.000 | 0.002 | |
| tsSample-class | 0.008 | 0.000 | 0.010 | |
| writeLibText | 0.024 | 0.000 | 0.025 | |