| Back to Multiple platform build/check report for BioC 3.7 |
|
This page was generated on 2018-10-17 08:41:08 -0400 (Wed, 17 Oct 2018).
| Package 1465/1561 | Hostname | OS / Arch | INSTALL | BUILD | CHECK | BUILD BIN | ||||||
| TarSeqQC 1.10.0 Gabriela Merino
| malbec2 | Linux (Ubuntu 16.04.1 LTS) / x86_64 | OK | OK | OK | |||||||
| tokay2 | Windows Server 2012 R2 Standard / x64 | [ OK ] | OK | OK | OK | |||||||
| merida2 | OS X 10.11.6 El Capitan / x86_64 | OK | OK | OK | OK |
| Package: TarSeqQC |
| Version: 1.10.0 |
| Command: C:\cygwin\bin\curl.exe -O https://malbec2.bioconductor.org/BBS/3.7/bioc/src/contrib/TarSeqQC_1.10.0.tar.gz && rm -rf TarSeqQC.buildbin-libdir && mkdir TarSeqQC.buildbin-libdir && C:\Users\biocbuild\bbs-3.7-bioc\R\bin\R.exe CMD INSTALL --merge-multiarch --build --library=TarSeqQC.buildbin-libdir TarSeqQC_1.10.0.tar.gz && C:\Users\biocbuild\bbs-3.7-bioc\R\bin\R.exe CMD INSTALL TarSeqQC_1.10.0.zip && rm TarSeqQC_1.10.0.tar.gz TarSeqQC_1.10.0.zip |
| StartedAt: 2018-10-16 20:23:30 -0400 (Tue, 16 Oct 2018) |
| EndedAt: 2018-10-16 20:24:49 -0400 (Tue, 16 Oct 2018) |
| EllapsedTime: 78.8 seconds |
| RetCode: 0 |
| Status: OK |
##############################################################################
##############################################################################
###
### Running command:
###
### C:\cygwin\bin\curl.exe -O https://malbec2.bioconductor.org/BBS/3.7/bioc/src/contrib/TarSeqQC_1.10.0.tar.gz && rm -rf TarSeqQC.buildbin-libdir && mkdir TarSeqQC.buildbin-libdir && C:\Users\biocbuild\bbs-3.7-bioc\R\bin\R.exe CMD INSTALL --merge-multiarch --build --library=TarSeqQC.buildbin-libdir TarSeqQC_1.10.0.tar.gz && C:\Users\biocbuild\bbs-3.7-bioc\R\bin\R.exe CMD INSTALL TarSeqQC_1.10.0.zip && rm TarSeqQC_1.10.0.tar.gz TarSeqQC_1.10.0.zip
###
##############################################################################
##############################################################################
% Total % Received % Xferd Average Speed Time Time Time Current
Dload Upload Total Spent Left Speed
0 0 0 0 0 0 0 0 --:--:-- --:--:-- --:--:-- 0
100 1787k 100 1787k 0 0 22.7M 0 --:--:-- --:--:-- --:--:-- 24.9M
install for i386
* installing *source* package 'TarSeqQC' ...
** R
** data
** inst
** byte-compile and prepare package for lazy loading
** help
*** installing help indices
converting help for package 'TarSeqQC'
finding HTML links ... done
TEList html
TarSeqQC-package html
TargetExperiment-biasExploration html
TargetExperiment-buildFeaturePanel html
TargetExperiment-buildReport html
TargetExperiment-class html
TargetExperiment-constructor html
TargetExperiment-getters html
TargetExperiment-initialize html
TargetExperiment-plot html
TargetExperiment-plotAttrExpl html
TargetExperiment-plotAttrPerform html
TargetExperiment-plotFeatPerform html
TargetExperiment-plotFeature html
TargetExperiment-plotGeneAttrPerFeat html
TargetExperiment-plotMetaDataExpl html
TargetExperiment-plotNtdPercentage html
TargetExperiment-plotRegion html
TargetExperiment-print html
TargetExperiment-readFrequencies html
TargetExperiment-setters html
TargetExperiment-show html
TargetExperiment-statistics html
TargetExperiment-summarizePanel html
TargetExperimentList-class html
TargetExperimentList-constructor html
TargetExperimentList-initialize html
TargetExperimentList-plotGlobalAttrExpl
html
TargetExperimentList-plotPoolPerformance
html
ampliPanel html
ampliPanel2 html
checkBedFasta html
myCounts html
object html
pileupCounts html
plotInOutFeatures html
** building package indices
** installing vignettes
** testing if installed package can be loaded
In R CMD INSTALL
install for x64
* installing *source* package 'TarSeqQC' ...
** testing if installed package can be loaded
* MD5 sums
packaged installation of 'TarSeqQC' as TarSeqQC_1.10.0.zip
* DONE (TarSeqQC)
In R CMD INSTALL
In R CMD INSTALL
* installing to library 'C:/Users/biocbuild/bbs-3.7-bioc/R/library'
package 'TarSeqQC' successfully unpacked and MD5 sums checked
In R CMD INSTALL