| Back to Multiple platform build/check report for BioC 3.7 |
|
This page was generated on 2018-10-17 08:28:04 -0400 (Wed, 17 Oct 2018).
| Package 1465/1561 | Hostname | OS / Arch | INSTALL | BUILD | CHECK | BUILD BIN | ||||||
| TarSeqQC 1.10.0 Gabriela Merino
| malbec2 | Linux (Ubuntu 16.04.1 LTS) / x86_64 | OK | OK | [ OK ] | |||||||
| tokay2 | Windows Server 2012 R2 Standard / x64 | OK | OK | OK | OK | |||||||
| merida2 | OS X 10.11.6 El Capitan / x86_64 | OK | OK | OK | OK |
| Package: TarSeqQC |
| Version: 1.10.0 |
| Command: /home/biocbuild/bbs-3.7-bioc/R/bin/R CMD check --install=check:TarSeqQC.install-out.txt --library=/home/biocbuild/bbs-3.7-bioc/R/library --no-vignettes --timings TarSeqQC_1.10.0.tar.gz |
| StartedAt: 2018-10-16 04:06:30 -0400 (Tue, 16 Oct 2018) |
| EndedAt: 2018-10-16 04:09:33 -0400 (Tue, 16 Oct 2018) |
| EllapsedTime: 183.4 seconds |
| RetCode: 0 |
| Status: OK |
| CheckDir: TarSeqQC.Rcheck |
| Warnings: 0 |
##############################################################################
##############################################################################
###
### Running command:
###
### /home/biocbuild/bbs-3.7-bioc/R/bin/R CMD check --install=check:TarSeqQC.install-out.txt --library=/home/biocbuild/bbs-3.7-bioc/R/library --no-vignettes --timings TarSeqQC_1.10.0.tar.gz
###
##############################################################################
##############################################################################
* using log directory ‘/home/biocbuild/bbs-3.7-bioc/meat/TarSeqQC.Rcheck’
* using R version 3.5.1 Patched (2018-07-12 r74967)
* using platform: x86_64-pc-linux-gnu (64-bit)
* using session charset: UTF-8
* using option ‘--no-vignettes’
* checking for file ‘TarSeqQC/DESCRIPTION’ ... OK
* checking extension type ... Package
* this is package ‘TarSeqQC’ version ‘1.10.0’
* checking package namespace information ... OK
* checking package dependencies ... OK
* checking if this is a source package ... OK
* checking if there is a namespace ... OK
* checking for hidden files and directories ... OK
* checking for portable file names ... OK
* checking for sufficient/correct file permissions ... OK
* checking whether package ‘TarSeqQC’ can be installed ... OK
* checking installed package size ... OK
* checking package directory ... OK
* checking ‘build’ directory ... OK
* checking DESCRIPTION meta-information ... OK
* checking top-level files ... OK
* checking for left-over files ... OK
* checking index information ... OK
* checking package subdirectories ... OK
* checking R files for non-ASCII characters ... OK
* checking R files for syntax errors ... OK
* checking whether the package can be loaded ... OK
* checking whether the package can be loaded with stated dependencies ... OK
* checking whether the package can be unloaded cleanly ... OK
* checking whether the namespace can be loaded with stated dependencies ... OK
* checking whether the namespace can be unloaded cleanly ... OK
* checking dependencies in R code ... OK
* checking S3 generic/method consistency ... OK
* checking replacement functions ... OK
* checking foreign function calls ... OK
* checking R code for possible problems ... NOTE
plotNtdPercentage,TargetExperiment: no visible global function
definition for ‘path’
plotRegion,TargetExperiment: no visible global function definition for
‘path’
readFrequencies,TargetExperiment: no visible global function definition
for ‘path’
Undefined global functions or variables:
path
* checking Rd files ... OK
* checking Rd metadata ... OK
* checking Rd cross-references ... OK
* checking for missing documentation entries ... OK
* checking for code/documentation mismatches ... OK
* checking Rd \usage sections ... OK
* checking Rd contents ... OK
* checking for unstated dependencies in examples ... OK
* checking contents of ‘data’ directory ... OK
* checking data for non-ASCII characters ... NOTE
Error in .requirePackage(package) :
unable to find required package 'TarSeqQC'
Calls: <Anonymous> ... getClass -> getClassDef -> .classEnv -> .requirePackage
Execution halted
* checking data for ASCII and uncompressed saves ... OK
* checking files in ‘vignettes’ ... OK
* checking examples ... OK
Examples with CPU or elapsed time > 5s
user system elapsed
TargetExperiment-class 13.12 3.620 10.201
TargetExperiment-plotRegion 4.66 1.088 2.268
* checking for unstated dependencies in ‘tests’ ... OK
* checking tests ...
Running ‘runTests.R’
OK
* checking for unstated dependencies in vignettes ... OK
* checking package vignettes in ‘inst/doc’ ... OK
* checking running R code from vignettes ... SKIPPED
* checking re-building of vignette outputs ... SKIPPED
* checking PDF version of manual ... OK
* DONE
Status: 2 NOTEs
See
‘/home/biocbuild/bbs-3.7-bioc/meat/TarSeqQC.Rcheck/00check.log’
for details.
TarSeqQC.Rcheck/00install.out
############################################################################## ############################################################################## ### ### Running command: ### ### /home/biocbuild/bbs-3.7-bioc/R/bin/R CMD INSTALL TarSeqQC ### ############################################################################## ############################################################################## * installing to library ‘/home/biocbuild/bbs-3.7-bioc/R/library’ * installing *source* package ‘TarSeqQC’ ... ** R ** data ** inst ** byte-compile and prepare package for lazy loading ** help *** installing help indices ** building package indices ** installing vignettes ** testing if installed package can be loaded * DONE (TarSeqQC)
TarSeqQC.Rcheck/tests/runTests.Rout
R version 3.5.1 Patched (2018-07-12 r74967) -- "Feather Spray"
Copyright (C) 2018 The R Foundation for Statistical Computing
Platform: x86_64-pc-linux-gnu (64-bit)
R is free software and comes with ABSOLUTELY NO WARRANTY.
You are welcome to redistribute it under certain conditions.
Type 'license()' or 'licence()' for distribution details.
R is a collaborative project with many contributors.
Type 'contributors()' for more information and
'citation()' on how to cite R or R packages in publications.
Type 'demo()' for some demos, 'help()' for on-line help, or
'help.start()' for an HTML browser interface to help.
Type 'q()' to quit R.
> BiocGenerics:::testPackage("TarSeqQC")
Attaching package: 'BiocGenerics'
The following objects are masked from 'package:parallel':
clusterApply, clusterApplyLB, clusterCall, clusterEvalQ,
clusterExport, clusterMap, parApply, parCapply, parLapply,
parLapplyLB, parRapply, parSapply, parSapplyLB
The following objects are masked from 'package:stats':
IQR, mad, sd, var, xtabs
The following objects are masked from 'package:base':
Filter, Find, Map, Position, Reduce, anyDuplicated, append,
as.data.frame, basename, cbind, colMeans, colSums, colnames,
dirname, do.call, duplicated, eval, evalq, get, grep, grepl,
intersect, is.unsorted, lapply, lengths, mapply, match, mget,
order, paste, pmax, pmax.int, pmin, pmin.int, rank, rbind,
rowMeans, rowSums, rownames, sapply, setdiff, sort, table, tapply,
union, unique, unsplit, which, which.max, which.min
Attaching package: 'S4Vectors'
The following object is masked from 'package:base':
expand.grid
Attaching package: 'Biostrings'
The following object is masked from 'package:base':
strsplit
Attaching package: 'plyr'
The following object is masked from 'package:XVector':
compact
The following object is masked from 'package:IRanges':
desc
The following object is masked from 'package:S4Vectors':
rename
RUNIT TEST PROTOCOL -- Tue Oct 16 04:09:29 2018
***********************************************
Number of test functions: 33
Number of errors: 0
Number of failures: 0
1 Test Suite :
TarSeqQC RUnit Tests - 33 test functions, 0 errors, 0 failures
Number of test functions: 33
Number of errors: 0
Number of failures: 0
>
> proc.time()
user system elapsed
15.360 3.656 13.279
TarSeqQC.Rcheck/TarSeqQC-Ex.timings
| name | user | system | elapsed | |
| TargetExperiment-biasExploration | 0.044 | 0.000 | 0.042 | |
| TargetExperiment-buildFeaturePanel | 1.464 | 0.012 | 1.529 | |
| TargetExperiment-buildReport | 1.344 | 0.004 | 1.350 | |
| TargetExperiment-class | 13.120 | 3.620 | 10.201 | |
| TargetExperiment-constructor | 0.932 | 0.092 | 1.251 | |
| TargetExperiment-getters | 0.760 | 0.244 | 0.192 | |
| TargetExperiment-initialize | 0.000 | 0.000 | 0.001 | |
| TargetExperiment-plot | 0.256 | 0.020 | 0.277 | |
| TargetExperiment-plotAttrExpl | 0.088 | 0.004 | 0.090 | |
| TargetExperiment-plotAttrPerform | 0.024 | 0.000 | 0.025 | |
| TargetExperiment-plotFeatPerform | 0.504 | 0.000 | 0.504 | |
| TargetExperiment-plotFeature | 0.884 | 0.816 | 0.811 | |
| TargetExperiment-plotGeneAttrPerFeat | 0.460 | 0.056 | 0.514 | |
| TargetExperiment-plotMetaDataExpl | 0.024 | 0.000 | 0.025 | |
| TargetExperiment-plotNtdPercentage | 0.444 | 0.416 | 0.453 | |
| TargetExperiment-plotRegion | 4.660 | 1.088 | 2.268 | |
| TargetExperiment-print | 0.032 | 0.004 | 0.036 | |
| TargetExperiment-readFrequencies | 0.332 | 0.156 | 0.392 | |
| TargetExperiment-setters | 0.004 | 0.000 | 0.005 | |
| TargetExperiment-show | 0.028 | 0.012 | 0.041 | |
| TargetExperiment-statistics | 0.048 | 0.004 | 0.051 | |
| TargetExperiment-summarizePanel | 0.052 | 0.072 | 0.362 | |
| TargetExperimentList-class | 1.028 | 0.292 | 0.433 | |
| TargetExperimentList-constructor | 0.048 | 0.000 | 0.048 | |
| TargetExperimentList-initialize | 0.044 | 0.000 | 0.046 | |
| TargetExperimentList-plotGlobalAttrExpl | 0.020 | 0.000 | 0.019 | |
| TargetExperimentList-plotPoolPerformance | 0.012 | 0.000 | 0.009 | |
| checkBedFasta | 0.024 | 0.000 | 0.024 | |
| pileupCounts | 0.392 | 0.304 | 0.441 | |
| plotInOutFeatures | 0.388 | 0.308 | 0.421 | |