| Back to Multiple platform build/check report for BioC 3.7 |
|
This page was generated on 2018-10-17 08:33:50 -0400 (Wed, 17 Oct 2018).
| Package 1361/1561 | Hostname | OS / Arch | INSTALL | BUILD | CHECK | BUILD BIN | ||||||
| ShortRead 1.38.0 Bioconductor Package Maintainer
| malbec2 | Linux (Ubuntu 16.04.1 LTS) / x86_64 | OK | OK | OK | |||||||
| tokay2 | Windows Server 2012 R2 Standard / x64 | [ OK ] | OK | WARNINGS | OK | |||||||
| merida2 | OS X 10.11.6 El Capitan / x86_64 | OK | OK | OK | OK |
| Package: ShortRead |
| Version: 1.38.0 |
| Command: C:\cygwin\bin\curl.exe -O https://malbec2.bioconductor.org/BBS/3.7/bioc/src/contrib/ShortRead_1.38.0.tar.gz && rm -rf ShortRead.buildbin-libdir && mkdir ShortRead.buildbin-libdir && C:\Users\biocbuild\bbs-3.7-bioc\R\bin\R.exe CMD INSTALL --merge-multiarch --build --library=ShortRead.buildbin-libdir ShortRead_1.38.0.tar.gz && C:\Users\biocbuild\bbs-3.7-bioc\R\bin\R.exe CMD INSTALL ShortRead_1.38.0.zip && rm ShortRead_1.38.0.tar.gz ShortRead_1.38.0.zip |
| StartedAt: 2018-10-16 19:36:23 -0400 (Tue, 16 Oct 2018) |
| EndedAt: 2018-10-16 19:39:59 -0400 (Tue, 16 Oct 2018) |
| EllapsedTime: 216.2 seconds |
| RetCode: 0 |
| Status: OK |
##############################################################################
##############################################################################
###
### Running command:
###
### C:\cygwin\bin\curl.exe -O https://malbec2.bioconductor.org/BBS/3.7/bioc/src/contrib/ShortRead_1.38.0.tar.gz && rm -rf ShortRead.buildbin-libdir && mkdir ShortRead.buildbin-libdir && C:\Users\biocbuild\bbs-3.7-bioc\R\bin\R.exe CMD INSTALL --merge-multiarch --build --library=ShortRead.buildbin-libdir ShortRead_1.38.0.tar.gz && C:\Users\biocbuild\bbs-3.7-bioc\R\bin\R.exe CMD INSTALL ShortRead_1.38.0.zip && rm ShortRead_1.38.0.tar.gz ShortRead_1.38.0.zip
###
##############################################################################
##############################################################################
% Total % Received % Xferd Average Speed Time Time Time Current
Dload Upload Total Spent Left Speed
0 0 0 0 0 0 0 0 --:--:-- --:--:-- --:--:-- 0
100 4895k 100 4895k 0 0 50.4M 0 --:--:-- --:--:-- --:--:-- 54.3M
install for i386
* installing *source* package 'ShortRead' ...
**********************************************
WARNING: this package has a configure script
It probably needs manual configuration
**********************************************
** libs
C:/Rtools/mingw_32/bin/gcc -I"C:/Users/biocbuild/bbs-3.7-bioc/R/library/zlibbioc/include" -I"C:/Users/BIOCBU˜1/BBS-3˜1.7-B/R/include" -DNDEBUG -I"C:/Users/biocbuild/bbs-3.7-bioc/R/library/S4Vectors/include" -I"C:/Users/biocbuild/bbs-3.7-bioc/R/library/IRanges/include" -I"C:/Users/biocbuild/bbs-3.7-bioc/R/library/XVector/include" -I"C:/Users/biocbuild/bbs-3.7-bioc/R/library/Biostrings/include" -I"C:/extsoft/include" -O3 -Wall -std=gnu99 -mtune=generic -c Biostrings_stubs.c -o Biostrings_stubs.o
C:/Rtools/mingw_32/bin/gcc -I"C:/Users/biocbuild/bbs-3.7-bioc/R/library/zlibbioc/include" -I"C:/Users/BIOCBU˜1/BBS-3˜1.7-B/R/include" -DNDEBUG -I"C:/Users/biocbuild/bbs-3.7-bioc/R/library/S4Vectors/include" -I"C:/Users/biocbuild/bbs-3.7-bioc/R/library/IRanges/include" -I"C:/Users/biocbuild/bbs-3.7-bioc/R/library/XVector/include" -I"C:/Users/biocbuild/bbs-3.7-bioc/R/library/Biostrings/include" -I"C:/extsoft/include" -O3 -Wall -std=gnu99 -mtune=generic -c IRanges_stubs.c -o IRanges_stubs.o
C:/Rtools/mingw_32/bin/gcc -I"C:/Users/biocbuild/bbs-3.7-bioc/R/library/zlibbioc/include" -I"C:/Users/BIOCBU˜1/BBS-3˜1.7-B/R/include" -DNDEBUG -I"C:/Users/biocbuild/bbs-3.7-bioc/R/library/S4Vectors/include" -I"C:/Users/biocbuild/bbs-3.7-bioc/R/library/IRanges/include" -I"C:/Users/biocbuild/bbs-3.7-bioc/R/library/XVector/include" -I"C:/Users/biocbuild/bbs-3.7-bioc/R/library/Biostrings/include" -I"C:/extsoft/include" -O3 -Wall -std=gnu99 -mtune=generic -c R_init_ShortRead.c -o R_init_ShortRead.o
C:/Rtools/mingw_32/bin/gcc -I"C:/Users/biocbuild/bbs-3.7-bioc/R/library/zlibbioc/include" -I"C:/Users/BIOCBU˜1/BBS-3˜1.7-B/R/include" -DNDEBUG -I"C:/Users/biocbuild/bbs-3.7-bioc/R/library/S4Vectors/include" -I"C:/Users/biocbuild/bbs-3.7-bioc/R/library/IRanges/include" -I"C:/Users/biocbuild/bbs-3.7-bioc/R/library/XVector/include" -I"C:/Users/biocbuild/bbs-3.7-bioc/R/library/Biostrings/include" -I"C:/extsoft/include" -O3 -Wall -std=gnu99 -mtune=generic -c S4Vectors_stubs.c -o S4Vectors_stubs.o
C:/Rtools/mingw_32/bin/gcc -I"C:/Users/biocbuild/bbs-3.7-bioc/R/library/zlibbioc/include" -I"C:/Users/BIOCBU˜1/BBS-3˜1.7-B/R/include" -DNDEBUG -I"C:/Users/biocbuild/bbs-3.7-bioc/R/library/S4Vectors/include" -I"C:/Users/biocbuild/bbs-3.7-bioc/R/library/IRanges/include" -I"C:/Users/biocbuild/bbs-3.7-bioc/R/library/XVector/include" -I"C:/Users/biocbuild/bbs-3.7-bioc/R/library/Biostrings/include" -I"C:/extsoft/include" -O3 -Wall -std=gnu99 -mtune=generic -c XVector_stubs.c -o XVector_stubs.o
C:/Rtools/mingw_32/bin/gcc -I"C:/Users/biocbuild/bbs-3.7-bioc/R/library/zlibbioc/include" -I"C:/Users/BIOCBU˜1/BBS-3˜1.7-B/R/include" -DNDEBUG -I"C:/Users/biocbuild/bbs-3.7-bioc/R/library/S4Vectors/include" -I"C:/Users/biocbuild/bbs-3.7-bioc/R/library/IRanges/include" -I"C:/Users/biocbuild/bbs-3.7-bioc/R/library/XVector/include" -I"C:/Users/biocbuild/bbs-3.7-bioc/R/library/Biostrings/include" -I"C:/extsoft/include" -O3 -Wall -std=gnu99 -mtune=generic -c alphabet.c -o alphabet.o
C:/Rtools/mingw_32/bin/gcc -I"C:/Users/biocbuild/bbs-3.7-bioc/R/library/zlibbioc/include" -I"C:/Users/BIOCBU˜1/BBS-3˜1.7-B/R/include" -DNDEBUG -I"C:/Users/biocbuild/bbs-3.7-bioc/R/library/S4Vectors/include" -I"C:/Users/biocbuild/bbs-3.7-bioc/R/library/IRanges/include" -I"C:/Users/biocbuild/bbs-3.7-bioc/R/library/XVector/include" -I"C:/Users/biocbuild/bbs-3.7-bioc/R/library/Biostrings/include" -I"C:/extsoft/include" -O3 -Wall -std=gnu99 -mtune=generic -c io.c -o io.o
C:/Rtools/mingw_32/bin/gcc -I"C:/Users/biocbuild/bbs-3.7-bioc/R/library/zlibbioc/include" -I"C:/Users/BIOCBU˜1/BBS-3˜1.7-B/R/include" -DNDEBUG -I"C:/Users/biocbuild/bbs-3.7-bioc/R/library/S4Vectors/include" -I"C:/Users/biocbuild/bbs-3.7-bioc/R/library/IRanges/include" -I"C:/Users/biocbuild/bbs-3.7-bioc/R/library/XVector/include" -I"C:/Users/biocbuild/bbs-3.7-bioc/R/library/Biostrings/include" -I"C:/extsoft/include" -O3 -Wall -std=gnu99 -mtune=generic -c io_bowtie.c -o io_bowtie.o
C:/Rtools/mingw_32/bin/gcc -I"C:/Users/biocbuild/bbs-3.7-bioc/R/library/zlibbioc/include" -I"C:/Users/BIOCBU˜1/BBS-3˜1.7-B/R/include" -DNDEBUG -I"C:/Users/biocbuild/bbs-3.7-bioc/R/library/S4Vectors/include" -I"C:/Users/biocbuild/bbs-3.7-bioc/R/library/IRanges/include" -I"C:/Users/biocbuild/bbs-3.7-bioc/R/library/XVector/include" -I"C:/Users/biocbuild/bbs-3.7-bioc/R/library/Biostrings/include" -I"C:/extsoft/include" -O3 -Wall -std=gnu99 -mtune=generic -c io_soap.c -o io_soap.o
C:/Rtools/mingw_32/bin/g++ -I"C:/Users/biocbuild/bbs-3.7-bioc/R/library/zlibbioc/include" -I"C:/Users/BIOCBU˜1/BBS-3˜1.7-B/R/include" -DNDEBUG -I"C:/Users/biocbuild/bbs-3.7-bioc/R/library/S4Vectors/include" -I"C:/Users/biocbuild/bbs-3.7-bioc/R/library/IRanges/include" -I"C:/Users/biocbuild/bbs-3.7-bioc/R/library/XVector/include" -I"C:/Users/biocbuild/bbs-3.7-bioc/R/library/Biostrings/include" -I"C:/extsoft/include" -O2 -Wall -mtune=generic -c readBfaToc.cc -o readBfaToc.o
C:/Rtools/mingw_32/bin/g++ -I"C:/Users/biocbuild/bbs-3.7-bioc/R/library/zlibbioc/include" -I"C:/Users/BIOCBU˜1/BBS-3˜1.7-B/R/include" -DNDEBUG -I"C:/Users/biocbuild/bbs-3.7-bioc/R/library/S4Vectors/include" -I"C:/Users/biocbuild/bbs-3.7-bioc/R/library/IRanges/include" -I"C:/Users/biocbuild/bbs-3.7-bioc/R/library/XVector/include" -I"C:/Users/biocbuild/bbs-3.7-bioc/R/library/Biostrings/include" -I"C:/extsoft/include" -O2 -Wall -mtune=generic -c read_maq_map.cc -o read_maq_map.o
C:/Rtools/mingw_32/bin/gcc -I"C:/Users/biocbuild/bbs-3.7-bioc/R/library/zlibbioc/include" -I"C:/Users/BIOCBU˜1/BBS-3˜1.7-B/R/include" -DNDEBUG -I"C:/Users/biocbuild/bbs-3.7-bioc/R/library/S4Vectors/include" -I"C:/Users/biocbuild/bbs-3.7-bioc/R/library/IRanges/include" -I"C:/Users/biocbuild/bbs-3.7-bioc/R/library/XVector/include" -I"C:/Users/biocbuild/bbs-3.7-bioc/R/library/Biostrings/include" -I"C:/extsoft/include" -O3 -Wall -std=gnu99 -mtune=generic -c sampler.c -o sampler.o
C:/Rtools/mingw_32/bin/gcc -I"C:/Users/biocbuild/bbs-3.7-bioc/R/library/zlibbioc/include" -I"C:/Users/BIOCBU˜1/BBS-3˜1.7-B/R/include" -DNDEBUG -I"C:/Users/biocbuild/bbs-3.7-bioc/R/library/S4Vectors/include" -I"C:/Users/biocbuild/bbs-3.7-bioc/R/library/IRanges/include" -I"C:/Users/biocbuild/bbs-3.7-bioc/R/library/XVector/include" -I"C:/Users/biocbuild/bbs-3.7-bioc/R/library/Biostrings/include" -I"C:/extsoft/include" -O3 -Wall -std=gnu99 -mtune=generic -c trim.c -o trim.o
C:/Rtools/mingw_32/bin/gcc -I"C:/Users/biocbuild/bbs-3.7-bioc/R/library/zlibbioc/include" -I"C:/Users/BIOCBU˜1/BBS-3˜1.7-B/R/include" -DNDEBUG -I"C:/Users/biocbuild/bbs-3.7-bioc/R/library/S4Vectors/include" -I"C:/Users/biocbuild/bbs-3.7-bioc/R/library/IRanges/include" -I"C:/Users/biocbuild/bbs-3.7-bioc/R/library/XVector/include" -I"C:/Users/biocbuild/bbs-3.7-bioc/R/library/Biostrings/include" -I"C:/extsoft/include" -O3 -Wall -std=gnu99 -mtune=generic -c util.c -o util.o
C:/Rtools/mingw_32/bin/gcc -I"C:/Users/biocbuild/bbs-3.7-bioc/R/library/zlibbioc/include" -I"C:/Users/BIOCBU˜1/BBS-3˜1.7-B/R/include" -DNDEBUG -I"C:/Users/biocbuild/bbs-3.7-bioc/R/library/S4Vectors/include" -I"C:/Users/biocbuild/bbs-3.7-bioc/R/library/IRanges/include" -I"C:/Users/biocbuild/bbs-3.7-bioc/R/library/XVector/include" -I"C:/Users/biocbuild/bbs-3.7-bioc/R/library/Biostrings/include" -I"C:/extsoft/include" -O3 -Wall -std=gnu99 -mtune=generic -c xsnap.c -o xsnap.o
C:/Rtools/mingw_32/bin/g++ -shared -s -static-libgcc -o ShortRead.dll tmp.def Biostrings_stubs.o IRanges_stubs.o R_init_ShortRead.o S4Vectors_stubs.o XVector_stubs.o alphabet.o io.o io_bowtie.o io_soap.o readBfaToc.o read_maq_map.o sampler.o trim.o util.o xsnap.o -LC:/Users/biocbuild/bbs-3.7-bioc/R/library/zlibbioc/libs/i386 -lzlib1bioc -LC:/extsoft/lib/i386 -LC:/extsoft/lib -LC:/Users/BIOCBU˜1/BBS-3˜1.7-B/R/bin/i386 -lR
installing to C:/Users/biocbuild/bbs-3.7-bioc/meat/ShortRead.buildbin-libdir/ShortRead/libs/i386
** R
** inst
** byte-compile and prepare package for lazy loading
** help
*** installing help indices
converting help for package 'ShortRead'
finding HTML links ... done
AlignedDataFrame-class html
AlignedDataFrame html
AlignedRead-class html
Rd warning: C:/Users/biocbuild/bbs-3.7-bioc/tmpdir/RtmpYrZTL3/R.INSTALLfe425af3373/ShortRead/man/AlignedRead-class.Rd:119: file link 'IntegerRangesList' in package 'IRanges' does not exist and so has been treated as a topic
Rd warning: C:/Users/biocbuild/bbs-3.7-bioc/tmpdir/RtmpYrZTL3/R.INSTALLfe425af3373/ShortRead/man/AlignedRead-class.Rd:120: file link 'RangedData' in package 'IRanges' does not exist and so has been treated as a topic
Rd warning: C:/Users/biocbuild/bbs-3.7-bioc/tmpdir/RtmpYrZTL3/R.INSTALLfe425af3373/ShortRead/man/AlignedRead-class.Rd:121: file link 'GRanges' in package 'GenomicRanges' does not exist and so has been treated as a topic
Rd warning: C:/Users/biocbuild/bbs-3.7-bioc/tmpdir/RtmpYrZTL3/R.INSTALLfe425af3373/ShortRead/man/AlignedRead-class.Rd:124: file link 'IntegerRangesList' in package 'IRanges' does not exist and so has been treated as a topic
AlignedRead html
BowtieQA-class html
ExperimentPath-class html
FastqQA-class html
Intensity-class html
MAQMapQA-class html
QA-class html
QualityScore-class html
QualityScore html
RochePath-class html
RocheSet-class html
RtaIntensity-class html
RtaIntensity html
SRFilter-class html
SRFilterResult-class html
SRSet-class html
finding level-2 HTML links ... done
SRUtil-class html
Sampler-class html
ShortRead-class html
ShortRead-deprecated html
ShortRead-package html
ShortReadQ-class html
Snapshot-class html
SnapshotFunction-class html
SolexaExportQA-class html
SolexaIntensity-class html
SolexaIntensity html
SolexaPath-class html
SolexaSet-class html
SpTrellis-class html
accessors html
alphabetByCycle html
alphabetScore html
clean html
countLines html
deprecated html
dotQA-class html
dustyScore html
filterFastq html
polyn html
qa html
qa2 html
readAligned html
readBaseQuality html
readBfaToc html
readFasta html
readFastq html
readIntensities html
readPrb html
readQseq html
readXStringColumns html
renew html
report html
spViewPerFeature html
srFilter html
srdistance html
srduplicated html
tables html
trimTails html
** building package indices
** installing vignettes
** testing if installed package can be loaded
In R CMD INSTALL
install for x64
* installing *source* package 'ShortRead' ...
**********************************************
WARNING: this package has a configure script
It probably needs manual configuration
**********************************************
** libs
C:/Rtools/mingw_64/bin/gcc -I"C:/Users/biocbuild/bbs-3.7-bioc/R/library/zlibbioc/include" -I"C:/Users/BIOCBU˜1/BBS-3˜1.7-B/R/include" -DNDEBUG -I"C:/Users/biocbuild/bbs-3.7-bioc/R/library/S4Vectors/include" -I"C:/Users/biocbuild/bbs-3.7-bioc/R/library/IRanges/include" -I"C:/Users/biocbuild/bbs-3.7-bioc/R/library/XVector/include" -I"C:/Users/biocbuild/bbs-3.7-bioc/R/library/Biostrings/include" -I"C:/extsoft/include" -O2 -Wall -std=gnu99 -mtune=generic -c Biostrings_stubs.c -o Biostrings_stubs.o
C:/Rtools/mingw_64/bin/gcc -I"C:/Users/biocbuild/bbs-3.7-bioc/R/library/zlibbioc/include" -I"C:/Users/BIOCBU˜1/BBS-3˜1.7-B/R/include" -DNDEBUG -I"C:/Users/biocbuild/bbs-3.7-bioc/R/library/S4Vectors/include" -I"C:/Users/biocbuild/bbs-3.7-bioc/R/library/IRanges/include" -I"C:/Users/biocbuild/bbs-3.7-bioc/R/library/XVector/include" -I"C:/Users/biocbuild/bbs-3.7-bioc/R/library/Biostrings/include" -I"C:/extsoft/include" -O2 -Wall -std=gnu99 -mtune=generic -c IRanges_stubs.c -o IRanges_stubs.o
C:/Rtools/mingw_64/bin/gcc -I"C:/Users/biocbuild/bbs-3.7-bioc/R/library/zlibbioc/include" -I"C:/Users/BIOCBU˜1/BBS-3˜1.7-B/R/include" -DNDEBUG -I"C:/Users/biocbuild/bbs-3.7-bioc/R/library/S4Vectors/include" -I"C:/Users/biocbuild/bbs-3.7-bioc/R/library/IRanges/include" -I"C:/Users/biocbuild/bbs-3.7-bioc/R/library/XVector/include" -I"C:/Users/biocbuild/bbs-3.7-bioc/R/library/Biostrings/include" -I"C:/extsoft/include" -O2 -Wall -std=gnu99 -mtune=generic -c R_init_ShortRead.c -o R_init_ShortRead.o
C:/Rtools/mingw_64/bin/gcc -I"C:/Users/biocbuild/bbs-3.7-bioc/R/library/zlibbioc/include" -I"C:/Users/BIOCBU˜1/BBS-3˜1.7-B/R/include" -DNDEBUG -I"C:/Users/biocbuild/bbs-3.7-bioc/R/library/S4Vectors/include" -I"C:/Users/biocbuild/bbs-3.7-bioc/R/library/IRanges/include" -I"C:/Users/biocbuild/bbs-3.7-bioc/R/library/XVector/include" -I"C:/Users/biocbuild/bbs-3.7-bioc/R/library/Biostrings/include" -I"C:/extsoft/include" -O2 -Wall -std=gnu99 -mtune=generic -c S4Vectors_stubs.c -o S4Vectors_stubs.o
C:/Rtools/mingw_64/bin/gcc -I"C:/Users/biocbuild/bbs-3.7-bioc/R/library/zlibbioc/include" -I"C:/Users/BIOCBU˜1/BBS-3˜1.7-B/R/include" -DNDEBUG -I"C:/Users/biocbuild/bbs-3.7-bioc/R/library/S4Vectors/include" -I"C:/Users/biocbuild/bbs-3.7-bioc/R/library/IRanges/include" -I"C:/Users/biocbuild/bbs-3.7-bioc/R/library/XVector/include" -I"C:/Users/biocbuild/bbs-3.7-bioc/R/library/Biostrings/include" -I"C:/extsoft/include" -O2 -Wall -std=gnu99 -mtune=generic -c XVector_stubs.c -o XVector_stubs.o
C:/Rtools/mingw_64/bin/gcc -I"C:/Users/biocbuild/bbs-3.7-bioc/R/library/zlibbioc/include" -I"C:/Users/BIOCBU˜1/BBS-3˜1.7-B/R/include" -DNDEBUG -I"C:/Users/biocbuild/bbs-3.7-bioc/R/library/S4Vectors/include" -I"C:/Users/biocbuild/bbs-3.7-bioc/R/library/IRanges/include" -I"C:/Users/biocbuild/bbs-3.7-bioc/R/library/XVector/include" -I"C:/Users/biocbuild/bbs-3.7-bioc/R/library/Biostrings/include" -I"C:/extsoft/include" -O2 -Wall -std=gnu99 -mtune=generic -c alphabet.c -o alphabet.o
C:/Rtools/mingw_64/bin/gcc -I"C:/Users/biocbuild/bbs-3.7-bioc/R/library/zlibbioc/include" -I"C:/Users/BIOCBU˜1/BBS-3˜1.7-B/R/include" -DNDEBUG -I"C:/Users/biocbuild/bbs-3.7-bioc/R/library/S4Vectors/include" -I"C:/Users/biocbuild/bbs-3.7-bioc/R/library/IRanges/include" -I"C:/Users/biocbuild/bbs-3.7-bioc/R/library/XVector/include" -I"C:/Users/biocbuild/bbs-3.7-bioc/R/library/Biostrings/include" -I"C:/extsoft/include" -O2 -Wall -std=gnu99 -mtune=generic -c io.c -o io.o
C:/Rtools/mingw_64/bin/gcc -I"C:/Users/biocbuild/bbs-3.7-bioc/R/library/zlibbioc/include" -I"C:/Users/BIOCBU˜1/BBS-3˜1.7-B/R/include" -DNDEBUG -I"C:/Users/biocbuild/bbs-3.7-bioc/R/library/S4Vectors/include" -I"C:/Users/biocbuild/bbs-3.7-bioc/R/library/IRanges/include" -I"C:/Users/biocbuild/bbs-3.7-bioc/R/library/XVector/include" -I"C:/Users/biocbuild/bbs-3.7-bioc/R/library/Biostrings/include" -I"C:/extsoft/include" -O2 -Wall -std=gnu99 -mtune=generic -c io_bowtie.c -o io_bowtie.o
C:/Rtools/mingw_64/bin/gcc -I"C:/Users/biocbuild/bbs-3.7-bioc/R/library/zlibbioc/include" -I"C:/Users/BIOCBU˜1/BBS-3˜1.7-B/R/include" -DNDEBUG -I"C:/Users/biocbuild/bbs-3.7-bioc/R/library/S4Vectors/include" -I"C:/Users/biocbuild/bbs-3.7-bioc/R/library/IRanges/include" -I"C:/Users/biocbuild/bbs-3.7-bioc/R/library/XVector/include" -I"C:/Users/biocbuild/bbs-3.7-bioc/R/library/Biostrings/include" -I"C:/extsoft/include" -O2 -Wall -std=gnu99 -mtune=generic -c io_soap.c -o io_soap.o
C:/Rtools/mingw_64/bin/g++ -I"C:/Users/biocbuild/bbs-3.7-bioc/R/library/zlibbioc/include" -I"C:/Users/BIOCBU˜1/BBS-3˜1.7-B/R/include" -DNDEBUG -I"C:/Users/biocbuild/bbs-3.7-bioc/R/library/S4Vectors/include" -I"C:/Users/biocbuild/bbs-3.7-bioc/R/library/IRanges/include" -I"C:/Users/biocbuild/bbs-3.7-bioc/R/library/XVector/include" -I"C:/Users/biocbuild/bbs-3.7-bioc/R/library/Biostrings/include" -I"C:/extsoft/include" -O2 -Wall -mtune=generic -c readBfaToc.cc -o readBfaToc.o
C:/Rtools/mingw_64/bin/g++ -I"C:/Users/biocbuild/bbs-3.7-bioc/R/library/zlibbioc/include" -I"C:/Users/BIOCBU˜1/BBS-3˜1.7-B/R/include" -DNDEBUG -I"C:/Users/biocbuild/bbs-3.7-bioc/R/library/S4Vectors/include" -I"C:/Users/biocbuild/bbs-3.7-bioc/R/library/IRanges/include" -I"C:/Users/biocbuild/bbs-3.7-bioc/R/library/XVector/include" -I"C:/Users/biocbuild/bbs-3.7-bioc/R/library/Biostrings/include" -I"C:/extsoft/include" -O2 -Wall -mtune=generic -c read_maq_map.cc -o read_maq_map.o
C:/Rtools/mingw_64/bin/gcc -I"C:/Users/biocbuild/bbs-3.7-bioc/R/library/zlibbioc/include" -I"C:/Users/BIOCBU˜1/BBS-3˜1.7-B/R/include" -DNDEBUG -I"C:/Users/biocbuild/bbs-3.7-bioc/R/library/S4Vectors/include" -I"C:/Users/biocbuild/bbs-3.7-bioc/R/library/IRanges/include" -I"C:/Users/biocbuild/bbs-3.7-bioc/R/library/XVector/include" -I"C:/Users/biocbuild/bbs-3.7-bioc/R/library/Biostrings/include" -I"C:/extsoft/include" -O2 -Wall -std=gnu99 -mtune=generic -c sampler.c -o sampler.o
C:/Rtools/mingw_64/bin/gcc -I"C:/Users/biocbuild/bbs-3.7-bioc/R/library/zlibbioc/include" -I"C:/Users/BIOCBU˜1/BBS-3˜1.7-B/R/include" -DNDEBUG -I"C:/Users/biocbuild/bbs-3.7-bioc/R/library/S4Vectors/include" -I"C:/Users/biocbuild/bbs-3.7-bioc/R/library/IRanges/include" -I"C:/Users/biocbuild/bbs-3.7-bioc/R/library/XVector/include" -I"C:/Users/biocbuild/bbs-3.7-bioc/R/library/Biostrings/include" -I"C:/extsoft/include" -O2 -Wall -std=gnu99 -mtune=generic -c trim.c -o trim.o
C:/Rtools/mingw_64/bin/gcc -I"C:/Users/biocbuild/bbs-3.7-bioc/R/library/zlibbioc/include" -I"C:/Users/BIOCBU˜1/BBS-3˜1.7-B/R/include" -DNDEBUG -I"C:/Users/biocbuild/bbs-3.7-bioc/R/library/S4Vectors/include" -I"C:/Users/biocbuild/bbs-3.7-bioc/R/library/IRanges/include" -I"C:/Users/biocbuild/bbs-3.7-bioc/R/library/XVector/include" -I"C:/Users/biocbuild/bbs-3.7-bioc/R/library/Biostrings/include" -I"C:/extsoft/include" -O2 -Wall -std=gnu99 -mtune=generic -c util.c -o util.o
C:/Rtools/mingw_64/bin/gcc -I"C:/Users/biocbuild/bbs-3.7-bioc/R/library/zlibbioc/include" -I"C:/Users/BIOCBU˜1/BBS-3˜1.7-B/R/include" -DNDEBUG -I"C:/Users/biocbuild/bbs-3.7-bioc/R/library/S4Vectors/include" -I"C:/Users/biocbuild/bbs-3.7-bioc/R/library/IRanges/include" -I"C:/Users/biocbuild/bbs-3.7-bioc/R/library/XVector/include" -I"C:/Users/biocbuild/bbs-3.7-bioc/R/library/Biostrings/include" -I"C:/extsoft/include" -O2 -Wall -std=gnu99 -mtune=generic -c xsnap.c -o xsnap.o
C:/Rtools/mingw_64/bin/g++ -shared -s -static-libgcc -o ShortRead.dll tmp.def Biostrings_stubs.o IRanges_stubs.o R_init_ShortRead.o S4Vectors_stubs.o XVector_stubs.o alphabet.o io.o io_bowtie.o io_soap.o readBfaToc.o read_maq_map.o sampler.o trim.o util.o xsnap.o -LC:/Users/biocbuild/bbs-3.7-bioc/R/library/zlibbioc/libs/x64 -lzlib1bioc -LC:/extsoft/lib/x64 -LC:/extsoft/lib -LC:/Users/BIOCBU˜1/BBS-3˜1.7-B/R/bin/x64 -lR
installing to C:/Users/biocbuild/bbs-3.7-bioc/meat/ShortRead.buildbin-libdir/ShortRead/libs/x64
** testing if installed package can be loaded
* MD5 sums
packaged installation of 'ShortRead' as ShortRead_1.38.0.zip
* DONE (ShortRead)
In R CMD INSTALL
In R CMD INSTALL
* installing to library 'C:/Users/biocbuild/bbs-3.7-bioc/R/library'
package 'ShortRead' successfully unpacked and MD5 sums checked
In R CMD INSTALL