| Back to Multiple platform build/check report for BioC 3.7 |
|
This page was generated on 2018-10-17 08:22:24 -0400 (Wed, 17 Oct 2018).
| Package 1361/1561 | Hostname | OS / Arch | INSTALL | BUILD | CHECK | BUILD BIN | ||||||
| ShortRead 1.38.0 Bioconductor Package Maintainer
| malbec2 | Linux (Ubuntu 16.04.1 LTS) / x86_64 | OK | OK | [ OK ] | |||||||
| tokay2 | Windows Server 2012 R2 Standard / x64 | OK | OK | WARNINGS | OK | |||||||
| merida2 | OS X 10.11.6 El Capitan / x86_64 | OK | OK | OK | OK |
| Package: ShortRead |
| Version: 1.38.0 |
| Command: /home/biocbuild/bbs-3.7-bioc/R/bin/R CMD check --install=check:ShortRead.install-out.txt --library=/home/biocbuild/bbs-3.7-bioc/R/library --no-vignettes --timings ShortRead_1.38.0.tar.gz |
| StartedAt: 2018-10-16 03:45:03 -0400 (Tue, 16 Oct 2018) |
| EndedAt: 2018-10-16 03:48:07 -0400 (Tue, 16 Oct 2018) |
| EllapsedTime: 184.0 seconds |
| RetCode: 0 |
| Status: OK |
| CheckDir: ShortRead.Rcheck |
| Warnings: 0 |
##############################################################################
##############################################################################
###
### Running command:
###
### /home/biocbuild/bbs-3.7-bioc/R/bin/R CMD check --install=check:ShortRead.install-out.txt --library=/home/biocbuild/bbs-3.7-bioc/R/library --no-vignettes --timings ShortRead_1.38.0.tar.gz
###
##############################################################################
##############################################################################
* using log directory ‘/home/biocbuild/bbs-3.7-bioc/meat/ShortRead.Rcheck’
* using R version 3.5.1 Patched (2018-07-12 r74967)
* using platform: x86_64-pc-linux-gnu (64-bit)
* using session charset: UTF-8
* using option ‘--no-vignettes’
* checking for file ‘ShortRead/DESCRIPTION’ ... OK
* checking extension type ... Package
* this is package ‘ShortRead’ version ‘1.38.0’
* checking package namespace information ... OK
* checking package dependencies ... OK
* checking if this is a source package ... OK
* checking if there is a namespace ... OK
* checking for hidden files and directories ... OK
* checking for portable file names ... OK
* checking for sufficient/correct file permissions ... OK
* checking whether package ‘ShortRead’ can be installed ... OK
* checking installed package size ... NOTE
installed size is 7.7Mb
sub-directories of 1Mb or more:
R 2.1Mb
extdata 4.0Mb
* checking package directory ... OK
* checking ‘build’ directory ... OK
* checking DESCRIPTION meta-information ... OK
* checking top-level files ... OK
* checking for left-over files ... OK
* checking index information ... OK
* checking package subdirectories ... OK
* checking R files for non-ASCII characters ... OK
* checking R files for syntax errors ... OK
* checking whether the package can be loaded ... OK
* checking whether the package can be loaded with stated dependencies ... OK
* checking whether the package can be unloaded cleanly ... OK
* checking whether the namespace can be loaded with stated dependencies ... OK
* checking whether the namespace can be unloaded cleanly ... OK
* checking dependencies in R code ... NOTE
Unexported objects imported by ':::' calls:
‘Biostrings:::xscodes’ ‘S4Vectors:::V_recycle’
See the note in ?`:::` about the use of this operator.
* checking S3 generic/method consistency ... OK
* checking replacement functions ... OK
* checking foreign function calls ... OK
* checking R code for possible problems ... NOTE
.plotCycleBaseCall: no visible binding for global variable ‘Base’
flag,QAReadQuality: no visible binding for global variable ‘Score’
flag,QAReadQuality: no visible binding for global variable ‘Id’
flag,QAReadQuality: no visible binding for global variable ‘Density’
report,QAFrequentSequence: no visible binding for global variable
‘TopCount’
report,QAFrequentSequence: no visible binding for global variable ‘Id’
report,QANucleotideByCycle: no visible binding for global variable
‘Base’
report,QANucleotideUse: no visible binding for global variable
‘Nucleotide’
report,QAQualityUse: no visible binding for global variable ‘Count’
report,QAQualityUse: no visible binding for global variable ‘Id’
report,QAQualityUse: no visible binding for global variable ‘Quality’
report,QAReadQuality: no visible binding for global variable ‘Id’
report,QASequenceUse: no visible binding for global variable
‘Occurrences’
report,QASequenceUse: no visible binding for global variable ‘Id’
report,QASequenceUse: no visible binding for global variable ‘Reads’
Undefined global functions or variables:
Base Count Density Id Nucleotide Occurrences Quality Reads Score
TopCount
* checking Rd files ... OK
* checking Rd metadata ... OK
* checking Rd cross-references ... OK
* checking for missing documentation entries ... OK
* checking for code/documentation mismatches ... OK
* checking Rd \usage sections ... OK
* checking Rd contents ... OK
* checking for unstated dependencies in examples ... OK
* checking line endings in shell scripts ... OK
* checking line endings in C/C++/Fortran sources/headers ... OK
* checking line endings in Makefiles ... OK
* checking compilation flags in Makevars ... OK
* checking for GNU extensions in Makefiles ... OK
* checking for portable use of $(BLAS_LIBS) and $(LAPACK_LIBS) ... OK
* checking compiled code ... NOTE
Note: information on .o files is not available
* checking files in ‘vignettes’ ... OK
* checking examples ... OK
Examples with CPU or elapsed time > 5s
user system elapsed
Snapshot-class 6.5 0.072 6.689
* checking for unstated dependencies in ‘tests’ ... OK
* checking tests ...
Running ‘ShortRead_unit_tests.R’
OK
* checking for unstated dependencies in vignettes ... OK
* checking package vignettes in ‘inst/doc’ ... OK
* checking running R code from vignettes ... SKIPPED
* checking re-building of vignette outputs ... SKIPPED
* checking PDF version of manual ... OK
* DONE
Status: 4 NOTEs
See
‘/home/biocbuild/bbs-3.7-bioc/meat/ShortRead.Rcheck/00check.log’
for details.
ShortRead.Rcheck/00install.out
##############################################################################
##############################################################################
###
### Running command:
###
### /home/biocbuild/bbs-3.7-bioc/R/bin/R CMD INSTALL ShortRead
###
##############################################################################
##############################################################################
* installing to library ‘/home/biocbuild/bbs-3.7-bioc/R/library’
* installing *source* package ‘ShortRead’ ...
checking for gcc... gcc
checking whether the C compiler works... yes
checking for C compiler default output file name... a.out
checking for suffix of executables...
checking whether we are cross compiling... no
checking for suffix of object files... o
checking whether we are using the GNU C compiler... yes
checking whether gcc accepts -g... yes
checking for gcc option to accept ISO C89... none needed
checking for gzeof in -lz... yes
checking how to run the C preprocessor... gcc -E
checking for grep that handles long lines and -e... /bin/grep
checking for egrep... /bin/grep -E
checking for ANSI C header files... yes
checking for sys/types.h... yes
checking for sys/stat.h... yes
checking for stdlib.h... yes
checking for string.h... yes
checking for memory.h... yes
checking for strings.h... yes
checking for inttypes.h... yes
checking for stdint.h... yes
checking for unistd.h... yes
checking size of unsigned long... 8
configure: creating ./config.status
config.status: creating src/Makevars
** libs
gcc -I"/home/biocbuild/bbs-3.7-bioc/R/include" -DNDEBUG -I"/home/biocbuild/bbs-3.7-bioc/R/library/S4Vectors/include" -I"/home/biocbuild/bbs-3.7-bioc/R/library/IRanges/include" -I"/home/biocbuild/bbs-3.7-bioc/R/library/XVector/include" -I"/home/biocbuild/bbs-3.7-bioc/R/library/Biostrings/include" -I/usr/local/include -fopenmp -fpic -g -O2 -Wall -c Biostrings_stubs.c -o Biostrings_stubs.o
gcc -I"/home/biocbuild/bbs-3.7-bioc/R/include" -DNDEBUG -I"/home/biocbuild/bbs-3.7-bioc/R/library/S4Vectors/include" -I"/home/biocbuild/bbs-3.7-bioc/R/library/IRanges/include" -I"/home/biocbuild/bbs-3.7-bioc/R/library/XVector/include" -I"/home/biocbuild/bbs-3.7-bioc/R/library/Biostrings/include" -I/usr/local/include -fopenmp -fpic -g -O2 -Wall -c IRanges_stubs.c -o IRanges_stubs.o
gcc -I"/home/biocbuild/bbs-3.7-bioc/R/include" -DNDEBUG -I"/home/biocbuild/bbs-3.7-bioc/R/library/S4Vectors/include" -I"/home/biocbuild/bbs-3.7-bioc/R/library/IRanges/include" -I"/home/biocbuild/bbs-3.7-bioc/R/library/XVector/include" -I"/home/biocbuild/bbs-3.7-bioc/R/library/Biostrings/include" -I/usr/local/include -fopenmp -fpic -g -O2 -Wall -c R_init_ShortRead.c -o R_init_ShortRead.o
gcc -I"/home/biocbuild/bbs-3.7-bioc/R/include" -DNDEBUG -I"/home/biocbuild/bbs-3.7-bioc/R/library/S4Vectors/include" -I"/home/biocbuild/bbs-3.7-bioc/R/library/IRanges/include" -I"/home/biocbuild/bbs-3.7-bioc/R/library/XVector/include" -I"/home/biocbuild/bbs-3.7-bioc/R/library/Biostrings/include" -I/usr/local/include -fopenmp -fpic -g -O2 -Wall -c S4Vectors_stubs.c -o S4Vectors_stubs.o
gcc -I"/home/biocbuild/bbs-3.7-bioc/R/include" -DNDEBUG -I"/home/biocbuild/bbs-3.7-bioc/R/library/S4Vectors/include" -I"/home/biocbuild/bbs-3.7-bioc/R/library/IRanges/include" -I"/home/biocbuild/bbs-3.7-bioc/R/library/XVector/include" -I"/home/biocbuild/bbs-3.7-bioc/R/library/Biostrings/include" -I/usr/local/include -fopenmp -fpic -g -O2 -Wall -c XVector_stubs.c -o XVector_stubs.o
gcc -I"/home/biocbuild/bbs-3.7-bioc/R/include" -DNDEBUG -I"/home/biocbuild/bbs-3.7-bioc/R/library/S4Vectors/include" -I"/home/biocbuild/bbs-3.7-bioc/R/library/IRanges/include" -I"/home/biocbuild/bbs-3.7-bioc/R/library/XVector/include" -I"/home/biocbuild/bbs-3.7-bioc/R/library/Biostrings/include" -I/usr/local/include -fopenmp -fpic -g -O2 -Wall -c alphabet.c -o alphabet.o
gcc -I"/home/biocbuild/bbs-3.7-bioc/R/include" -DNDEBUG -I"/home/biocbuild/bbs-3.7-bioc/R/library/S4Vectors/include" -I"/home/biocbuild/bbs-3.7-bioc/R/library/IRanges/include" -I"/home/biocbuild/bbs-3.7-bioc/R/library/XVector/include" -I"/home/biocbuild/bbs-3.7-bioc/R/library/Biostrings/include" -I/usr/local/include -fopenmp -fpic -g -O2 -Wall -c io.c -o io.o
gcc -I"/home/biocbuild/bbs-3.7-bioc/R/include" -DNDEBUG -I"/home/biocbuild/bbs-3.7-bioc/R/library/S4Vectors/include" -I"/home/biocbuild/bbs-3.7-bioc/R/library/IRanges/include" -I"/home/biocbuild/bbs-3.7-bioc/R/library/XVector/include" -I"/home/biocbuild/bbs-3.7-bioc/R/library/Biostrings/include" -I/usr/local/include -fopenmp -fpic -g -O2 -Wall -c io_bowtie.c -o io_bowtie.o
gcc -I"/home/biocbuild/bbs-3.7-bioc/R/include" -DNDEBUG -I"/home/biocbuild/bbs-3.7-bioc/R/library/S4Vectors/include" -I"/home/biocbuild/bbs-3.7-bioc/R/library/IRanges/include" -I"/home/biocbuild/bbs-3.7-bioc/R/library/XVector/include" -I"/home/biocbuild/bbs-3.7-bioc/R/library/Biostrings/include" -I/usr/local/include -fopenmp -fpic -g -O2 -Wall -c io_soap.c -o io_soap.o
g++ -I"/home/biocbuild/bbs-3.7-bioc/R/include" -DNDEBUG -I"/home/biocbuild/bbs-3.7-bioc/R/library/S4Vectors/include" -I"/home/biocbuild/bbs-3.7-bioc/R/library/IRanges/include" -I"/home/biocbuild/bbs-3.7-bioc/R/library/XVector/include" -I"/home/biocbuild/bbs-3.7-bioc/R/library/Biostrings/include" -I/usr/local/include -DPACKAGE_NAME=\"\" -DPACKAGE_TARNAME=\"\" -DPACKAGE_VERSION=\"\" -DPACKAGE_STRING=\"\" -DPACKAGE_BUGREPORT=\"\" -DPACKAGE_URL=\"\" -DHAVE_LIBZ=1 -DSTDC_HEADERS=1 -DHAVE_SYS_TYPES_H=1 -DHAVE_SYS_STAT_H=1 -DHAVE_STDLIB_H=1 -DHAVE_STRING_H=1 -DHAVE_MEMORY_H=1 -DHAVE_STRINGS_H=1 -DHAVE_INTTYPES_H=1 -DHAVE_STDINT_H=1 -DHAVE_UNISTD_H=1 -DSIZEOF_UNSIGNED_LONG=8 -fpic -g -O2 -Wall -c readBfaToc.cc -o readBfaToc.o
readBfaToc.cc: In function ‘SEXPREC* readBfaToc(SEXP)’:
readBfaToc.cc:35:59: warning: ignoring return value of ‘size_t fread(void*, size_t, size_t, FILE*)’, declared with attribute warn_unused_result [-Wunused-result]
(void) fread( seq_name, sizeof(char), name_len, fp );
^
readBfaToc.cc:36:55: warning: ignoring return value of ‘size_t fread(void*, size_t, size_t, FILE*)’, declared with attribute warn_unused_result [-Wunused-result]
(void) fread( &seq_ori_len, sizeof(int), 1, fp );
^
readBfaToc.cc:37:51: warning: ignoring return value of ‘size_t fread(void*, size_t, size_t, FILE*)’, declared with attribute warn_unused_result [-Wunused-result]
(void) fread( &seq_len, sizeof(int), 1, fp );
^
g++ -I"/home/biocbuild/bbs-3.7-bioc/R/include" -DNDEBUG -I"/home/biocbuild/bbs-3.7-bioc/R/library/S4Vectors/include" -I"/home/biocbuild/bbs-3.7-bioc/R/library/IRanges/include" -I"/home/biocbuild/bbs-3.7-bioc/R/library/XVector/include" -I"/home/biocbuild/bbs-3.7-bioc/R/library/Biostrings/include" -I/usr/local/include -DPACKAGE_NAME=\"\" -DPACKAGE_TARNAME=\"\" -DPACKAGE_VERSION=\"\" -DPACKAGE_STRING=\"\" -DPACKAGE_BUGREPORT=\"\" -DPACKAGE_URL=\"\" -DHAVE_LIBZ=1 -DSTDC_HEADERS=1 -DHAVE_SYS_TYPES_H=1 -DHAVE_SYS_STAT_H=1 -DHAVE_STDLIB_H=1 -DHAVE_STRING_H=1 -DHAVE_MEMORY_H=1 -DHAVE_STRINGS_H=1 -DHAVE_INTTYPES_H=1 -DHAVE_STDINT_H=1 -DHAVE_UNISTD_H=1 -DSIZEOF_UNSIGNED_LONG=8 -fpic -g -O2 -Wall -c read_maq_map.cc -o read_maq_map.o
gcc -I"/home/biocbuild/bbs-3.7-bioc/R/include" -DNDEBUG -I"/home/biocbuild/bbs-3.7-bioc/R/library/S4Vectors/include" -I"/home/biocbuild/bbs-3.7-bioc/R/library/IRanges/include" -I"/home/biocbuild/bbs-3.7-bioc/R/library/XVector/include" -I"/home/biocbuild/bbs-3.7-bioc/R/library/Biostrings/include" -I/usr/local/include -fopenmp -fpic -g -O2 -Wall -c sampler.c -o sampler.o
gcc -I"/home/biocbuild/bbs-3.7-bioc/R/include" -DNDEBUG -I"/home/biocbuild/bbs-3.7-bioc/R/library/S4Vectors/include" -I"/home/biocbuild/bbs-3.7-bioc/R/library/IRanges/include" -I"/home/biocbuild/bbs-3.7-bioc/R/library/XVector/include" -I"/home/biocbuild/bbs-3.7-bioc/R/library/Biostrings/include" -I/usr/local/include -fopenmp -fpic -g -O2 -Wall -c trim.c -o trim.o
gcc -I"/home/biocbuild/bbs-3.7-bioc/R/include" -DNDEBUG -I"/home/biocbuild/bbs-3.7-bioc/R/library/S4Vectors/include" -I"/home/biocbuild/bbs-3.7-bioc/R/library/IRanges/include" -I"/home/biocbuild/bbs-3.7-bioc/R/library/XVector/include" -I"/home/biocbuild/bbs-3.7-bioc/R/library/Biostrings/include" -I/usr/local/include -fopenmp -fpic -g -O2 -Wall -c util.c -o util.o
gcc -I"/home/biocbuild/bbs-3.7-bioc/R/include" -DNDEBUG -I"/home/biocbuild/bbs-3.7-bioc/R/library/S4Vectors/include" -I"/home/biocbuild/bbs-3.7-bioc/R/library/IRanges/include" -I"/home/biocbuild/bbs-3.7-bioc/R/library/XVector/include" -I"/home/biocbuild/bbs-3.7-bioc/R/library/Biostrings/include" -I/usr/local/include -fopenmp -fpic -g -O2 -Wall -c xsnap.c -o xsnap.o
g++ -shared -L/home/biocbuild/bbs-3.7-bioc/R/lib -L/usr/local/lib -o ShortRead.so Biostrings_stubs.o IRanges_stubs.o R_init_ShortRead.o S4Vectors_stubs.o XVector_stubs.o alphabet.o io.o io_bowtie.o io_soap.o readBfaToc.o read_maq_map.o sampler.o trim.o util.o xsnap.o -lz -fopenmp -L/home/biocbuild/bbs-3.7-bioc/R/lib -lR
installing to /home/biocbuild/bbs-3.7-bioc/R/library/ShortRead/libs
** R
** inst
** byte-compile and prepare package for lazy loading
** help
*** installing help indices
** building package indices
** installing vignettes
** testing if installed package can be loaded
* DONE (ShortRead)
ShortRead.Rcheck/tests/ShortRead_unit_tests.Rout
R version 3.5.1 Patched (2018-07-12 r74967) -- "Feather Spray"
Copyright (C) 2018 The R Foundation for Statistical Computing
Platform: x86_64-pc-linux-gnu (64-bit)
R is free software and comes with ABSOLUTELY NO WARRANTY.
You are welcome to redistribute it under certain conditions.
Type 'license()' or 'licence()' for distribution details.
R is a collaborative project with many contributors.
Type 'contributors()' for more information and
'citation()' on how to cite R or R packages in publications.
Type 'demo()' for some demos, 'help()' for on-line help, or
'help.start()' for an HTML browser interface to help.
Type 'q()' to quit R.
> BiocGenerics:::testPackage("ShortRead")
Attaching package: 'BiocGenerics'
The following objects are masked from 'package:parallel':
clusterApply, clusterApplyLB, clusterCall, clusterEvalQ,
clusterExport, clusterMap, parApply, parCapply, parLapply,
parLapplyLB, parRapply, parSapply, parSapplyLB
The following objects are masked from 'package:stats':
IQR, mad, sd, var, xtabs
The following objects are masked from 'package:base':
Filter, Find, Map, Position, Reduce, anyDuplicated, append,
as.data.frame, basename, cbind, colMeans, colSums, colnames,
dirname, do.call, duplicated, eval, evalq, get, grep, grepl,
intersect, is.unsorted, lapply, lengths, mapply, match, mget,
order, paste, pmax, pmax.int, pmin, pmin.int, rank, rbind,
rowMeans, rowSums, rownames, sapply, setdiff, sort, table, tapply,
union, unique, unsplit, which, which.max, which.min
Attaching package: 'S4Vectors'
The following object is masked from 'package:base':
expand.grid
Attaching package: 'Biostrings'
The following object is masked from 'package:base':
strsplit
Welcome to Bioconductor
Vignettes contain introductory material; view with
'browseVignettes()'. To cite Bioconductor, see
'citation("Biobase")', and for packages 'citation("pkgname")'.
Attaching package: 'matrixStats'
The following objects are masked from 'package:Biobase':
anyMissing, rowMedians
Attaching package: 'DelayedArray'
The following objects are masked from 'package:matrixStats':
colMaxs, colMins, colRanges, rowMaxs, rowMins, rowRanges
The following object is masked from 'package:Biostrings':
type
The following objects are masked from 'package:base':
aperm, apply
RUNIT TEST PROTOCOL -- Tue Oct 16 03:48:02 2018
***********************************************
Number of test functions: 103
Number of errors: 0
Number of failures: 0
1 Test Suite :
ShortRead RUnit Tests - 103 test functions, 0 errors, 0 failures
Number of test functions: 103
Number of errors: 0
Number of failures: 0
Warning messages:
1: In getClassDef(Class, where) :
closing unused connection 6 (/home/biocbuild/bbs-3.7-bioc/R/library/ShortRead/extdata/Data/C1-36Firecrest/Bustard/GERALD/s_1_sequence.txt)
2: In getClassDef(Class, where) :
closing unused connection 5 (/home/biocbuild/bbs-3.7-bioc/R/library/ShortRead/extdata/Data/C1-36Firecrest/Bustard/GERALD/s_1_sequence.txt)
>
> proc.time()
user system elapsed
18.568 5.108 22.701
ShortRead.Rcheck/ShortRead-Ex.timings
| name | user | system | elapsed | |
| AlignedRead-class | 0.380 | 0.004 | 0.394 | |
| BowtieQA-class | 0.000 | 0.000 | 0.002 | |
| ExperimentPath-class | 0.004 | 0.000 | 0.001 | |
| FastqQA-class | 0.000 | 0.000 | 0.002 | |
| Intensity-class | 0.160 | 0.020 | 0.202 | |
| MAQMapQA-class | 0.000 | 0.000 | 0.001 | |
| QA-class | 0.000 | 0.000 | 0.001 | |
| QualityScore-class | 0.004 | 0.000 | 0.007 | |
| QualityScore | 0.016 | 0.000 | 0.016 | |
| RochePath-class | 0.000 | 0.000 | 0.001 | |
| RocheSet-class | 0.000 | 0.000 | 0.001 | |
| RtaIntensity-class | 0.040 | 0.000 | 0.043 | |
| RtaIntensity | 0.024 | 0.000 | 0.027 | |
| SRFilter-class | 0 | 0 | 0 | |
| SRFilterResult-class | 0.048 | 0.000 | 0.048 | |
| SRSet-class | 0.000 | 0.000 | 0.001 | |
| SRUtil-class | 0.004 | 0.000 | 0.005 | |
| Sampler-class | 0.764 | 0.004 | 0.768 | |
| ShortRead-class | 0.08 | 0.00 | 0.08 | |
| ShortReadQ-class | 0.228 | 0.004 | 0.231 | |
| Snapshot-class | 6.500 | 0.072 | 6.689 | |
| SnapshotFunction-class | 0.004 | 0.000 | 0.001 | |
| SolexaExportQA-class | 0.000 | 0.000 | 0.001 | |
| SolexaIntensity-class | 0.068 | 0.008 | 0.078 | |
| SolexaPath-class | 0.064 | 0.004 | 0.070 | |
| SolexaSet-class | 0.048 | 0.008 | 0.060 | |
| SpTrellis-class | 0.376 | 0.052 | 0.430 | |
| accessors | 0.000 | 0.000 | 0.002 | |
| alphabetByCycle | 0.016 | 0.004 | 0.017 | |
| clean | 0.000 | 0.000 | 0.002 | |
| countLines | 0.148 | 0.004 | 0.188 | |
| dotQA-class | 0.000 | 0.000 | 0.002 | |
| dustyScore | 0.048 | 0.000 | 0.051 | |
| filterFastq | 0.768 | 0.000 | 0.771 | |
| polyn | 0.000 | 0.000 | 0.001 | |
| qa | 0.392 | 0.004 | 0.395 | |
| qa2 | 3.224 | 0.040 | 3.281 | |
| readAligned | 0.176 | 0.000 | 0.176 | |
| readBaseQuality | 0.036 | 0.136 | 0.187 | |
| readFasta | 0.088 | 0.024 | 0.123 | |
| readFastq | 0.084 | 0.016 | 0.097 | |
| readIntensities | 0.080 | 0.008 | 0.086 | |
| readPrb | 0.036 | 0.000 | 0.038 | |
| readQseq | 0.012 | 0.000 | 0.014 | |
| readXStringColumns | 0.072 | 0.004 | 0.079 | |
| renew | 0.044 | 0.004 | 0.049 | |
| report | 0.004 | 0.000 | 0.005 | |
| spViewPerFeature | 2.548 | 0.088 | 2.637 | |
| srFilter | 0.220 | 0.008 | 0.226 | |
| srdistance | 0.076 | 0.056 | 0.241 | |
| srduplicated | 0.100 | 0.060 | 0.045 | |
| tables | 0.128 | 0.008 | 0.137 | |
| trimTails | 0.016 | 0.004 | 0.023 | |