| Back to Multiple platform build/check report for BioC 3.7 |
|
This page was generated on 2018-10-17 08:34:15 -0400 (Wed, 17 Oct 2018).
| Package 1431/1561 | Hostname | OS / Arch | INSTALL | BUILD | CHECK | BUILD BIN | ||||||
| SSPA 2.20.0 Maarten van Iterson
| malbec2 | Linux (Ubuntu 16.04.1 LTS) / x86_64 | OK | OK | OK | |||||||
| tokay2 | Windows Server 2012 R2 Standard / x64 | OK | OK | OK | [ OK ] | |||||||
| merida2 | OS X 10.11.6 El Capitan / x86_64 | OK | OK | OK | OK |
| Package: SSPA |
| Version: 2.20.0 |
| Command: rm -rf SSPA.buildbin-libdir && mkdir SSPA.buildbin-libdir && C:\Users\biocbuild\bbs-3.7-bioc\R\bin\R.exe CMD INSTALL --merge-multiarch --build --library=SSPA.buildbin-libdir SSPA_2.20.0.tar.gz |
| StartedAt: 2018-10-17 07:02:28 -0400 (Wed, 17 Oct 2018) |
| EndedAt: 2018-10-17 07:02:47 -0400 (Wed, 17 Oct 2018) |
| EllapsedTime: 18.6 seconds |
| RetCode: 0 |
| Status: OK |
| PackageFile: SSPA_2.20.0.zip |
| PackageFileSize: 910.5 KiB |
##############################################################################
##############################################################################
###
### Running command:
###
### rm -rf SSPA.buildbin-libdir && mkdir SSPA.buildbin-libdir && C:\Users\biocbuild\bbs-3.7-bioc\R\bin\R.exe CMD INSTALL --merge-multiarch --build --library=SSPA.buildbin-libdir SSPA_2.20.0.tar.gz
###
##############################################################################
##############################################################################
install for i386
* installing *source* package 'SSPA' ...
** libs
C:/Rtools/mingw_32/bin/gcc -I"C:/Users/BIOCBU˜1/BBS-3˜1.7-B/R/include" -DNDEBUG -I"C:/extsoft/include" -O3 -Wall -std=gnu99 -mtune=generic -c Rinit.c -o Rinit.o
Rinit.c:12:1: warning: missing braces around initializer [-Wmissing-braces]
};
^
Rinit.c:12:1: warning: (near initialization for 'cMethods[2]') [-Wmissing-braces]
C:/Rtools/mingw_32/bin/gcc -I"C:/Users/BIOCBU˜1/BBS-3˜1.7-B/R/include" -DNDEBUG -I"C:/extsoft/include" -O3 -Wall -std=gnu99 -mtune=generic -c massdist.c -o massdist.o
C:/Rtools/mingw_32/bin/gcc -I"C:/Users/BIOCBU˜1/BBS-3˜1.7-B/R/include" -DNDEBUG -I"C:/extsoft/include" -O3 -Wall -std=gnu99 -mtune=generic -c nncg.c -o nncg.o
C:/Rtools/mingw_32/bin/gcc -shared -s -static-libgcc -o SSPA.dll tmp.def Rinit.o massdist.o nncg.o -LC:/extsoft/lib/i386 -LC:/extsoft/lib -LC:/Users/BIOCBU˜1/BBS-3˜1.7-B/R/bin/i386 -lR
installing to C:/Users/biocbuild/bbs-3.7-bioc/meat/SSPA.buildbin-libdir/SSPA/libs/i386
** R
** data
** inst
** byte-compile and prepare package for lazy loading
** help
*** installing help indices
converting help for package 'SSPA'
finding HTML links ... done
Nutrigenomics html
dbitri html
deepSAGE html
pbitri html
pilotData html
plot-methods html
predictpower html
qbitri html
rbitri html
sampleSize html
show-methods html
simdat html
** building package indices
** installing vignettes
** testing if installed package can be loaded
In R CMD INSTALL
install for x64
* installing *source* package 'SSPA' ...
** libs
C:/Rtools/mingw_64/bin/gcc -I"C:/Users/BIOCBU˜1/BBS-3˜1.7-B/R/include" -DNDEBUG -I"C:/extsoft/include" -O2 -Wall -std=gnu99 -mtune=generic -c Rinit.c -o Rinit.o
Rinit.c:12:1: warning: missing braces around initializer [-Wmissing-braces]
};
^
Rinit.c:12:1: warning: (near initialization for 'cMethods[2]') [-Wmissing-braces]
C:/Rtools/mingw_64/bin/gcc -I"C:/Users/BIOCBU˜1/BBS-3˜1.7-B/R/include" -DNDEBUG -I"C:/extsoft/include" -O2 -Wall -std=gnu99 -mtune=generic -c massdist.c -o massdist.o
C:/Rtools/mingw_64/bin/gcc -I"C:/Users/BIOCBU˜1/BBS-3˜1.7-B/R/include" -DNDEBUG -I"C:/extsoft/include" -O2 -Wall -std=gnu99 -mtune=generic -c nncg.c -o nncg.o
C:/Rtools/mingw_64/bin/gcc -shared -s -static-libgcc -o SSPA.dll tmp.def Rinit.o massdist.o nncg.o -LC:/extsoft/lib/x64 -LC:/extsoft/lib -LC:/Users/BIOCBU˜1/BBS-3˜1.7-B/R/bin/x64 -lR
installing to C:/Users/biocbuild/bbs-3.7-bioc/meat/SSPA.buildbin-libdir/SSPA/libs/x64
** testing if installed package can be loaded
* MD5 sums
packaged installation of 'SSPA' as SSPA_2.20.0.zip
* DONE (SSPA)
In R CMD INSTALL
In R CMD INSTALL