| Back to Multiple platform build/check report for BioC 3.7 |
|
This page was generated on 2018-10-17 08:22:42 -0400 (Wed, 17 Oct 2018).
| Package 1431/1561 | Hostname | OS / Arch | INSTALL | BUILD | CHECK | BUILD BIN | ||||||
| SSPA 2.20.0 Maarten van Iterson
| malbec2 | Linux (Ubuntu 16.04.1 LTS) / x86_64 | [ OK ] | OK | OK | |||||||
| tokay2 | Windows Server 2012 R2 Standard / x64 | OK | OK | OK | OK | |||||||
| merida2 | OS X 10.11.6 El Capitan / x86_64 | OK | OK | OK | OK |
| Package: SSPA |
| Version: 2.20.0 |
| Command: /home/biocbuild/bbs-3.7-bioc/R/bin/R CMD INSTALL SSPA |
| StartedAt: 2018-10-15 18:04:26 -0400 (Mon, 15 Oct 2018) |
| EndedAt: 2018-10-15 18:04:32 -0400 (Mon, 15 Oct 2018) |
| EllapsedTime: 5.4 seconds |
| RetCode: 0 |
| Status: OK |
##############################################################################
##############################################################################
###
### Running command:
###
### /home/biocbuild/bbs-3.7-bioc/R/bin/R CMD INSTALL SSPA
###
##############################################################################
##############################################################################
* installing to library ‘/home/biocbuild/bbs-3.7-bioc/R/library’
* installing *source* package ‘SSPA’ ...
** libs
gcc -I"/home/biocbuild/bbs-3.7-bioc/R/include" -DNDEBUG -I/usr/local/include -fpic -g -O2 -Wall -c Rinit.c -o Rinit.o
Rinit.c:8:40: warning: missing braces around initializer [-Wmissing-braces]
static const R_CMethodDef cMethods[] = {
^
Rinit.c:8:40: note: (near initialization for ‘cMethods’)
gcc -I"/home/biocbuild/bbs-3.7-bioc/R/include" -DNDEBUG -I/usr/local/include -fpic -g -O2 -Wall -c massdist.c -o massdist.o
gcc -I"/home/biocbuild/bbs-3.7-bioc/R/include" -DNDEBUG -I/usr/local/include -fpic -g -O2 -Wall -c nncg.c -o nncg.o
gcc -shared -L/home/biocbuild/bbs-3.7-bioc/R/lib -L/usr/local/lib -o SSPA.so Rinit.o massdist.o nncg.o -L/home/biocbuild/bbs-3.7-bioc/R/lib -lR
installing to /home/biocbuild/bbs-3.7-bioc/R/library/SSPA/libs
** R
** data
** inst
** byte-compile and prepare package for lazy loading
** help
*** installing help indices
** building package indices
** installing vignettes
** testing if installed package can be loaded
* DONE (SSPA)