| Back to Multiple platform build/check report for BioC 3.7 | 
 | 
This page was generated on 2018-10-17 08:43:27 -0400 (Wed, 17 Oct 2018).
| Package 1292/1561 | Hostname | OS / Arch | INSTALL | BUILD | CHECK | BUILD BIN | ||||||
| RTNduals 1.4.4 Mauro Castro 
 | malbec2 | Linux (Ubuntu 16.04.1 LTS) / x86_64 | OK | OK | OK |  | ||||||
| tokay2 | Windows Server 2012 R2 Standard / x64 | [ OK ] | OK | OK | OK |  | ||||||
| merida2 | OS X 10.11.6 El Capitan / x86_64 | OK | OK | OK | OK |  | 
| Package: RTNduals | 
| Version: 1.4.4 | 
| Command: C:\cygwin\bin\curl.exe -O https://malbec2.bioconductor.org/BBS/3.7/bioc/src/contrib/RTNduals_1.4.4.tar.gz && rm -rf RTNduals.buildbin-libdir && mkdir RTNduals.buildbin-libdir && C:\Users\biocbuild\bbs-3.7-bioc\R\bin\R.exe CMD INSTALL --merge-multiarch --build --library=RTNduals.buildbin-libdir RTNduals_1.4.4.tar.gz && C:\Users\biocbuild\bbs-3.7-bioc\R\bin\R.exe CMD INSTALL RTNduals_1.4.4.zip && rm RTNduals_1.4.4.tar.gz RTNduals_1.4.4.zip | 
| StartedAt: 2018-10-16 19:18:56 -0400 (Tue, 16 Oct 2018) | 
| EndedAt: 2018-10-16 19:19:34 -0400 (Tue, 16 Oct 2018) | 
| EllapsedTime: 38.4 seconds | 
| RetCode: 0 | 
| Status: OK | 
##############################################################################
##############################################################################
###
### Running command:
###
###   C:\cygwin\bin\curl.exe -O https://malbec2.bioconductor.org/BBS/3.7/bioc/src/contrib/RTNduals_1.4.4.tar.gz && rm -rf RTNduals.buildbin-libdir && mkdir RTNduals.buildbin-libdir && C:\Users\biocbuild\bbs-3.7-bioc\R\bin\R.exe CMD INSTALL --merge-multiarch --build --library=RTNduals.buildbin-libdir RTNduals_1.4.4.tar.gz && C:\Users\biocbuild\bbs-3.7-bioc\R\bin\R.exe CMD INSTALL RTNduals_1.4.4.zip && rm RTNduals_1.4.4.tar.gz RTNduals_1.4.4.zip
###
##############################################################################
##############################################################################
  % Total    % Received % Xferd  Average Speed   Time    Time     Time  Current
                                 Dload  Upload   Total   Spent    Left  Speed
  0     0    0     0    0     0      0      0 --:--:-- --:--:-- --:--:--     0
100  195k  100  195k    0     0  3349k      0 --:--:-- --:--:-- --:--:-- 3750k
install for i386
* installing *source* package 'RTNduals' ...
** R
** inst
** byte-compile and prepare package for lazy loading
** help
*** installing help indices
  converting help for package 'RTNduals'
    finding HTML links ... done
    MBR-class                               html  
    RTNduals-package                        html  
    mbrAssociation-methods                  html  
    mbrBootstrap-methods                    html  
    finding level-2 HTML links ... done
    mbrDpiFilter-methods                    html  
    mbrGet-methods                          html  
    mbrPermutation-methods                  html  
    mbrPlotDuals                            html  
    mbrPlotInteraction                      html  
    mbrPreprocess-methods                   html  
    mbrPriorEvidenceTable-methods           html  
    tni2mbrPreprocess-methods               html  
** building package indices
** installing vignettes
** testing if installed package can be loaded
In R CMD INSTALL
install for x64
* installing *source* package 'RTNduals' ...
** testing if installed package can be loaded
* MD5 sums
packaged installation of 'RTNduals' as RTNduals_1.4.4.zip
* DONE (RTNduals)
In R CMD INSTALL
In R CMD INSTALL
* installing to library 'C:/Users/biocbuild/bbs-3.7-bioc/R/library'
package 'RTNduals' successfully unpacked and MD5 sums checked
In R CMD INSTALL