| Back to Multiple platform build/check report for BioC 3.7 |
|
This page was generated on 2018-10-17 08:57:44 -0400 (Wed, 17 Oct 2018).
| Package 1292/1561 | Hostname | OS / Arch | INSTALL | BUILD | CHECK | BUILD BIN | ||||||
| RTNduals 1.4.4 Mauro Castro
| malbec2 | Linux (Ubuntu 16.04.1 LTS) / x86_64 | OK | OK | OK | |||||||
| tokay2 | Windows Server 2012 R2 Standard / x64 | OK | OK | OK | OK | |||||||
| merida2 | OS X 10.11.6 El Capitan / x86_64 | OK | OK | OK | [ OK ] |
| Package: RTNduals |
| Version: 1.4.4 |
| Command: rm -rf RTNduals.buildbin-libdir && mkdir RTNduals.buildbin-libdir && /Users/biocbuild/BBS/utils/build-universal.sh RTNduals_1.4.4.tar.gz /Library/Frameworks/R.framework/Versions/Current/Resources/bin/R RTNduals.buildbin-libdir |
| StartedAt: 2018-10-17 02:04:55 -0400 (Wed, 17 Oct 2018) |
| EndedAt: 2018-10-17 02:05:42 -0400 (Wed, 17 Oct 2018) |
| EllapsedTime: 47.1 seconds |
| RetCode: 0 |
| Status: OK |
| PackageFile: RTNduals_1.4.4.tgz |
| PackageFileSize: 606.3 KiB |
############################################################################## ############################################################################## ### ### Running command: ### ### rm -rf RTNduals.buildbin-libdir && mkdir RTNduals.buildbin-libdir && /Users/biocbuild/BBS/utils/build-universal.sh RTNduals_1.4.4.tar.gz /Library/Frameworks/R.framework/Versions/Current/Resources/bin/R RTNduals.buildbin-libdir ### ############################################################################## ############################################################################## >>>>>>> >>>>>>> INSTALLATION WITH 'R CMD INSTALL --preclean --no-multiarch --library=RTNduals.buildbin-libdir RTNduals_1.4.4.tar.gz' >>>>>>> * installing *source* package ‘RTNduals’ ... ** R ** inst ** byte-compile and prepare package for lazy loading ** help *** installing help indices ** building package indices ** installing vignettes ** testing if installed package can be loaded * DONE (RTNduals)