| Back to Multiple platform build/check report for BioC 3.7 |
|
This page was generated on 2018-10-15 10:15:50 -0400 (Mon, 15 Oct 2018).
| Package 1252/1561 | Hostname | OS / Arch | INSTALL | BUILD | CHECK | BUILD BIN | ||||||
| RMassBank 2.8.0 RMassBank at Eawag
| malbec2 | Linux (Ubuntu 16.04.1 LTS) / x86_64 | OK | OK | OK | |||||||
| tokay2 | Windows Server 2012 R2 Standard / x64 | OK | OK | OK | [ OK ] | |||||||
| merida2 | OS X 10.11.6 El Capitan / x86_64 | OK | OK | OK | OK |
| Package: RMassBank |
| Version: 2.8.0 |
| Command: rm -rf RMassBank.buildbin-libdir && mkdir RMassBank.buildbin-libdir && C:\Users\biocbuild\bbs-3.7-bioc\R\bin\R.exe CMD INSTALL --merge-multiarch --build --library=RMassBank.buildbin-libdir RMassBank_2.8.0.tar.gz |
| StartedAt: 2018-10-15 06:42:37 -0400 (Mon, 15 Oct 2018) |
| EndedAt: 2018-10-15 06:43:08 -0400 (Mon, 15 Oct 2018) |
| EllapsedTime: 31.1 seconds |
| RetCode: 0 |
| Status: OK |
| PackageFile: RMassBank_2.8.0.zip |
| PackageFileSize: 1.897 MiB |
##############################################################################
##############################################################################
###
### Running command:
###
### rm -rf RMassBank.buildbin-libdir && mkdir RMassBank.buildbin-libdir && C:\Users\biocbuild\bbs-3.7-bioc\R\bin\R.exe CMD INSTALL --merge-multiarch --build --library=RMassBank.buildbin-libdir RMassBank_2.8.0.tar.gz
###
##############################################################################
##############################################################################
install for i386
* installing *source* package 'RMassBank' ...
** R
** inst
** byte-compile and prepare package for lazy loading
** help
*** installing help indices
converting help for package 'RMassBank'
finding HTML links ... done
CTS.externalIdSubset html
CTS.externalIdTypes html
RmbDefaultSettings html
RmbSettings html
add.formula html
addMB html
addPeaks html
addPeaksManually html
addProperty html
aggregateSpectra html
analyzeMsMs html
annotator.default html
archiveResults html
checkIsotopes html
checkSpectra html
cleanElnoise html
combineMultiplicities html
compileRecord html
createMolfile html
dbe html
deprofile html
exportMassbank html
filterLowaccResults html
filterMultiplicity html
filterPeakSatellites html
filterPeaksMultiplicity html
findEIC html
findMass html
findMsMsHR html
findMsMsHR.direct html
findMsMsHR.ticms2 html
findMsMsHRperxcms html
findMz html
findMz.formula html
findProgress html
flatten html
formulastring.to.list html
gatherCompound html
gatherData html
gatherDataBabel html
gatherDataUnknown html
gatherPubChem html
getCSID html
getCactus html
getCtsKey html
getCtsRecord html
getData html
getMolecule html
finding level-2 HTML links ... done
getPcId html
is.valid.formula html
loadInfolists html
loadList html
makeMollist html
makePeaksCache html
makeRecalibration html
mbWorkflow html
mbWorkspace-class html
msmsRead.RAW html
msmsRead html
msmsWorkflow html
msmsWorkspace-class html
newMbWorkspace html
newMsmsWorkspace html
order.formula html
parseMassBank html
peaksMatched html
peaksUnmatched html
plotMbWorkspaces html
plotRecalibration html
ppm html
problematicPeaks html
processProblematicPeaks html
progressBarHook html
reanalyzeFailpeaks html
recalibrate html
recalibrate.addMS1data html
selectPeaks html
selectSpectra html
setData html
smiles2mass html
spectraCount html
to.limits.rcdk html
toMassbank html
toRMB html
updateSettings html
validate html
** building package indices
** installing vignettes
** testing if installed package can be loaded
In R CMD INSTALL
install for x64
* installing *source* package 'RMassBank' ...
** testing if installed package can be loaded
* MD5 sums
packaged installation of 'RMassBank' as RMassBank_2.8.0.zip
* DONE (RMassBank)
In R CMD INSTALL
In R CMD INSTALL