| Back to Multiple platform build/check report for BioC 3.7 |
|
This page was generated on 2018-10-15 10:30:53 -0400 (Mon, 15 Oct 2018).
| Package 1252/1561 | Hostname | OS / Arch | INSTALL | BUILD | CHECK | BUILD BIN | ||||||
| RMassBank 2.8.0 RMassBank at Eawag
| malbec2 | Linux (Ubuntu 16.04.1 LTS) / x86_64 | OK | OK | OK | |||||||
| tokay2 | Windows Server 2012 R2 Standard / x64 | OK | OK | OK | OK | |||||||
| merida2 | OS X 10.11.6 El Capitan / x86_64 | OK | OK | OK | [ OK ] |
| Package: RMassBank |
| Version: 2.8.0 |
| Command: rm -rf RMassBank.buildbin-libdir && mkdir RMassBank.buildbin-libdir && /Users/biocbuild/BBS/utils/build-universal.sh RMassBank_2.8.0.tar.gz /Library/Frameworks/R.framework/Versions/Current/Resources/bin/R RMassBank.buildbin-libdir |
| StartedAt: 2018-10-15 07:11:14 -0400 (Mon, 15 Oct 2018) |
| EndedAt: 2018-10-15 07:11:48 -0400 (Mon, 15 Oct 2018) |
| EllapsedTime: 33.9 seconds |
| RetCode: 0 |
| Status: OK |
| PackageFile: RMassBank_2.8.0.tgz |
| PackageFileSize: 1.788 MiB |
############################################################################## ############################################################################## ### ### Running command: ### ### rm -rf RMassBank.buildbin-libdir && mkdir RMassBank.buildbin-libdir && /Users/biocbuild/BBS/utils/build-universal.sh RMassBank_2.8.0.tar.gz /Library/Frameworks/R.framework/Versions/Current/Resources/bin/R RMassBank.buildbin-libdir ### ############################################################################## ############################################################################## >>>>>>> >>>>>>> INSTALLATION WITH 'R CMD INSTALL --preclean --no-multiarch --library=RMassBank.buildbin-libdir RMassBank_2.8.0.tar.gz' >>>>>>> * installing *source* package ‘RMassBank’ ... ** R ** inst ** byte-compile and prepare package for lazy loading ** help *** installing help indices ** building package indices ** installing vignettes ** testing if installed package can be loaded * DONE (RMassBank)