| Back to Multiple platform build/check report for BioC 3.7 |
|
This page was generated on 2018-10-17 08:51:00 -0400 (Wed, 17 Oct 2018).
| Package 1245/1561 | Hostname | OS / Arch | INSTALL | BUILD | CHECK | BUILD BIN | ||||||
| RIPSeeker 1.20.0 Yue Li
| malbec2 | Linux (Ubuntu 16.04.1 LTS) / x86_64 | OK | OK | OK | |||||||
| tokay2 | Windows Server 2012 R2 Standard / x64 | OK | OK | WARNINGS | OK | |||||||
| merida2 | OS X 10.11.6 El Capitan / x86_64 | OK | OK | [ OK ] | OK |
| Package: RIPSeeker |
| Version: 1.20.0 |
| Command: /Library/Frameworks/R.framework/Versions/Current/Resources/bin/R CMD check --install=check:RIPSeeker.install-out.txt --library=/Library/Frameworks/R.framework/Versions/Current/Resources/library --no-vignettes --timings RIPSeeker_1.20.0.tar.gz |
| StartedAt: 2018-10-16 23:42:50 -0400 (Tue, 16 Oct 2018) |
| EndedAt: 2018-10-16 23:47:38 -0400 (Tue, 16 Oct 2018) |
| EllapsedTime: 287.9 seconds |
| RetCode: 0 |
| Status: OK |
| CheckDir: RIPSeeker.Rcheck |
| Warnings: 0 |
##############################################################################
##############################################################################
###
### Running command:
###
### /Library/Frameworks/R.framework/Versions/Current/Resources/bin/R CMD check --install=check:RIPSeeker.install-out.txt --library=/Library/Frameworks/R.framework/Versions/Current/Resources/library --no-vignettes --timings RIPSeeker_1.20.0.tar.gz
###
##############################################################################
##############################################################################
* using log directory ‘/Users/biocbuild/bbs-3.7-bioc/meat/RIPSeeker.Rcheck’
* using R version 3.5.1 Patched (2018-07-12 r74967)
* using platform: x86_64-apple-darwin15.6.0 (64-bit)
* using session charset: UTF-8
* using option ‘--no-vignettes’
* checking for file ‘RIPSeeker/DESCRIPTION’ ... OK
* checking extension type ... Package
* this is package ‘RIPSeeker’ version ‘1.20.0’
* checking package namespace information ... OK
* checking package dependencies ... NOTE
Depends: includes the non-default packages:
‘S4Vectors’ ‘IRanges’ ‘GenomicRanges’ ‘SummarizedExperiment’
‘Rsamtools’ ‘GenomicAlignments’ ‘rtracklayer’
Adding so many packages to the search path is excessive and importing
selectively is preferable.
* checking if this is a source package ... OK
* checking if there is a namespace ... OK
* checking for hidden files and directories ... OK
* checking for portable file names ... OK
* checking for sufficient/correct file permissions ... OK
* checking whether package ‘RIPSeeker’ can be installed ... OK
* checking installed package size ... OK
* checking package directory ... OK
* checking ‘build’ directory ... OK
* checking DESCRIPTION meta-information ... OK
* checking top-level files ... OK
* checking for left-over files ... OK
* checking index information ... OK
* checking package subdirectories ... OK
* checking R files for non-ASCII characters ... OK
* checking R files for syntax errors ... OK
* checking whether the package can be loaded ... OK
* checking whether the package can be loaded with stated dependencies ... OK
* checking whether the package can be unloaded cleanly ... OK
* checking whether the namespace can be loaded with stated dependencies ... OK
* checking whether the namespace can be unloaded cleanly ... OK
* checking dependencies in R code ... NOTE
'library' or 'require' call to ‘Rsamtools’ which was already attached by Depends.
Please remove these calls from your code.
'library' or 'require' calls in package code:
‘ChIPpeakAnno’ ‘GenomicFeatures’ ‘biomaRt’ ‘parallel’
Please use :: or requireNamespace() instead.
See section 'Suggested packages' in the 'Writing R Extensions' manual.
* checking S3 generic/method consistency ... OK
* checking replacement functions ... OK
* checking foreign function calls ... OK
* checking R code for possible problems ... NOTE
annotateRIP: no visible global function definition for ‘getAnnotation’
annotateRIP: no visible global function definition for ‘getBM’
annotateRIP: no visible global function definition for ‘write.table’
binCount: no visible global function definition for ‘seqlengths’
combineRIP: no visible global function definition for ‘seqlengths<-’
combineRIP: no visible global function definition for ‘seqlengths’
computeRPKM: no visible global function definition for ‘exonsBy’
computeRPKM: no visible global function definition for ‘cdsBy’
computeRPKM: no visible global function definition for
‘intronsByTranscript’
computeRPKM: no visible global function definition for
‘fiveUTRsByTranscript’
computeRPKM: no visible global function definition for
‘threeUTRsByTranscript’
computeRPKM: no visible global function definition for ‘seqlevels<-’
computeRPKM: no visible global function definition for ‘seqlevels’
computeRPKM: no visible global function definition for ‘read.delim’
computeRPKM: no visible global function definition for ‘getBM’
exportGRanges: no visible global function definition for ‘write.table’
galp2gal: no visible global function definition for ‘seqlengths’
getAlignGal: no visible global function definition for ‘seqlengths<-’
getAlignGal: no visible global function definition for ‘seqlengths’
mainSeek: no visible global function definition for ‘mclapply’
mainSeekSingleChrom: no visible global function definition for
‘seqlengths’
plotCoverage: no visible global function definition for ‘seqlengths’
ripSeek: no visible global function definition for ‘as.roman’
ripSeek: no visible global function definition for ‘write.table’
rulebaseRIPSeek: no visible global function definition for ‘getBM’
rulebaseRIPSeek: no visible global function definition for
‘write.table’
selectBinSize: no visible global function definition for ‘seqlengths’
viewRIP: no visible global function definition for
‘GRangesForUCSCGenome’
Undefined global functions or variables:
GRangesForUCSCGenome as.roman cdsBy exonsBy fiveUTRsByTranscript
getAnnotation getBM intronsByTranscript mclapply read.delim
seqlengths seqlengths<- seqlevels seqlevels<- threeUTRsByTranscript
write.table
Consider adding
importFrom("utils", "as.roman", "read.delim", "write.table")
to your NAMESPACE file.
* checking Rd files ... OK
* checking Rd metadata ... OK
* checking Rd cross-references ... OK
* checking for missing documentation entries ... OK
* checking for code/documentation mismatches ... OK
* checking Rd \usage sections ... OK
* checking Rd contents ... OK
* checking for unstated dependencies in examples ... OK
* checking sizes of PDF files under ‘inst/doc’ ... OK
* checking files in ‘vignettes’ ... OK
* checking examples ... OK
Examples with CPU or elapsed time > 5s
user system elapsed
disambiguateMultihits 15.955 0.068 16.222
mainSeek 14.892 0.082 15.070
combineRIP 1.579 0.071 11.544
* checking for unstated dependencies in vignettes ... OK
* checking package vignettes in ‘inst/doc’ ... OK
* checking running R code from vignettes ... SKIPPED
* checking re-building of vignette outputs ... SKIPPED
* checking PDF version of manual ... OK
* DONE
Status: 3 NOTEs
See
‘/Users/biocbuild/bbs-3.7-bioc/meat/RIPSeeker.Rcheck/00check.log’
for details.
RIPSeeker.Rcheck/00install.out
############################################################################## ############################################################################## ### ### Running command: ### ### /Library/Frameworks/R.framework/Versions/Current/Resources/bin/R CMD INSTALL RIPSeeker ### ############################################################################## ############################################################################## * installing to library ‘/Library/Frameworks/R.framework/Versions/3.5/Resources/library’ * installing *source* package ‘RIPSeeker’ ... ** R ** inst ** byte-compile and prepare package for lazy loading ** help *** installing help indices ** building package indices ** installing vignettes ** testing if installed package can be loaded * DONE (RIPSeeker)
RIPSeeker.Rcheck/RIPSeeker-Ex.timings
| name | user | system | elapsed | |
| RIPSeeker-package | 0.002 | 0.001 | 0.003 | |
| addDummyProb | 0.853 | 0.037 | 0.904 | |
| addPseudoAlignment | 0.926 | 0.018 | 0.957 | |
| annotateRIP | 0.027 | 0.001 | 0.029 | |
| binCount | 0.522 | 0.031 | 0.562 | |
| combineAlignGals | 0.330 | 0.019 | 0.360 | |
| combineRIP | 1.579 | 0.071 | 11.544 | |
| computeLogOdd | 2.017 | 0.045 | 2.102 | |
| computeRPKM | 0.007 | 0.000 | 0.007 | |
| disambiguateMultihits | 15.955 | 0.068 | 16.222 | |
| empiricalFDR | 0.003 | 0.000 | 0.004 | |
| evalBinSize | 0.419 | 0.033 | 0.455 | |
| exportGRanges | 0.004 | 0.000 | 0.005 | |
| galp2gal | 0.226 | 0.003 | 0.232 | |
| getAlignGal | 0.163 | 0.009 | 0.172 | |
| logScoreWithControl | 0.015 | 0.001 | 0.015 | |
| logScoreWithoutControl | 0.008 | 0.000 | 0.008 | |
| mainSeek | 14.892 | 0.082 | 15.070 | |
| mainSeekSingleChrom | 1.631 | 0.015 | 1.663 | |
| nbh.GRanges | 0.002 | 0.000 | 0.001 | |
| nbh | 2.047 | 0.015 | 2.095 | |
| nbh.integer | 0.001 | 0.000 | 0.002 | |
| nbh_chk | 0.002 | 0.000 | 0.002 | |
| nbh_em | 0.279 | 0.002 | 0.285 | |
| nbh_gen | 0.006 | 0.000 | 0.006 | |
| nbh_init | 1.779 | 0.008 | 1.794 | |
| nbh_vit | 0.218 | 0.003 | 0.224 | |
| nbm_chk | 0.002 | 0.000 | 0.001 | |
| nbm_em | 0.361 | 0.008 | 0.370 | |
| plotCoverage | 0.706 | 0.065 | 0.780 | |
| plotStrandedCoverage | 1.084 | 0.104 | 1.202 | |
| randindx | 0.192 | 0.012 | 0.209 | |
| ripSeek | 0.014 | 0.001 | 0.015 | |
| rulebaseRIPSeek | 0.004 | 0.000 | 0.005 | |
| scoreMergedBins | 0.027 | 0.000 | 0.028 | |
| seekRIP | 0.014 | 0.000 | 0.015 | |
| selectBinSize | 3.006 | 0.261 | 3.296 | |
| statdis | 0.274 | 0.004 | 0.279 | |
| viewRIP | 0.009 | 0.001 | 0.009 | |